BEGIN:VCALENDAR
VERSION:2.0
PRODID:-//Sampurna Seminarhaus - ECPv6.10.1.1//NONSGML v1.0//EN
CALSCALE:GREGORIAN
METHOD:PUBLISH
X-WR-CALNAME:Sampurna Seminarhaus
X-ORIGINAL-URL:https://sampurna-seminarhaus.de
X-WR-CALDESC:Veranstaltungen für Sampurna Seminarhaus
REFRESH-INTERVAL;VALUE=DURATION:PT1H
X-Robots-Tag:noindex
X-PUBLISHED-TTL:PT1H
BEGIN:VTIMEZONE
TZID:Europe/Berlin
BEGIN:DAYLIGHT
TZOFFSETFROM:+0100
TZOFFSETTO:+0200
TZNAME:CEST
DTSTART:20240331T010000
END:DAYLIGHT
BEGIN:STANDARD
TZOFFSETFROM:+0200
TZOFFSETTO:+0100
TZNAME:CET
DTSTART:20241027T010000
END:STANDARD
END:VTIMEZONE
BEGIN:VEVENT
DTSTART;TZID=Europe/Berlin:20241115T160000
DTEND;TZID=Europe/Berlin:20241117T140000
DTSTAMP:20260420T214127
CREATED:20231102T161408Z
LAST-MODIFIED:20241101T101724Z
UID:10000912-1731686400-1731852000@sampurna-seminarhaus.de
SUMMARY:Feel the Abundance Retreat mit Tatjana & Xenia
DESCRIPTION:Lebensverändernd und tief.\nIm Feel the Abundance Retreat öffnest Du Dich für die pure Fülle. Achtsamkeitsübungen in der Natur\, Meditation\, Yoga\, Breathwork\, ätherische Öle – all das lenkt all Deine Sinne zu Dir\, um die pure Fülle von Innen zu spüren.\nWir arbeiten mit all Deinen Chakren und lassen die Energie frei durch den Körper fließen\, um auch im Außen die Fülle zu kreieren.\nDer Fokus geht auf die finanzielle Fülle und die sexuelle Energie. Gerade in diesen Bereichen erlauben sich viele Menschen die Fülle nicht zu leben.\nDurch energetische Arbeit löst du innere Blockaden und kommst in Kontakt mit deiner Seele.\nMit gezielten Übungen lösen sich tief in deinem Unterbewusstsein sitzende emotionale Verstrickungen und die Energie kann wieder frei fließen.\nWir werden sowohl das Yin als auch das Yang aktivieren.\nIm Yin Yoga und einer Kakaozeremonie öffnest du dein Herz und verbindest dich mit der göttlichen und königlichen Energie\, die in dir wohnen.\nIn tiefer Entspannung öffnest du dich für das Empfangen und aktivierst deine Intuition.\nBeim Ecstatic Dance bewegen wir uns intuitiv\, verbinden uns mit dem Körper und kreieren freien Raum\, um Fülle zu empfangen und zu fühlen. \nVoraussetzung für die Teilnahme \nDieses Retreat ist das richtige für dich\, wenn du: \n* dich mit (finanzieller) Fülle verbinden willst\n* bereit für tiefe Transformation und Heilung bist\n* Lust hast\, dich in einer Gruppe wundervoller Menschen auf Herzensebene zu verbinden\n* Spaß und Freude hast an Spiritualität und Persönlichkeitsentwicklung\n* dich mit Leichtigkeit von deiner Intuition führen lassen willst \nProgramm \nVideo \n\nSeminarleitung\n \nTatjana Messer \nTatjana Messer liebt es das Bewusstsein des Menschen zu erforschen. Sie ist begeisterte Yogalehrerin\, Bewusstseinscoach und Breathwork Facilitator. Dank ihren Ausbildungen hat sie viel Erfahrung auf dem Gebiet der Bewusstseinserweiterung. Sie liebt es Coachings\, Workshops und Retreats zu geben\, die Menschen an ihr volles Potenzial und höchstes Selbst erinnern. \nInstagram: @tatjana.messer\nhttps://www.instagram.com/tatjana.messer/ \nhttps://www.tatjanamesser.com \nXenia Englberger \nXenia begleitet Menschen in ihre Kraft zu kommen\, für ihren Herzensweg loszugehen und im eigenen wunderschönen und einzigartigen Licht aufzuleuchten. Xenia nimmt die Menschen mit Coaching-Tools\, Körperbewegung und energetischer Blockadenlösung bedürfnisorientiert an die Hand. Xenias Erfahrungen haben ihre Begleitung zu einem sehr intuitiven Wirken mit Herz und Liebe transformiert. Sie leitet Retreats in Deutschland und Italien. \nInstagram:\nhttps://www.instagram.com/xenia.englberger/ \nhttps://www.xenia-englberger.de \n\nSeminargebühr und Anmeldung zum Seminar:\nSeminargebühr regulär ab 19.01.204: 388€ \nSeminargebühr Frühbucher bis 18.01.2024: 333€ \nAnmeldung unter: kontakt@tatjanamesser.com oder xenia@xenia-englberger.de \nDie Rechnungsstellung für die Seminargebühren erfolgt direkt über die Seminarleiterinnen. \n\nAnmeldung & Preise für Unterkunft & Verpflegung:\nBitte aktiviere JavaScript in deinem Browser\, um dieses Formular fertigzustellen.Hast du dich bereits beim Veranstalter angemeldet? *JaNeinIch bin einverstanden *Ja\, meine Kontaktdaten dürfen an den Veranstalter weitergegeben werden.Auswahl deines Aufenthaltes *EinzelzimmerPaarbettzimmerDoppelzimmerMehrbettzimmerTagesgast mit VerpflegungWelches Einzelzimmer möchtest du?  *Comfort + : 312 EUR - Zimmer mit eig. Bad (1\,40m breitem Bett)Comfort: 292 EUR  - Zimmer mit eigenem BadStandard: 272 EUR  - Zimmer mit geteiltem Bad(Preis für gesamte Zeit pro Person inkl. Verpflegung)Welches Paarbettzimmer möchtest du?  *Comfort: 242 EUR p.P. - Doppelbelegung im kl. Z.\, Kuschelbett (140er)+eigen. BadStandard: 226 EUR p.P. - Doppelbelegung im kl. Z.\, Kuschelbett (140er)+geteilt. Bad(Preis für gesamte Zeit pro Person inkl. Verpflegung)Welches Doppelzimmer möchstes du?  *Suite: 312 EUR p.P. - Doppelbelegung im großen ApartmentDeluxe: 292 EUR p.P. - Doppelbelegung großes Zimmer mit eigenem BadStandard: 252 EUR p.P. - Doppelbelegung im Zimmer mit geteiltes Bad(Preis für gesamte Zeit pro Person inkl. Verpflegung)Welches Mehrbettzimmer möchtest du? *Comfort: 226 EUR - max. 4 Bettzimmer mit eigenem BadZelt-\, Stellplatz: 186 EUR - Kissen & Schlafsack mitbringen (Preis für gesamte Zeit pro Person inkl. Verpflegung)Welche Tagesgast-Variante möchtest wählen?  *166 EUR inkl. Frühstück-\, Mittag- und Abendbuffet142 EUR inkl. Mittag- und Abendbuffet96 EUR inkl. Mittagbuffet(Preis für die gesamte Zeit pro Person)Dein erster alternativer Zimmerwunsch *Bitte unbedingt angeben!Comfort Plus : 312 EUR - Zimmer mit eig. Bad (1\,40m breitem Bett)Comfort: 292 EUR  - Zimmer mit eigenem BadEinzelzimmer Standard: 272 EUR pro Person - Zimmer mit geteilt. BadPaarbettzimmer Standard: 226 EUR pro Person - Kuschelbett (140er) für 2 mit geteilt. BadDoppelzimmer Standard: 252 EUR pro Person - Doppelbelegung mit geteilt. BadMehrbettzimmer Comfort: 226 EUR pro Person - 4 Bettzimmer mit eigen. BadZelt-/Stellplatz: 186 EUR p.P.- Kissen & Schlafsack mitbringen*Unsere Zimmer sind teilweise sehr schnell ausgebucht. Gib hier bitte eine Alternative an\, falls dein erster Zimmerwunsch schon belegt ist.Welche Variante möchtest du als Tagesgast wählen? (Preis für die gesamte Zeit pro Person) *166 EUR inkl. Frühstück-\, Mittag- und Abendbuffet142 EUR inkl. Mittag- und Abendbuffet96 EUR inkl. MittagbuffetNachricht ans TeamIch habe eine persönliche Nachricht ans TeamMeine Nachricht ans Team *Vorname *Nachname *Vor- und Nachname deines Partners *Möchtest du mit einer bestimmten Person ins Doppelzimmer? *Straße und Hausnummer *Hausnummer *PLZ *Ort *TelefonnummerE-Mail *AGB *Ich bestätige die Teilnahme- & Stornobedingungen des Seminars wie o.a.  sowie die AGB des Seminarhauses.Datenschutzbestimmungen *Ich habe die Datenschutzerklärung gelesen und stimme zu.PhoneBuchungsanfrage abschicken
URL:https://sampurna-seminarhaus.de/event/feel-the-abundance-retreat-mit-tatjana-xenia/
LOCATION:Seminarhaus Sampurna\, Am Tiergarten 1\, Schlangenbad-Bärstadt\, Hessen\, 65388\, Deutschland
CATEGORIES:Seminar
ATTACH;FMTTYPE=image/png:https://sampurna-seminarhaus.de/wp-content/uploads/2023/11/Veranstaltungsbild-sampurna-ecd562770e8d6edef3991ef51262c0c7.png
END:VEVENT
END:VCALENDAR