BEGIN:VCALENDAR
VERSION:2.0
PRODID:-//Sampurna Seminarhaus - ECPv6.10.1.1//NONSGML v1.0//EN
CALSCALE:GREGORIAN
METHOD:PUBLISH
X-WR-CALNAME:Sampurna Seminarhaus
X-ORIGINAL-URL:https://sampurna-seminarhaus.de
X-WR-CALDESC:Veranstaltungen für Sampurna Seminarhaus
REFRESH-INTERVAL;VALUE=DURATION:PT1H
X-Robots-Tag:noindex
X-PUBLISHED-TTL:PT1H
BEGIN:VTIMEZONE
TZID:Europe/Berlin
BEGIN:DAYLIGHT
TZOFFSETFROM:+0100
TZOFFSETTO:+0200
TZNAME:CEST
DTSTART:20270328T010000
END:DAYLIGHT
BEGIN:STANDARD
TZOFFSETFROM:+0200
TZOFFSETTO:+0100
TZNAME:CET
DTSTART:20271031T010000
END:STANDARD
END:VTIMEZONE
BEGIN:VEVENT
DTSTART;TZID=Europe/Berlin:20270108T170000
DTEND;TZID=Europe/Berlin:20270110T160000
DTSTAMP:20260421T122416
CREATED:20260224T122923Z
LAST-MODIFIED:20260412T100703Z
UID:10001598-1799427600-1799596800@sampurna-seminarhaus.de
SUMMARY:Balance und Klarheit
DESCRIPTION:Loslassen und das neue Jahr fokussieren \nErlebe ein kraftvolles Yoga Retreat kurz nach dem Jahreswechsel und starte bewusst in das neue Jahr. \nAn einem Wochenende voller Achtsamkeit\, Yoga-Einheiten und tiefgehender Reflexion\, schließen wir das vergangene Jahr ab\, lassen Altes los und setzen klare Intentionen für das neue Jahr. \n \n  \nVoraussetzung für die Teilnahme \nJede*r ist willkommen – keine Yogakenntnisse erforderlich. \n\nSeminarleitung\n \nSarah Rolfsmeyer \nUrsprünglich komme ich aus dem schönen Ostwestfalen-Lippe und lebe nun in Frankfurt. \nIch begeistere mich seit über einem Jahrzehnt für Yoga. Ich habe 2022 meine Yoga-Grundausbildung absolviert und seitdem mein Wissen in weiteren Ausbildungen vertieft. Meine eigene Begeisterung für Yoga und dieses Wissen weiterzugeben\, bringt mir große Freude. \nIn meiner Freizeit gehe ich gerne wandern\, bin viel in der Natur und begeistere mich für Ayurveda. \nAusbildungen (Yandara Yoga Institute): \n200h RYS Yoga Alliance \n100h Breath & Meditation \n100h Advanced Yin & Restorative Yoga \n„Restorative Yoga im Katonah Yoga® Stil“ und „Yang & Yin Yoga“ – Timo Wahl Yoga. \n  \n \nMareike Sich \nIch lebe und arbeite im Frankfurter Raum und habe vor ca. 13 Jahren meine Yoga Leidenschaft entdeckt. Da Yoga mein Leben sehr bereichert\, möchte ich diese Erfahrung weitergeben. Durch meine Yoga- und Coaching-Ausbildungen habe ich dafür die optimale Basis. Neben dem Yoga begeistere ich mich fürs Reisen und Wandern in der Natur. \nAusbildungen: \n200h RYS Yoga Alliance\, Yandara Yoga ​Institute \n200h Kundalini Yoga Teacher Training \nCoach für Persönlichkeitsentwicklung (Ausbildung DBVC ​zertifiziert) \n\nAnmeldung zum Seminar und Seminargebühr\nSeminargebühr regulär: 309€ \nAnmeldung bei: Sarah Rolfsmeyer // +491774521838 // balanceundklarheit@gmail.com \n\nAnmeldung und Preise für Unterkunft und Verpflegung\nBitte aktiviere JavaScript in deinem Browser\, um dieses Formular fertigzustellen.Hast du dich bereits beim Veranstalter angemeldet? *JaNein (Bitte melde dich für das Seminar beim Veranstalter an)Ich bin einverstanden *Ja\, meine Kontaktdaten dürfen an den Veranstalter weitergegeben werden.Auswahl deines Aufenthaltes *EinzelzimmerPaarbettzimmerDoppelzimmerMehrbettzimmerTagesgast mit VerpflegungWelches Einzelzimmer möchtest du?  *Comfort +: 350 EUR - Zimmer mit eigenem Bad und 140er BettComfort: 330 EUR  - Zimmer mit eigenem BadStandard: 310 EUR  - Zimmer mit geteiltem Bad(Preis für gesamte Zeit pro Person inkl. Verpflegung)Welches Paarbettzimmer möchtest du?  *Comfort: 270 EUR p.P. - Doppelbelegung im kl. Z.\, Kuschelbett (140er)+eigen. BadStandard: 250 EUR p.P. - Doppelbelegung im kl. Z.\, Kuschelbett (140er)+geteilt. Bad(Preis für gesamte Zeit pro Person inkl. Verpflegung)Welches Doppelzimmer möchstes du?  *Deluxe: 330 EUR p.P. - Doppelbelegung großes Zimmer mit eigenem BadStandard: 290 EUR p.P. - Doppelbelegung im Zimmer mit geteiltes Bad(Preis für gesamte Zeit pro Person inkl. Verpflegung)Mehrbettzimmer  *Comfort: 250 EUR - max. 4 Bettzimmer mit eigenem Bad (Preis für gesamte Zeit pro Person inkl. Verpflegung)Welche Schlafplatz möchtest du?  *Schlafsaal: 210 EUR bitte eigenen Schlafsack o.ä. und Handtrücher mitbringenZelt: 210 EUR (eigenes Zelt!)WoMo Stellplatz: 210 EUR (Preis für gesamte Zeit pro Person inkl. Verpflegung)Welche Tagesgast-Variante möchtest wählen?  *190 EUR inkl. Frühstück-\, Mittag- und Abendbuffet162 EUR inkl. Mittag- und Abendbuffet106 EUR inkl. Mittagbuffet(Preis für die gesamte Zeit pro Person)Dein alternativer Zimmerwunsch *Bitte unbedingt angeben!Einzelzimmer Standard: 310 EUR pro Person - Zimmer mit geteilt. BadComfort: 330 EUR  - Zimmer mit eigenem BadComfort +: 350 EUR - Zimmer mit eigenem Bad und 140er BettPaarbettzimmer Standard: 250 EUR pro Person - Kuschelbett (140er) für 2 mit geteilt. BadPaarbettzimmer Comfort: 270 EUR p.P. im 140m KuschelbettDoppelzimmer Standard: 290 EUR pro Person - Doppelbelegung mit geteilt. BadDoppelzimmer de luxe: 330 EUR p.P. geräumiges Zimmer mit eig. BadMehrbettzimmer Comfort: 250 EUR pro Person - 4 Bettzimmer mit eigen. BadZelt-/Stellplatz: 210 EUR p.P.- Kissen & Schlafsack mitbringen*Unsere Zimmer sind teilweise sehr schnell ausgebucht. Gib hier bitte eine Alternative an\, falls dein erster Zimmerwunsch schon belegt ist.Nachricht ans TeamIch habe eine persönliche Nachricht ans TeamMeine Nachricht ans Team *Vorname *Nachname *Vor- und Nachname deines Partners *Möchtest du mit einer bestimmten Person ins Doppelzimmer? *Straße und Hausnummer *Hausnummer *PLZ *Ort *TelefonnummerE-Mail *AGB *Ich bestätige die Teilnahme- & Stornobedingungen des Seminars wie o.a.  sowie die AGB des Seminarhauses.Datenschutzbestimmungen *Ich habe die Datenschutzerklärung gelesen und stimme zu.CommentBuchungsanfrage abschicken
URL:https://sampurna-seminarhaus.de/event/balance-und-klarheit-3/
LOCATION:Seminarhaus Sampurna\, Am Tiergarten 1\, Schlangenbad-Bärstadt\, Hessen\, 65388\, Deutschland
CATEGORIES:Seminar
ATTACH;FMTTYPE=image/png:https://sampurna-seminarhaus.de/wp-content/uploads/2026/02/BalanceKlarheit-2027.png
ORGANIZER;CN="Sarah Rolfsmeyer":MAILTO:balanceundklarheit@gmail.com
END:VEVENT
END:VCALENDAR