BEGIN:VCALENDAR
VERSION:2.0
PRODID:-//Sampurna Seminarhaus - ECPv6.10.1.1//NONSGML v1.0//EN
CALSCALE:GREGORIAN
METHOD:PUBLISH
X-WR-CALNAME:Sampurna Seminarhaus
X-ORIGINAL-URL:https://sampurna-seminarhaus.de
X-WR-CALDESC:Veranstaltungen für Sampurna Seminarhaus
REFRESH-INTERVAL;VALUE=DURATION:PT1H
X-Robots-Tag:noindex
X-PUBLISHED-TTL:PT1H
BEGIN:VTIMEZONE
TZID:Europe/Berlin
BEGIN:DAYLIGHT
TZOFFSETFROM:+0100
TZOFFSETTO:+0200
TZNAME:CEST
DTSTART:20250330T010000
END:DAYLIGHT
BEGIN:STANDARD
TZOFFSETFROM:+0200
TZOFFSETTO:+0100
TZNAME:CET
DTSTART:20251026T010000
END:STANDARD
END:VTIMEZONE
BEGIN:VEVENT
DTSTART;TZID=Europe/Berlin:20250117T170000
DTEND;TZID=Europe/Berlin:20250119T160000
DTSTAMP:20260421T010824
CREATED:20241204T123015Z
LAST-MODIFIED:20241204T123015Z
UID:10001331-1737133200-1737302400@sampurna-seminarhaus.de
SUMMARY:GedankenMedizin
DESCRIPTION:Dieses Seminar ist Teil eines Mentorin-Programms & kann nicht einzeln gebucht werden. \n\nSeminarleitung:\nMaike Mertens \n\nPreise und Anmeldung für Unterkunft und Verpflegung\nBitte aktiviere JavaScript in deinem Browser\, um dieses Formular fertigzustellen.Auswahl deines Aufenthaltes *EinzelzimmerDoppelzimmerPaarbettzimmer (1\,40m Kuschelbett)MehrbettzimmerTagesgast mit VerpflegungWelches Einzelzimmer möchtest du?  *Comfort Plus : 350 EUR - Zimmer mit eig. Bad (1\,40m breitem Bett)Comfort: 330 EUR  - Zimmer mit eigenem BadStandard: 310 EUR  - Zimmer mit geteiltem Bad(Preis für gesamte Zeit pro Person inkl. Verpflegung)Welches Doppelzimmer möchtest du?  *Deluxe: 330 EUR p.P. - Doppelbelegung großes Zimmer mit eigenem BadStandard: 290  EUR p.P. - Doppelbelegung im Zimmer mit geteiltes Bad(Preis für gesamte Zeit pro Person inkl. Verpflegung)Welches Paarbettzimmer möchtest du?   *Comfort: 280 EUR p.P. - 1\,40m breites Kuschelbett mit eigenem BadStandard: 260 EUR p.P. - 1\,40m breites Kuschelbett mit geteiltes Bad(Preis für gesamte Zeit pro Person inkl. Verpflegung)Welches Mehrbettzimmer möchtest du? *Comfort: 260 EUR - max. 4 Bettzimmer mit eigenem BadZelt-\, Stellplatz: 220 EUR (Preis für gesamte Zeit pro Person inkl. Verpflegung)Welche Tagesgast-Variante möchtest du wählen?  *200 EUR inkl. Frühstück-\, Mittag- und Abendbuffet172 EUR inkl. Mittag- und Abendbuffet122 EUR inkl. Mittagbuffet(Preis für die gesamte Zeit pro Person)Dein alternativer Zimmerwunsch *Bitte unbedingt angeben!Einzelzimmer Comfort + : 350 EUR - Zimmer mit eig. Bad (1\,40m breitem Bett)Comfort: 330 EUR  - Zimmer mit eigenem BadEinzelzimmer Standard: 310 EUR pro Person - Zimmer mit geteilt. BadMehrbettzimmer Comfort: 260 EUR pro Person - 4 Bettzimmer mit eigen. BadZelt-/Womoplatz: 220 EUR pro Person-*Unsere Zimmer sind teilweise sehr schnell ausgebucht. Gib hier bitte eine Alternative an\, falls dein erster Zimmerwunsch schon belegt ist.Nachricht ans TeamIch habe eine persönliche Nachricht ans TeamMeine Nachricht ans Team *Vorname *Nachname *Vor- und Nachname deines Partners *Möchtest du mit einer bestimmten Person ins Doppelzimmer? *Straße und Hausnummer *Hausnummer *PLZ *Ort *TelefonnummerE-Mail *AGB *Ich bestätige die Teilnahme- & Stornobedingungen des Seminars wie o.a.  sowie die AGB des Seminarhauses.Datenschutzbestimmungen *Ich habe die Datenschutzerklärung gelesen und stimme zu.PhoneBuchungsanfrage abschicken
URL:https://sampurna-seminarhaus.de/event/gedankenmedizin/
LOCATION:Seminarhaus Sampurna\, Am Tiergarten 1\, Schlangenbad-Bärstadt\, Hessen\, 65388\, Deutschland
CATEGORIES:Seminar
ATTACH;FMTTYPE=image/png:https://sampurna-seminarhaus.de/wp-content/uploads/2024/12/LOGO-WEBSITE.pdf-4-3ac046142f402ba032dc642e0020c1cf-e1733315384890.png
ORGANIZER;CN="Maike Mertens":MAILTO:maike.mertens@gmx.net
END:VEVENT
END:VCALENDAR