BEGIN:VCALENDAR
VERSION:2.0
PRODID:-//Sampurna Seminarhaus - ECPv6.10.1.1//NONSGML v1.0//EN
CALSCALE:GREGORIAN
METHOD:PUBLISH
X-WR-CALNAME:Sampurna Seminarhaus
X-ORIGINAL-URL:https://sampurna-seminarhaus.de
X-WR-CALDESC:Veranstaltungen für Sampurna Seminarhaus
REFRESH-INTERVAL;VALUE=DURATION:PT1H
X-Robots-Tag:noindex
X-PUBLISHED-TTL:PT1H
BEGIN:VTIMEZONE
TZID:Europe/Berlin
BEGIN:DAYLIGHT
TZOFFSETFROM:+0100
TZOFFSETTO:+0200
TZNAME:CEST
DTSTART:20240331T010000
END:DAYLIGHT
BEGIN:STANDARD
TZOFFSETFROM:+0200
TZOFFSETTO:+0100
TZNAME:CET
DTSTART:20241027T010000
END:STANDARD
END:VTIMEZONE
BEGIN:VEVENT
DTSTART;TZID=Europe/Berlin:20240803T093000
DTEND;TZID=Europe/Berlin:20240804T183000
DTSTAMP:20260421T175348
CREATED:20240611T135052Z
LAST-MODIFIED:20240621T102216Z
UID:10001259-1722677400-1722796200@sampurna-seminarhaus.de
SUMMARY:Re-connection mit Deinem Leben
DESCRIPTION:„Du bist die Zukunft\, Du bist die Magie!“ Alles\, was Du bereit bist durch einfaches Du sein zu sein\, kreiert ein Leben\, das besser ist als jetzt und kreiert mehr\, als wir je zu vorstellen träumten. \nDu bist ein Vorreiter… Deine Energie\, Dein Wissen\, Deine Verbindung\, Dein Anderssein\, Deine Feinfühligkeit und auch deine unermüdliche Suche\, der Kampf und das Verlorensein in dieser Realität kreieren die Lust nach einer neuen Welt. \nDu bist ein Vorreiter und es ist an der Zeit\, es zu empfangen\, anzunehmen und die Wahl zu treffen\, es zu leben. \nLass uns gemeinsam in der Freude\, Leichtigkeit und Innigkeit deine Welt und die Zukunft kreieren! \nEin hoch energetisches Seminar. \nIn einem physischen Raum zu sein und die Magie zu erschaffen ist fühlt sich fast wie ein Wunder. Wir werden das mehrdimensionales Wissen in einen physischen Raum bringen\, channeln\, empfangen und lernen. Wir werden mit Energien spielen und ich werde dich energetisch führen\, um gemeinsam mit dir ganz entspannt was Großartiges zu kreieren. \nIn diesem Seminar geht es nicht ums verstehen\, es geht um zu erfahren\, sein\, innerlich zu begreifen\, Rückreisen. \nIch kann dir versichern: \nes wird Spaß machen \nes wird magisch sein \nes wird deine Welt (wenn du magst) auf ein anderes Level des Seins bringen es wird innig sein raumöffnend\, transformierend und ankommend sein \nBei der Entscheidung für Anmeldung\, spüre rein…wie wird  den Leben in \n10 Jahren Aussehen wenn du das wählst? \n  \n\nSeminarleitung\n \nKatharina Janowska \nInternationale Speakerin\, Mentorin\, Coach und Moderatorin einer Bewusstseins-Radiosendung. \nSie ist eine Vorreiterin. Durch ihre Fähigkeiten und energetischen Gaben kann sie Mehrdimensionalität deutlich spüren und morphische Felder klar lesen. Sie besitzt ein Wissen\, das weit über diese Realität hinaus reicht und gleichzeitig ist sie tief mit der Erde verbunden\, was ihr und ihren Klienten eine pragmatische Kreation und Manifestation des Lebens ermöglicht. \nKatharina wirkt seit 20 Jahren als Bewusstseins-Vorreiterin auf allen Ebenen. Ihr Ziel: Menschen in ihre Kraft bringen\, mit ihrem wahren Leben verbinden\, deren individuelle Berufung (dogma- und interpretationsfrei) finden und mit ihnen funktionierende\, organische Business-Felder formen. \nEine Frau mit interessanter Geschichte. \nSie ist geboren und aufgewachsen in Polen\, es folgten 23 Jahre Entwicklung\, Leben und Wirken in Deutschland und aktuell lebt sie mit ihrer Familie in den USA. \nPragmatisch\, humorvoll\, tief bewegend\, inspirierend und raumöffnend. \n\nAnmeldung und Seminargebühr\nSeminargebühr: 269€ \nFrühbucherpreis: 189€ \n\nSeminar am Samstag\, 03. August\nFreitag und Sonntag Transformations-Channeling\nVerpflegung am Seminartag inkl. frisches und gesundes Mittagessen\n\nAnmeldung: Katharina Janowska \n\nPreise und Anmeldung für Unterkunft und Verpflegung\nBei Anreise am Freitag 02.08 zum Abendessen und Abreise Sonntag 04.08. nach dem Mittagessen\, falls anders gewünscht\, bitte Angaben hierzu. \nBitte aktiviere JavaScript in deinem Browser\, um dieses Formular fertigzustellen.Hast du dich bereits beim Veranstalter angemeldet? *JaNeinIch bin einverstanden *Ja\, meine Kontaktdaten dürfen an den Veranstalter weitergegeben werden.Auswahl deines Aufenthaltes *EinzelzimmerPaarbettzimmerDoppelzimmerMehrbettzimmerTagesgast mit VerpflegungWelches Einzelzimmer möchtest du?  *Suite: 374 EUR - großes Apartment mit eigenem Bad\, Wohn-/EssbereichComfort +: 274 EUR - Zimmer mit eigenem Bad und 140er BettComfort: 254 EUR  - Zimmer mit eigenem BadStandard: 234 EUR  - Zimmer mit geteiltem Bad(Preis für gesamte Zeit pro Person inkl. Verpflegung)Welches Paarbettzimmer möchtest du?  *Comfort: 194 EUR p.P. - Doppelbelegung im kl. Z.\, Kuschelbett (140er)+eigen. BadStandard: 178 EUR p.P. - Doppelbelegung im kl. Z.\, Kuschelbett (140er)+geteilt. Bad(Preis für gesamte Zeit pro Person inkl. Verpflegung)Welches Doppelzimmer möchstes du?  *Suite: 274 EUR p.P. - Doppelbelegung im großen ApartmentDeluxe: 234 EUR p.P. - Doppelbelegung großes Zimmer mit eigenem BadStandard: 214 EUR p.P. - Doppelbelegung im Zimmer mit geteiltes Bad(Preis für gesamte Zeit pro Person inkl. Verpflegung)Welches Mehrbettzimmer möchtest du? *Comfort: 194 EUR - max. 4 Bettzimmer mit eigenem BadZelt-\, Stellplatz: 148 EUR - Kissen & Schlafsack mitbringen (Preis für gesamte Zeit pro Person inkl. Verpflegung)Welche Tagesgast-Variante möchtest wählen?  NUR SAMSTAG *35 EUR inkl. Frühstück-\, Mittag- und Abendbuffet23 EUR inkl. Mittag- und Abendbuffet(Preis für die gesamte Zeit pro Person)Dein erster alternativer Zimmerwunsch *Bitte unbedingt angeben!Einzelzimmer Standard: 234 EUR pro Person - Zimmer mit geteilt. BadComfort: 254 EUR  - Zimmer mit eigenem BadComfort +: 274 EUR - Zimmer mit eigenem Bad und 140er BettPaarbettzimmer Standard: 194 EUR pro Person - Kuschelbett (140er) für 2 mit geteilt. BadDoppelzimmer Standard: 214 EUR pro Person - Doppelbelegung mit geteilt. BadMehrbettzimmer Comfort: 194 EUR pro Person - 4 Bettzimmer mit eigen. BadZelt-/Stellplatz: 148 EUR p.P.- Kissen & Schlafsack mitbringen*Unsere Zimmer sind teilweise sehr schnell ausgebucht. Gib hier bitte eine Alternative an\, falls dein erster Zimmerwunsch schon belegt ist.Welche Variante möchtest du als Tagesgast wählen? NUR SAMSTAG *35 EUR inkl. Frühstück-\, Mittag- und Abendbuffet23 EUR inkl. Mittag- und AbendbuffetNachricht ans TeamIch habe eine persönliche Nachricht ans TeamMeine Nachricht ans Team *Vorname *Nachname *Vor- und Nachname deines Partners *Möchtest du mit einer bestimmten Person ins Doppelzimmer? *Straße und Hausnummer *Hausnummer *PLZ *Ort *TelefonnummerE-Mail *AGB *Ich bestätige die Teilnahme- & Stornobedingungen des Seminars wie o.a.  sowie die AGB des Seminarhauses.Datenschutzbestimmungen *Ich habe die Datenschutzerklärung gelesen und stimme zu.WebsiteBuchungsanfrage abschicken
URL:https://sampurna-seminarhaus.de/event/re-connection-mit-deinem-leben/
LOCATION:Seminarhaus Sampurna\, Am Tiergarten 1\, Schlangenbad-Bärstadt\, Hessen\, 65388\, Deutschland
CATEGORIES:Seminar
ATTACH;FMTTYPE=image/png:https://sampurna-seminarhaus.de/wp-content/uploads/2024/06/re-connection-veranstaltungsbild.png
ORGANIZER;CN="Katarzyna Janowska":MAILTO:hi@frequencies-of-being.com
END:VEVENT
END:VCALENDAR