BEGIN:VCALENDAR
VERSION:2.0
PRODID:-//Sampurna Seminarhaus - ECPv6.10.1.1//NONSGML v1.0//EN
CALSCALE:GREGORIAN
METHOD:PUBLISH
X-ORIGINAL-URL:https://sampurna-seminarhaus.de
X-WR-CALDESC:Veranstaltungen für Sampurna Seminarhaus
REFRESH-INTERVAL;VALUE=DURATION:PT1H
X-Robots-Tag:noindex
X-PUBLISHED-TTL:PT1H
BEGIN:VTIMEZONE
TZID:Europe/Berlin
BEGIN:DAYLIGHT
TZOFFSETFROM:+0100
TZOFFSETTO:+0200
TZNAME:CEST
DTSTART:20240331T010000
END:DAYLIGHT
BEGIN:STANDARD
TZOFFSETFROM:+0200
TZOFFSETTO:+0100
TZNAME:CET
DTSTART:20241027T010000
END:STANDARD
END:VTIMEZONE
BEGIN:VEVENT
DTSTART;TZID=Europe/Berlin:20240116T180000
DTEND;TZID=Europe/Berlin:20240121T110000
DTSTAMP:20260420T173117
CREATED:20230908T112148Z
LAST-MODIFIED:20230908T112352Z
UID:10000896-1705428000-1705834800@sampurna-seminarhaus.de
SUMMARY:vision wintercamp 2024
DESCRIPTION:Starte mit ganz neuer\, frischer Energie\, viel Erdung und einer Extraportion Unterstützung ins Jahr 2024. \nWir wollen in dieser Auszeit gemeinsam mit dir herausfinden\, wozu wir jetzt gerade hier inkarniert sind. Hast du dies klar für dich\, verknüpfen wir dich mit Teilnehmern\, die ähnliche Pläne haben wie du. Zusammen können wir uns gegenseitig beim Manifestieren und Realisieren neuer Ideen und Projekte unterstützen. Wir möchten uns in dieser spannenden Zeit mit uns selbst und knapp 50 weiteren Lichtwesen verbinden\, um das Neue in die Welt zu holen. \nAblaufplan \n\nSeminarleitung\n \nAimée Bastian \nAimée Bastian hat das Event konzipiert und führt euch zusammen mit vier weiteren Koordinatorinnen durch das Programm. Sie arbeitet seit 15 Jahren als Coach und begleitet Menschen in ihren Entwicklungsprozessen. Auch die anderen Koordinatorinnen sind ausgebildete Coaches mit unterschiedlichen inhaltlichen Schwerpunkten. \nwww.familiencoaching-nrw.de \n\nSeminargebühr und Anmeldung zum Seminar:\nSeminargebühr:  360€ \nAnmeldung bei: Kristina Stolz // kristina.stolz@public-vision.de \noder Aimée Bastian // 0170 416 6450 // aimee.bastian@public-vision.de \n\nAnmeldung & Preise für Unterkunft & Verpflegung:\nBitte aktiviere JavaScript in deinem Browser\, um dieses Formular fertigzustellen.Hast du dich bereits beim Veranstalter angemeldet? *JaNeinIch bin einverstanden *Ja\, meine Kontaktdaten dürfen an den Veranstalter weitergegeben werden.Auswahl deines Aufenthaltes *EinzelzimmerPaarbettzimmerDoppelzimmerMehrbettzimmerTagesgast mit VerpflegungWelches Einzelzimmer möchtest du?  *Comfort Plus : 807 EUR - Zimmer mit eig. Bad (1\,40m breitem Bett)Comfort: 757 EUR  - Zimmer mit eigenem BadStandard: 707 EUR  - Zimmer mit geteiltem Bad(Preis für gesamte Zeit pro Person inkl. Verpflegung)Welches Paarbettzimmer möchtest du?  *Comfort: 657 EUR p.P. - Doppelbelegung im kl. Z.\, Kuschelbett (140er)+eigen. BadStandard: 592 EUR p.P. - Doppelbelegung im kl. Z.\, Kuschelbett (140er)+geteilt. Bad(Preis für gesamte Zeit pro Person inkl. Verpflegung)Welches Doppelzimmer möchstes du?  *Deluxe: 757 EUR p.P. - Doppelbelegung großes Zimmer mit eigenem BadStandard: 657 EUR p.P. - Doppelbelegung im Zimmer mit geteiltes Bad(Preis für gesamte Zeit pro Person inkl. Verpflegung)Welches Mehrbettzimmer möchtest du? *Comfort: 592 EUR - max. 4 Bettzimmer mit eigenem BadZelt-\, Stellplatz: 492 EUR - Kissen & Schlafsack mitbringen (Preis für gesamte Zeit pro Person inkl. Verpflegung)Welche Tagesgast-Variante möchtest wählen?  *442 EUR inkl. Frühstück-\, Mittag- und Abendbuffet382 EUR inkl. Mittag- und Abendbuffet267 EUR inkl. Mittagbuffet(Preis für die gesamte Zeit pro Person)Dein erster alternativer Zimmerwunsch *Bitte unbedingt angeben!Comfort + : 807 EUR - Zimmer mit eig. Bad (1\,40m breitem Bett)Einzelzimmer Standard: 707 EUR pro Person - Zimmer mit geteilt. BadPaarbettzimmer Standard: 542 EUR pro Person - Kuschelbett (140er) für 2 mit geteilt. BadDoppelzimmer Standard: 657 EUR pro Person - Doppelbelegung mit geteilt. BadMehrbettzimmer Comfort: 592 EUR pro Person - 4 Bettzimmer mit eigen. BadZelt-/Stellplatz: 492 EUR p.P.- Kissen & Schlafsack mitbringen*Unsere Zimmer sind teilweise sehr schnell ausgebucht. Gib hier bitte eine Alternative an\, falls dein erster Zimmerwunsch schon belegt ist.Dein zweiter alternativer Zimmerwunsch *Bitte unbedingt angeben!Comfort + : 807 EUR - Zimmer mit eig. Bad (1\,40m breitem Bett)Doppelzimmer Standard: 592 EUR pro Person- Doppelbelegung mit geteilt. BadMehrbettzimmer Comfort: 592 EUR pro Person- 4 Bettzimmer mit eigen. BadStellplatz: 492 EUR pro Person- Kissen & Schlafsack mitbringenTagesgast mit selbst organisierter Übernachtung in der NäheWenn mein Wunschzimmer nicht frei ist\, komme ich nicht.*Ja\, unsere Zimmer gehen teilweise weg wie warme Semmeln. Ein zweiter Zimmerwunsch ist hier wichtig!Welche Variante möchtest du als Tagesgast wählen? (Preis für die gesamte Zeit pro Person) *442 EUR inkl. Frühstück-\, Mittag- und Abendbuffet382 EUR inkl. Mittag- und Abendbuffet267EUR inkl. MittagbuffetNachricht ans TeamIch habe eine persönliche Nachricht ans TeamMeine Nachricht ans Team *Vorname *Nachname *Vor- und Nachname deines Partners *Möchtest du mit einer bestimmten Person ins Doppelzimmer? *Straße und Hausnummer *Hausnummer *PLZ *Ort *TelefonnummerE-Mail *AGB *Ich bestätige die Teilnahme- & Stornobedingungen des Seminars wie o.a.  sowie die AGB des Seminarhauses.Datenschutzbestimmungen *Ich habe die Datenschutzerklärung gelesen und stimme zu.NameBuchungsanfrage abschicken
URL:https://sampurna-seminarhaus.de/event/vision-wintercamp-2024-2/
LOCATION:Seminarhaus Sampurna\, Am Tiergarten 1\, Schlangenbad-Bärstadt\, Hessen\, 65388\, Deutschland
CATEGORIES:Empfohlene Seminare,Seminar
ATTACH;FMTTYPE=image/png:https://sampurna-seminarhaus.de/wp-content/uploads/2023/08/wintercamp24_Veranstaltungsbild_Sampurna_1000x375px.png
ORGANIZER;CN="Aim%C3%A9e Bastian":MAILTO:a.bastian@die-coaches-nrw.de
END:VEVENT
END:VCALENDAR