BEGIN:VCALENDAR
VERSION:2.0
PRODID:-//Sampurna Seminarhaus - ECPv6.10.1.1//NONSGML v1.0//EN
CALSCALE:GREGORIAN
METHOD:PUBLISH
X-ORIGINAL-URL:https://sampurna-seminarhaus.de
X-WR-CALDESC:Veranstaltungen für Sampurna Seminarhaus
REFRESH-INTERVAL;VALUE=DURATION:PT1H
X-Robots-Tag:noindex
X-PUBLISHED-TTL:PT1H
BEGIN:VTIMEZONE
TZID:Europe/Berlin
BEGIN:DAYLIGHT
TZOFFSETFROM:+0100
TZOFFSETTO:+0200
TZNAME:CEST
DTSTART:20240331T010000
END:DAYLIGHT
BEGIN:STANDARD
TZOFFSETFROM:+0200
TZOFFSETTO:+0100
TZNAME:CET
DTSTART:20241027T010000
END:STANDARD
END:VTIMEZONE
BEGIN:VEVENT
DTSTART;TZID=Europe/Berlin:20241014T170000
DTEND;TZID=Europe/Berlin:20241021T130000
DTSTAMP:20260420T133620
CREATED:20230906T112547Z
LAST-MODIFIED:20230909T094721Z
UID:10000894-1728925200-1729515600@sampurna-seminarhaus.de
SUMMARY:7 tägiges Soul-Painting Retreat Oktober 2024- Meditation\, Yoga und Malen im Taunus
DESCRIPTION:  \nEintauchen in SOUL- PAINTING- mit Clara Morgenthau \nDieses RETREAT ist eine Einladung\, Deine ureigene Kreativität zu entfachen\, zu vertiefen und aus ihr zu schöpfen. Für Dein gesamtes Leben. Mit Fülle\, Freude und Liebe. Die ultimative Erfahrung in unserem Leben ist die Freisetzung unserer Kreativität und die Seele war schon immer die Quelle dafür.  Die „Mindstyle“-Zeitschrift „Happiness“ (Ausgabe 6/2020) hat es in ihrem Bericht über die Soul-Painting-Retreats von und mit Clara Morgenthau wunderschön auf den Punkt gebracht: „Kreativität ist Mut – Mut\, etwas Neues auszuprobieren und unseren inneren Kritiker für einen Augenblick zu vergessen. Auf einfache und liebevolle Weise verbindet die Künstlerin Clara Morgenthau in ihren Workshops die Kraft der Meditation und des Yoga mit der Kunst des Malens\, Collagierens und Monoprintings. Sie glaubt\, die Seele ist unsere ganz eigene Quelle der Kreativität – und so können wir das Soul-Painting in einem wunderschönen Retreat selber erleben.“ \nEs sind keine Vorkenntnisse nötig. Jede Interessierte\, die eine Seele hat\, kann daran teilnehmen. Das Künstlermaterial ist inklusive. \nNEU Tagesablauf Soul Painting (1) \nVideo Soul-Painting \n\nSeminarleitung\n \nClara Morgenthau \nClara Morgenthau ist seit ihrer frühesten Kindheit kreativ. Sie wuchs in Frankfurt am Main auf\, lebte nach ihrem Diplom in Hamburg\, zog später mit ihrem VW Bus durch Süd-Europa\, war in Italien bei einem Wanderzirkus\, spielte Akkordeon in drei Musikbands und lebte in einem indischen Ashram\, wo sie sich auf die Praxis von Meditation fokussierte. Clara glaubt daran\, dass die Seele die Quelle der Kreativität- und alles miteinander verbunden ist. \nhttps://www.claramorgenthau.de \n\nSeminaranmeldung & Preise\n797\,- € bei Buchungen bis zum einschließlich 23.12.2023 (Early Bird) \n847\,- € Regulär  \nAnmeldung bei: Jana Schmidt // +4917662306446 // info@claramorgenthau.de \n\nPreise und Anmeldung für Unterkunft & Verpflegung im Seminarhaus\nBitte aktiviere JavaScript in deinem Browser\, um dieses Formular fertigzustellen.Hast du dich bereits beim Veranstalter angemeldet? *JaNeinIch bin einverstanden *Ja\, meine Kontaktdaten dürfen an den Veranstalter weitergegeben werden.Auswahl deines Aufenthaltes *EinzelzimmerDoppelzimmerMehrbettzimmerTagesgast mit VerpflegungWelches Einzelzimmer möchtest du?  *Comfort Plus : 1115 EUR - Zimmer mit eig. Bad (1\,40m breitem Bett)Comfort: 1045 EUR  - Zimmer mit eigenem BadStandard: 975 EUR  - Zimmer mit geteiltem Bad(Preis für gesamte Zeit pro Person inkl. Verpflegung)Welches Doppelzimmer möchstes du?  *Deluxe: 1045 EUR p.P. - Doppelbelegung großes Zimmer mit eigenem BadStandard: 905 EUR p.P. - Doppelbelegung im Zimmer mit geteiltes Bad(Preis für gesamte Zeit pro Person inkl. Verpflegung)Welches Mehrbettzimmer möchtest du? *Comfort: 814 EUR - max. 4 Bettzimmer mit eigenem BadZelt-\, Stellplatz: 674 EUR - inkl. Badnutzung im Haus (Preis für gesamte Zeit pro Person inkl. Verpflegung)Welche Tagesgast-Variante möchtest wählen?  *604 EUR inkl. Frühstück-\, Mittag- und Abendbuffet520 EUR inkl. Mittag- und Abendbuffet359 EUR inkl. Mittagbuffet(Preis für die gesamte Zeit pro Person)Dein erster alternativer Zimmerwunsch *Bitte unbedingt angeben!Comfort Plus : 1115 EUR - Zimmer mit eig. Bad (1\,40m breitem Bett)Comfort: 1045 EUR  - Zimmer mit eigenem BadEinzelzimmer Standard: 975 EUR pro Person - Zimmer mit geteilt. BadDoppelzimmer Standard: 814 EUR pro Person - Doppelbelegung mit geteilt. BadMehrbettzimmer Comfort: 814 EUR pro Person - 4 Bettzimmer mit eigen. BadZelt-/Stellplatz: 674 EUR p.P.- inkl. Badnutzung im Haus*Unsere Zimmer sind teilweise sehr schnell ausgebucht. Gib hier bitte eine Alternative an\, falls dein erster Zimmerwunsch schon belegt ist.Welche Variante möchtest du als Tagesgast wählen? (Preis für die gesamte Zeit pro Person) *604 EUR inkl. Frühstück-\, Mittag- und Abendbuffet520 EUR inkl. Mittag- und Abendbuffet359 EUR inkl. MittagbuffetNachricht ans TeamIch habe eine persönliche Nachricht ans TeamMeine Nachricht ans Team *Vorname *Nachname *Vor- und Nachname deines Partners *Möchtest du mit einer bestimmten Person ins Doppelzimmer? *Straße und Hausnummer *Hausnummer *PLZ *Ort *TelefonE-Mail *AGB *Ich bestätige die Teilnahme- & Stornobedingungen des Seminars wie o.a.  sowie die AGB des Seminarhauses.Datenschutzbestimmungen *Ich habe die Datenschutzerklärung gelesen und stimme zu.EmailBuchungsanfrage abschicken
URL:https://sampurna-seminarhaus.de/event/7-taegiges-soul-painting-retreat-oktober-2024-meditation-yoga-und-malen-im-taunus/
LOCATION:Seminarhaus Sampurna\, Am Tiergarten 1\, Schlangenbad-Bärstadt\, Hessen\, 65388\, Deutschland
CATEGORIES:Seminar
ATTACH;FMTTYPE=image/jpeg:https://sampurna-seminarhaus.de/wp-content/uploads/2023/09/Veranstaltung-transformative-Retreats_Quer-d57d32f26a0b04bb52b540191c1f7e31-300x113-1.jpg
ORGANIZER;CN="Clara Morgenthau":MAILTO:info@claramorgenthau.de
END:VEVENT
BEGIN:VEVENT
DTSTART;TZID=Europe/Berlin:20241017T170000
DTEND;TZID=Europe/Berlin:20241020T160000
DTSTAMP:20260420T133620
CREATED:20240719T113656Z
LAST-MODIFIED:20240904T065318Z
UID:10001285-1729184400-1729440000@sampurna-seminarhaus.de
SUMMARY:Ankommen
DESCRIPTION:In diesem Seminar geht es darum\, wie Du wirklich Dein wahres Zuhause in Deiner göttlichen Essenz findest … und Dich damit auch geborgen in dieser Welt fühlst. \nIn diesem Seminar\, erforschen wir gemeinsam Themen wie: \n~ Wie kann ich mich überall willkommen und zu Hause fühlen?\n~ Was bedeutet es\, wirklich voll und ganz im Hier und Jetzt zu leben?\n~ Wie gelange ich von der Rastlosigkeit zu innerer Ruhe und Balance?\n~ Wie fühlt sich „Angekommen“ tatsächlich an? Woran erkenne ich\, wenn ich fündig werde?\n~ „Der Weg ist das Ziel“ – Was heisst das?\n~ Wie kann ich mich erden und wirklich in meinem Körper wohnen\, sodass ich letztlich vollkommen inkarniere?\n~ Wie kann ich mich selbst in herausfordernden Situationen stark\, klar und gefasst fühlen?\n~ … \nLetztlich widmen wir uns den Fragen und Themen\, die Dich und die übrigen Teilnehmer:innen am meisten interessieren. \n\nSeminarleiter\n \nMarc Stollreiter \nMystiker\, spiritueller Lehrer\, Herz-Prophet\, Heiler \nObwohl ich selbst viele Lehrer:innen hatte\, hat mit Ausnahme von Master Teacher niemand über Gott gesprochen. Umso überraschter war ich\, als “das Göttliche” (das Tao\, Brahma\, Allāh …) sich irgendwann selbst bei mir gemeldet hat. In meiner Arbeit sehe ich Dich so\, wie Gott Dich gedacht hat… VOLLKOMMEN. \nDie Methode heißt “Herz-Dialog”. Dabei geht es darum\, über das “Glauben” hinauszugehen und zum reinen Wissen zu gelangen \nhttps://connecting-healing.com \n \nKate Kamala \nHerz-Mentorin\, Meditations-Lehrerin\, Heilenergetik \nAls Mentorin ist es für mich selbstverständlich\, dass ich selbst versuche zu leben\, was ich unterrichte\nHeute ist mein Leben so unglaublich erfüllt…\nIch lebe eine erfüllte\, heilige Partnerschaft\, genieße ein Leben unter der Sonne Teneriffas und erfülle meine klare\, kraftvoll fließende Berufung als Heilerin\, Medium & Mentorin. \n~Körper\, Klang\, Tanz\, Meditation\, Aufstellungsarbeit\, inneres Kind\, Elternthemen\, Mann-/Frau-Themen u.v.m. \nhttps://kate-kamala.com/ \n\nSeminargebühr und Anmeldung:\nSeminargebühr: 380€ \nAnmeldung: Steffi // steffi@connecting-healing.com \n\nSeminaranmeldung Übernachtung und Verpflegung\nBitte aktiviere JavaScript in deinem Browser\, um dieses Formular fertigzustellen.Hast du dich bereits beim Veranstalter angemeldet? *JaNeinIch bin einverstanden *Ja\, meine Kontaktdaten dürfen an den Veranstalter weitergegeben werden.Auswahl deines Aufenthaltes *EinzelzimmerPaarbettzimmerDoppelzimmerMehrbettzimmerTagesgast mit VerpflegungWelches Einzelzimmer möchtest du?  *Suite: 618 EUR - großes Apartment mit eigenem Bad\, Wohn-/EssbereichComfort + : 468 EUR - Zimmer mit eig. Bad (1\,40m breitem Bett)Comfort: 438 EUR  - Zimmer mit eigenem BadStandard: 408 EUR  - Zimmer mit geteiltem Bad(Preis für gesamte Zeit pro Person inkl. Verpflegung)Welches Paarbettzimmer möchtest du?  *Comfort: 378 EUR p.P. - Doppelbelegung im kl. Z.\, Kuschelbett (140er)+eigen. BadStandard: 339 EUR p.P. - Doppelbelegung im kl. Z.\, Kuschelbett (140er)+geteilt. Bad(Preis für gesamte Zeit pro Person inkl. Verpflegung)Welches Doppelzimmer möchstes du?  *Suite: 468 EUR p.P. - Doppelbelegung im großen ApartmentDeluxe: 438 EUR p.P. - Doppelbelegung großes Zimmer mit eigenem BadStandard: 378 EUR p.P. - Doppelbelegung im Zimmer mit geteiltes Bad(Preis für gesamte Zeit pro Person inkl. Verpflegung)Welches Mehrbettzimmer möchtest du? *Comfort: 339 EUR - max. 4 Bettzimmer mit eigenem BadZelt-\, Stellplatz: 279 EUR - Kissen & Schlafsack mitbringen (Preis für gesamte Zeit pro Person inkl. Verpflegung)Welche Tagesgast-Variante möchtest wählen?  *249 EUR inkl. Frühstück-\, Mittag- und Abendbuffet213 EUR inkl. Mittag- und Abendbuffet144 EUR inkl. Mittagbuffet(Preis für die gesamte Zeit pro Person)Dein erster alternativer Zimmerwunsch *Bitte unbedingt angeben!Comfort Plus : 468 EUR - Zimmer mit eig. Bad (1\,40m breitem Bett)Comfort: 438 EUR  - Zimmer mit eigenem BadEinzelzimmer Standard: 408 EUR pro Person - Zimmer mit geteilt. BadPaarbettzimmer Standard: 339 EUR pro Person - Kuschelbett (140er) für 2 mit geteilt. BadDoppelzimmer Standard: 378 EUR pro Person - Doppelbelegung mit geteilt. BadMehrbettzimmer Comfort: 339 EUR pro Person - 4 Bettzimmer mit eigen. BadZelt-/Stellplatz: 279 EUR p.P.- Kissen & Schlafsack mitbringen*Unsere Zimmer sind teilweise sehr schnell ausgebucht. Gib hier bitte eine Alternative an\, falls dein erster Zimmerwunsch schon belegt ist.Welche Variante möchtest du als Tagesgast wählen? (Preis für die gesamte Zeit pro Person) *249 EUR inkl. Frühstück-\, Mittag- und Abendbuffet213 EUR inkl. Mittag- und Abendbuffet144 EUR inkl. MittagbuffetNachricht ans TeamIch habe eine persönliche Nachricht ans TeamMeine Nachricht ans Team *Vorname *Nachname *Vor- und Nachname deines Partners *Möchtest du mit einer bestimmten Person ins Doppelzimmer? *Straße und Hausnummer *Hausnummer *PLZ *Ort *TelefonnummerE-Mail *AGB *Ich bestätige die Teilnahme- & Stornobedingungen des Seminars wie o.a.  sowie die AGB des Seminarhauses.Datenschutzbestimmungen *Ich habe die Datenschutzerklärung gelesen und stimme zu.Datum/ZeitDatumZeitEmailBuchungsanfrage abschicken
URL:https://sampurna-seminarhaus.de/event/ankommen/
LOCATION:Hessen
CATEGORIES:Seminar
ATTACH;FMTTYPE=image/png:https://sampurna-seminarhaus.de/wp-content/uploads/2024/07/Ankommen-Banner-2-Sampurna-a0ff5d286b77df1b0eed3d5ec1dcc5af-e1721389333361.png
END:VEVENT
BEGIN:VEVENT
DTSTART;TZID=Europe/Berlin:20241018T170000
DTEND;TZID=Europe/Berlin:20241020T150000
DTSTAMP:20260420T133620
CREATED:20240122T105934Z
LAST-MODIFIED:20240904T065340Z
UID:10000947-1729270800-1729436400@sampurna-seminarhaus.de
SUMMARY:Rückführungsseminar
DESCRIPTION:Schamanische Hypnose \nRückführung in ein altes bereits gelebtes Leben. \nWer war ich und was hat es mit meinem heutigen Leben zu tun? \nWir nehmen aus jedem bereits gelebten Leben etwas mit ins hier und jetzt. \nMuster und Seelenverträge die man einst mit sich selbst geschlossen hat wiederholen sich . \nEs ist eine Chance nun endlich aus diesem Kreislauf auszubrechen und freier Leben zu können. \nAn diesem Wochenende erlebt Ihr ein Reise in ein bereits gelebtes Leben und Ihr lernt wie man diese selbst anwenden kann. \nMit Hilfe von therapeutischer Hypnose führt Ihr zurück in eine Inkarnation\, erfahrt für welche weiteren Heilanwendungen man es noch benutzen kann. Es wird ein sehr intensives Wochenende werden \nTeilnahmevoraussetzungen: Offenheit für neue Wege \n\nAblaufplan\nFreitag Abend ab 17.00 Uhr Kennenlernrunde mit gemeinsamer Trommelreise und Einstimmung auf das Wochenende Samstag Start um 9.30 Uhr Einführung in die Handlungsweisen bei Hypnose ca. 1 Stunde inklusive Skript Wir halten die ersten Rückführungen in ein bereits gelebtes Leben mit anschließendem Gespräch über das erlebte. \nAm Abend findet eine Klangreise für die Teilnehmer statt Sonntag Start 9.30 Uhr erlebe wie man die medizinische Hypnose bei der schamanischen Heilarbeit einsetzen kann Ende am Sonntag gegen 15.00 Uhr. \n\nSeminarleitung\n \nSusanne Schatter \nIch bin Susanne\, geboren 1963 in Frankfurt am Main. \nSchamanische Ausbildung der nordischen Heilweisen \,diverse Weiterbildungen im schamanischen Bereich\nAusbildung NLP Coach\, Kinesiologie\, EFT – Klopftechniken\, Persönlichkeitstrainer für Mensch und Pferd\,\nHypnosetrainer\, Kommunikationstrainer\, Ritualfrau für keltische Zeremonien und Hochzeiten. \n\nAnmeldung und Seminargebühr\nSeminargebühr: 280 €  \nAnmeldung: Susanne Schatter // Mobil:  +491704683316 // E-mail: susanne@keltische-hochzeit.de \n\nAnmeldung und Preise für Unterkunft und Verpflegung im Seminarhaus\nBitte aktiviere JavaScript in deinem Browser\, um dieses Formular fertigzustellen.Hast du dich bereits beim Veranstalter angemeldet? *JaNeinIch bin einverstanden *Ja\, meine Kontaktdaten dürfen an den Veranstalter weitergegeben werden.Auswahl deines Aufenthaltes *EinzelzimmerPaarbettzimmerDoppelzimmerMehrbettzimmerTagesgast mit VerpflegungWelches Einzelzimmer möchtest du?  *Suite: 412 EUR - großes Apartment mit eigenem Bad\, Wohn-/EssbereichComfort Plus : 312 EUR - Zimmer mit eig. Bad (1\,40m breitem Bett)Comfort: 292 EUR  - Zimmer mit eigenem BadStandard: 272 EUR  - Zimmer mit geteiltem Bad(Preis für gesamte Zeit pro Person inkl. Verpflegung)Welches Paarbettzimmer möchtest du?  *Comfort: 242 EUR p.P. - Doppelbelegung im kl. Z.\, Kuschelbett (140er)+eigen. BadStandard: 226 EUR p.P. - Doppelbelegung im kl. Z.\, Kuschelbett (140er)+geteilt. Bad(Preis für gesamte Zeit pro Person inkl. Verpflegung)Welches Doppelzimmer möchstes du?  *Suite: 312 EUR p.P. - Doppelbelegung im großen ApartmentDeluxe: 292 EUR p.P. - Doppelbelegung großes Zimmer mit eigenem BadStandard: 252 EUR p.P. - Doppelbelegung im Zimmer mit geteiltes Bad(Preis für gesamte Zeit pro Person inkl. Verpflegung)Welches Mehrbettzimmer möchtest du? *Comfort: 226 EUR - max. 4 Bettzimmer mit eigenem BadZelt-\, Stellplatz: 186 EUR - Kissen & Schlafsack mitbringen (Preis für gesamte Zeit pro Person inkl. Verpflegung)Welche Tagesgast-Variante möchtest wählen?  *166 EUR inkl. Frühstück-\, Mittag- und Abendbuffet142 EUR inkl. Mittag- und Abendbuffet96 EUR inkl. Mittagbuffet(Preis für die gesamte Zeit pro Person)Dein erster alternativer Zimmerwunsch *Bitte unbedingt angeben!Comfort + : 312 EUR - Zimmer mit eig. Bad (1\,40m breitem Bett)Comfort Plus : 312 EUR - Zimmer mit eig. Bad (1\,40m breitem Bett)Einzelzimmer Standard: 272 EUR pro Person - Zimmer mit geteilt. BadPaarbettzimmer Standard: 226 EUR pro Person - Kuschelbett (140er) für 2 mit geteilt. BadDoppelzimmer Standard: 252 EUR pro Person - Doppelbelegung mit geteilt. BadMehrbettzimmer Comfort: 226 EUR pro Person - 4 Bettzimmer mit eigen. BadZelt-/Stellplatz: 186 EUR p.P.- Kissen & Schlafsack mitbringen*Unsere Zimmer sind teilweise sehr schnell ausgebucht. Gib hier bitte eine Alternative an\, falls dein erster Zimmerwunsch schon belegt ist.Welche Variante möchtest du als Tagesgast wählen? (Preis für die gesamte Zeit pro Person) *166 EUR inkl. Frühstück-\, Mittag- und Abendbuffet142 EUR inkl. Mittag- und Abendbuffet96 EUR inkl. MittagbuffetNachricht ans TeamIch habe eine persönliche Nachricht ans TeamMeine Nachricht ans Team *Vorname *Nachname *Vor- und Nachname deines Partners *Möchtest du mit einer bestimmten Person ins Doppelzimmer? *Straße und Hausnummer *Hausnummer *PLZ *Ort *TelefonEmailadresse *E-Mail *AGB *Ich bestätige die Teilnahme- & Stornobedingungen des Seminars wie o.a.  sowie die AGB des Seminarhauses.Datenschutzbestimmungen *Ich habe die Datenschutzerklärung gelesen und stimme zu.CommentBuchungsanfrage abschicken
URL:https://sampurna-seminarhaus.de/event/rueckfuehrungsseminar/
LOCATION:Seminarhaus Sampurna\, Am Tiergarten 1\, Schlangenbad-Bärstadt\, Hessen\, 65388\, Deutschland
CATEGORIES:Ausbildung
ATTACH;FMTTYPE=image/jpeg:https://sampurna-seminarhaus.de/wp-content/uploads/2022/02/39203701_2073031682716149_55560646128828416_n-b08a82b88cc5010a5872aac5f79bb7ee-e1645718644307.jpg
ORGANIZER;CN="Susanne Schatter":MAILTO:susanne@keltische-hochzeit.de
END:VEVENT
END:VCALENDAR