BEGIN:VCALENDAR
VERSION:2.0
PRODID:-//Sampurna Seminarhaus - ECPv6.10.1.1//NONSGML v1.0//EN
CALSCALE:GREGORIAN
METHOD:PUBLISH
X-WR-CALNAME:Sampurna Seminarhaus
X-ORIGINAL-URL:https://sampurna-seminarhaus.de
X-WR-CALDESC:Veranstaltungen für Sampurna Seminarhaus
REFRESH-INTERVAL;VALUE=DURATION:PT1H
X-Robots-Tag:noindex
X-PUBLISHED-TTL:PT1H
BEGIN:VTIMEZONE
TZID:Europe/Berlin
BEGIN:DAYLIGHT
TZOFFSETFROM:+0100
TZOFFSETTO:+0200
TZNAME:CEST
DTSTART:20240331T010000
END:DAYLIGHT
BEGIN:STANDARD
TZOFFSETFROM:+0200
TZOFFSETTO:+0100
TZNAME:CET
DTSTART:20241027T010000
END:STANDARD
END:VTIMEZONE
BEGIN:VEVENT
DTSTART;TZID=Europe/Berlin:20241011T140000
DTEND;TZID=Europe/Berlin:20241013T150000
DTSTAMP:20260420T171337
CREATED:20230614T075035Z
LAST-MODIFIED:20230614T075507Z
UID:10000871-1728655200-1728831600@sampurna-seminarhaus.de
SUMMARY:Wohlfühl-Wochenende für Frauen in den Wechseljahren
DESCRIPTION:An diesem Wochenende stehst du im Mittelpunkt: eine verwöhnende Auszeit nur für dich! Im Kreis von gleichgesinnten Frauen auftanken und in Balance kommen. \nEinfach mal die Seele baumeln lassen und wieder ganz bei dir ankommen. Mit anfängertauglichem Menobalance Yoga\, sanften Yoga-Flows\, Mediation\, Gong Reise\, ätherischen Ölen\, Austausch mit tollen Frauen\, leckerem vegetarischem/ veganem Essen und Wellness pur mit Sauna und schönem Garten kannst du dich wunderbar nähren und verwöhnen. \n  \n\n\n   \n\nMit dem Laden des Videos akzeptieren Sie die Datenschutzerklärung von YouTube.Mehr erfahren \nVideo laden \n YouTube immer entsperren \n \n \n \n\n\nVoraussetzung für die Teilnahme \nFrau 40+\nansonsten keine besonderen Voraussetzungen \n\nSeminarleitung\n \nAloka Wunderwald \nAls ausgebildete Life-Coachin und Yogalehrerin mit vielen Fortbildungen im Bereich Persönlichkeitsentwicklung\, wirst du von Aloka liebevoll angeleitet und begleitet.\nAls Autorin des Buches „Wow Woman Yoga-charismatisch und kraftvoll in der Lebensmitte“ bietet Aloka umfangreiches Wissen und Verständnis.\nMit ihrem Einfühlungsvermögen und eigenem Verständnis für die Wechseljahre\, unterstützt Aloka Frauen in dieser herausfordernden Zeit. \n\nAnmeldung zum Seminar und Seminargebühr\nSeminargebühr regulär: 230€ \nSeminargebühr bei Anmeldung bis 31.Juli.2023: 199€ \nAnmeldung bei: Aloka Wunderwald // +491727383860 // info@aloka-yoga.de \n\nAnmeldung und Preise für Unterkunft und Verpflegung\nBitte aktiviere JavaScript in deinem Browser\, um dieses Formular fertigzustellen.Hast du dich bereits beim Veranstalter angemeldet? *JaNeinIch bin einverstanden *Ja\, meine Kontaktdaten dürfen an den Veranstalter weitergegeben werden.Auswahl deines Aufenthaltes *EinzelzimmerPaarbettzimmerDoppelzimmerMehrbettzimmerTagesgast mit VerpflegungWelches Einzelzimmer möchtest du?  *Suite: 412 EUR - großes Apartment mit eigenem Bad\, Wohn-/EssbereichComfort: 292 EUR  - Zimmer mit eigenem BadStandard: 272 EUR  - Zimmer mit geteiltem Bad(Preis für gesamte Zeit pro Person inkl. Verpflegung)Welches Paarbettzimmer möchtest du?  *Comfort: 242 EUR p.P. - Doppelbelegung im kl. Z.\, Kuschelbett (140er)+eigen. BadStandard: 226 EUR p.P. - Doppelbelegung im kl. Z.\, Kuschelbett (140er)+geteilt. Bad(Preis für gesamte Zeit pro Person inkl. Verpflegung)Welches Doppelzimmer möchstes du?  *Suite: 312 EUR p.P. - Doppelbelegung im großen ApartmentDeluxe: 292 EUR p.P. - Doppelbelegung großes Zimmer mit eigenem BadStandard: 252 EUR p.P. - Doppelbelegung im Zimmer mit geteiltes Bad(Preis für gesamte Zeit pro Person inkl. Verpflegung)Welches Mehrbettzimmer möchtest du? *Comfort: 226 EUR - max. 4 Bettzimmer mit eigenem BadZelt-\, Stellplatz: 186 EUR - Kissen & Schlafsack mitbringen (Preis für gesamte Zeit pro Person inkl. Verpflegung)Welche Tagesgast-Variante möchtest wählen?  *166 EUR inkl. Frühstück-\, Mittag- und Abendbuffet142 EUR inkl. Mittag- und Abendbuffet96 EUR inkl. Mittagbuffet(Preis für die gesamte Zeit pro Person)Dein erster alternativer Zimmerwunsch *Bitte unbedingt angeben!Comfort + : 312 EUR - Zimmer mit eig. Bad (1\,40m breitem Bett)Einzelzimmer Standard: 272 EUR pro Person - Zimmer mit geteilt. BadPaarbettzimmer Standard: 226 EUR pro Person - Kuschelbett (140er) für 2 mit geteilt. BadDoppelzimmer Standard: 252 EUR pro Person - Doppelbelegung mit geteilt. BadMehrbettzimmer Comfort: 226 EUR pro Person - 4 Bettzimmer mit eigen. BadZelt-/Stellplatz: 186 EUR p.P.- Kissen & Schlafsack mitbringen*Unsere Zimmer sind teilweise sehr schnell ausgebucht. Gib hier bitte eine Alternative an\, falls dein erster Zimmerwunsch schon belegt ist.Dein zweiter alternativer Zimmerwunsch *Bitte unbedingt angeben!Comfort + : 312 EUR - Zimmer mit eig. Bad (1\,40m breitem Bett)Doppelzimmer Standard: 252 EUR pro Person- Doppelbelegung mit geteilt. BadMehrbettzimmer Comfort: 226 EUR pro Person- 4 Bettzimmer mit eigen. BadStellplatz: 186 EUR pro Person- Kissen & Schlafsack mitbringenTagesgast mit selbst organisierter Übernachtung in der NäheWenn mein Wunschzimmer nicht frei ist\, komme ich nicht.*Ja\, unsere Zimmer gehen teilweise weg wie warme Semmeln. Ein zweiter Zimmerwunsch ist hier wichtig!Welche Variante möchtest du als Tagesgast wählen? (Preis für die gesamte Zeit pro Person) *166 EUR inkl. Frühstück-\, Mittag- und Abendbuffet142 EUR inkl. Mittag- und Abendbuffet96 EUR inkl. MittagbuffetNachricht ans TeamIch habe eine persönliche Nachricht ans TeamMeine Nachricht ans Team *Vorname *Nachname *Vor- und Nachname deines Partners *Möchtest du mit einer bestimmten Person ins Doppelzimmer? *Straße und Hausnummer *Hausnummer *PLZ *Ort *TelefonnummerE-Mail *AGB *Ich bestätige die Teilnahme- & Stornobedingungen des Seminars wie o.a.  sowie die AGB des Seminarhauses.Datenschutzbestimmungen *Ich habe die Datenschutzerklärung gelesen und stimme zu.PhoneBuchungsanfrage abschicken
URL:https://sampurna-seminarhaus.de/event/wohlfuehl-wochenende-fuer-frauen-in-den-wechseljahren-2/
LOCATION:Seminarhaus Sampurna\, Am Tiergarten 1\, Schlangenbad-Bärstadt\, Hessen\, 65388\, Deutschland
CATEGORIES:Seminar
ATTACH;FMTTYPE=image/jpeg:https://sampurna-seminarhaus.de/wp-content/uploads/2023/06/alokas-frauen-workshop-581000e05c04302a7dc7b299ce9bd6f2-e1686727827905.jpeg
ORGANIZER;CN="Aloka Wunderwald":MAILTO:info@aloka-yoga.de
END:VEVENT
BEGIN:VEVENT
DTSTART;TZID=Europe/Berlin:20241011T150000
DTEND;TZID=Europe/Berlin:20241013T150000
DTSTAMP:20260420T171337
CREATED:20240509T065104Z
LAST-MODIFIED:20240907T144145Z
UID:10000989-1728658800-1728831600@sampurna-seminarhaus.de
SUMMARY:Yoga & Sound
DESCRIPTION:Gönne dir eine Auszeit voller Ruhe und Entspannung\, während Anna und Ilonka dich einladen\, dem Alltag zu entfliehen und ganz für dich selbst zu sein.\nGenieße ein Wochenende gefüllt mit sanftem Vinyasa- und Yin- Yoga\, beruhigenden Klängen von Soundbaths und einem gemeinsamen Kirtanabend.\nErlebe ein Wochenende\, das Körper\, Geist und Seele in Einklang bringt\, während wir gemeinsam eine wundervolle Zeit voller Entspannung und persönlichem Wachstum verbringen.\nUnser Wunsch ist es\, einen sicheren Ort zu schaffen\, an dem du dich geborgen fühlst und frei bist\, dich selbst zu entdecken und zu entfalten. \nAblaufplan \nVoraussetzung für die Teilnahme \nUnser Retreat ist für alle Level geeignet – wir freuen uns über jeden Menschen\, der zu uns findet! \n\nSeminarleitung\n \nIlonka Halm \nIlonkas Herzenswunsch ist es\, all die positiven Facetten von Yoga\, die sie selbst erfahren darf\, an ihre Schülerinnen und Schüler weiterzugeben. Yoga ist für sie eine ganzheitliche Praxis von Body\, Mind und Soul\, die weit über die Matte hinausgeht. Mit dem eigenen Herzen ganz im Einklang zu sein\, das möchte Ilonka in ihren Prana Vinyasa Flow® und Yin Yoga Stunden gerne an dich weitergeben. \nhttps://www.yoga-ilonka.de \n \nAnna Bosch \nAnna ist eine erfahrene Yogalehrerin mit umfassender Ausbildung in verschiedenen Yoga-Stilen wie Vinyasa\, Prana Vinyasa Flow® und Yin Yoga sowie Yoga-Therapie (E-RYT 200\, RYT 500). Sie schöpft Inspiration aus Bhakti Yoga und der Yoga-Philosophie. Ihre Leidenschaft ist es\, andere auf dem Weg zu ganzheitlichem Wohlbefinden zu begleiten. Anna bietet eine einzigartige Erfahrung durch eine sorgfältige Kombination aus Yoga\, Kirtan und Soundhealing. \nhttps://www.yoga-sattva.com \n\nPreise & Anmeldung zum Seminar\nSeminargebühr:  250€ \nBei Anmeldung bis 15.Juli.2024: 210€ \nAnmeldung bei: Ilonka Halm // +491715766409 // retreat@yoga-ilonka.de \n\nPreise und Anmeldung für Tagesgäste und Unterkunft und Verpflegung\nBitte aktiviere JavaScript in deinem Browser\, um dieses Formular fertigzustellen.Hast du dich bereits beim Veranstalter angemeldet? *JaNeinIch bin einverstanden *Ja\, meine Kontaktdaten dürfen an den Veranstalter weitergegeben werden.Auswahl deines Aufenthaltes *EinzelzimmerPaarbettzimmerDoppelzimmerMehrbettzimmerTagesgast mit VerpflegungWelches Einzelzimmer möchtest du?  *Suite: 412 EUR - großes Apartment mit eigenem Bad\, Wohn-/EssbereichComfort +: 312 EUR - Zimmer mit eigenem Bad und 140er BettComfort: 292 EUR  - Zimmer mit eigenem BadStandard: 272 EUR  - Zimmer mit geteiltem Bad(Preis für gesamte Zeit pro Person inkl. Verpflegung)Welches Paarbettzimmer möchtest du?  *Comfort: 242 EUR p.P. - Doppelbelegung im kl. Z.\, Kuschelbett (140er)+eigen. BadStandard: 226 EUR p.P. - Doppelbelegung im kl. Z.\, Kuschelbett (140er)+geteilt. Bad(Preis für gesamte Zeit pro Person inkl. Verpflegung)Welches Doppelzimmer möchstes du?  *Suite: 312 EUR p.P. - Doppelbelegung im großen ApartmentDeluxe: 292 EUR p.P. - Doppelbelegung großes Zimmer mit eigenem BadStandard: 252 EUR p.P. - Doppelbelegung im Zimmer mit geteiltes Bad(Preis für gesamte Zeit pro Person inkl. Verpflegung)Welches Mehrbettzimmer möchtest du? *Comfort: 226 EUR - max. 4 Bettzimmer mit eigenem BadZelt-\, Stellplatz: 186 EUR - Kissen & Schlafsack mitbringen (Preis für gesamte Zeit pro Person inkl. Verpflegung)Welche Tagesgast-Variante möchtest wählen?  *166 EUR inkl. Frühstück-\, Mittag- und Abendbuffet142 EUR inkl. Mittag- und Abendbuffet96 EUR inkl. Mittagbuffet(Preis für die gesamte Zeit pro Person)Dein erster alternativer Zimmerwunsch *Bitte unbedingt angeben!Einzelzimmer Standard: 272 EUR pro Person - Zimmer mit geteilt. BadComfort +: 312 EUR - Zimmer mit eigenem Bad und 140er BettComfort: 292 EUR  - Zimmer mit eigenem BadPaarbettzimmer Standard: 226 EUR pro Person - Kuschelbett (140er) für 2 mit geteilt. BadDoppelzimmer Standard: 252 EUR pro Person - Doppelbelegung mit geteilt. BadMehrbettzimmer Comfort: 226 EUR pro Person - 4 Bettzimmer mit eigen. BadZelt-/Stellplatz: 186 EUR p.P.- Kissen & Schlafsack mitbringen*Unsere Zimmer sind teilweise sehr schnell ausgebucht. Gib hier bitte eine Alternative an\, falls dein erster Zimmerwunsch schon belegt ist.Welche Variante möchtest du als Tagesgast wählen? (Preis für die gesamte Zeit pro Person) *166 EUR inkl. Frühstück-\, Mittag- und Abendbuffet142 EUR inkl. Mittag- und Abendbuffet96 EUR inkl. MittagbuffetNachricht ans TeamIch habe eine persönliche Nachricht ans TeamMeine Nachricht ans Team *Vorname *Nachname *Vor- und Nachname deines Partners *Möchtest du mit einer bestimmten Person ins Doppelzimmer? *Straße und Hausnummer *Hausnummer *PLZ *Ort *TelefonnummerE-Mail *AGB *Ich bestätige die Teilnahme- & Stornobedingungen des Seminars wie o.a.  sowie die AGB des Seminarhauses.Datenschutzbestimmungen *Ich habe die Datenschutzerklärung gelesen und stimme zu.WebsiteBuchungsanfrage abschicken
URL:https://sampurna-seminarhaus.de/event/yoga-sound/
LOCATION:Seminarhaus Sampurna\, Am Tiergarten 1\, Schlangenbad-Bärstadt\, Hessen\, 65388\, Deutschland
CATEGORIES:Seminar
ATTACH;FMTTYPE=image/jpeg:https://sampurna-seminarhaus.de/wp-content/uploads/2024/05/titel-scaled-e1715237768629.jpg
ORGANIZER;CN="Ilonka Halm":MAILTO:retreat@yoga-ilonka.de
END:VEVENT
BEGIN:VEVENT
DTSTART;TZID=Europe/Berlin:20241011T160000
DTEND;TZID=Europe/Berlin:20241013T160000
DTSTAMP:20260420T171337
CREATED:20231218T112203Z
LAST-MODIFIED:20240306T081802Z
UID:10000927-1728662400-1728835200@sampurna-seminarhaus.de
SUMMARY:Soulsister Festival Retreat - Rising Leaders
DESCRIPTION:Das Soulsister Festival Retreat ist ein Raum für weibliches Empowerment\, in dem wir dich dabei unterstützen\, deine innere Wahrheit zu erkennen und selbstbewusst für diese einzustehen. \nUnser diesjähriges Motto: Rise into your Sacred Female Leadership Power \nDas Retreat ist genau das Richtige für dich\, wenn: \n\nAuch du spürst\, dass es an der Zeit ist\, in deine wahre Größe zu erwachen\nDu dich nicht mehr länger kleiner machen willst\, als du in Wahrheit bist\nDu dich nicht mehr länger kleiner machen willst\, als du in Wahrheit bist\nDu endlich für dich und deine Wahrheit und deine Träume losgehen willst ohne ständig an dir und deinen Fähigkeiten zu zweifeln\nTanke Selbstbewusstsein und Selbstvertrauen\nErkenne deine tiefsten Wahrheiten und finde Mut\, für diese einzustehen\nLöse dich von deiner Angst nicht gut genug zu sein oder von anderen für deine Vorhaben abgelehnt zu werden\nWerde zur Leaderin der neuen Zeit\, die mutig und selbstbewusst voran geht und anderen zum Vorbild wird.Dich erwarten empowernde Embodiment Workshops\, berührende Women Circles\, musikalische Live-Begleitung einer professionellen Musikerin\, pure Sisterhood\, tiefe Verbundenheit\, Live-Zeremonien\, Yoga und Ecstatic Dance.Wir freuen uns auf dich!\n\nVoraussetzung für die Teilnahme \nErfahrung mit Persönlichkeitsentwicklung und oder Spiritualität \nVideo\n\nSeminarleitung\n \nChristine Florentine Fetzberger \nChristine ist Female Empowerment & Soul Business Mentorin. Seit Jahren gehört ihr Herz und jede Tätigkeit\, der sie nachgeht\, vollkommen der Frauenarbeit\, vollkommen dem Erwachen des weiblichen Potenzials in jeder Frau. Weil sie weiß\, wie viele unentdeckte Schätze\, in jeder Frau stecken\, die so dringend gelebt werden wollen. Du darfst dich auf transformierende innere Arbeit hinein in deine Leaderinnenrolle der neuen Zeit mit Christine Florentine freuen. \nhttp://www.christineflorentine.de \n \nRegina Maria Selvestrel \nRegina bedeutet Königin und viele Jahre hat sie unbewusst ihre Macht an andere abgegeben und sich regieren lassen. Seit sie wieder ihre „Regentschaft“ übernommen hat\, zeigt sie dir in ihren Workshops und Einzelgesprächen\, wie du durch wahres Bewusstsein wieder machtvoll und selbstbestimmt leben kannst. Lass dich von ihrer Power inspirieren. Auch finde mit ihr heraus\, in welchem Bereich deines Lebensrads du noch mehr mehr in deine Leaderinnenkraft kommen darfst. \nhttp://www.connect-and-grow.de/ \n  \n\nAnmeldung und Seminarkosten\nSeminargebühr regulär: 399€ zzgl. MwSt \nSeminargebühr Super Early Bird ( bis 15.06.24 ) : 229€ zzgl. MwSt \nSeminargebühr Early Bird (bis 30.8.24): 349 EUR zzgl. MwSt. \n  \nAnmeldung bei : Christine Fetzberger // Tel. +491622426963 // email:hallo@christineflorentine.de \n\nAnmeldung & Preise für Unterkunft & Verpflegung im Seminarhaus
URL:https://sampurna-seminarhaus.de/event/soulsister-festival-retreat-rising-leaders/
LOCATION:Seminarhaus Sampurna\, Am Tiergarten 1\, Schlangenbad-Bärstadt\, Hessen\, 65388\, Deutschland
CATEGORIES:Seminar
ATTACH;FMTTYPE=image/png:https://sampurna-seminarhaus.de/wp-content/uploads/2023/12/Banner-e1709624022250.png
ORGANIZER;CN="Christine Florentine Fetzberger":MAILTO:hallo@christineflorentine.de
END:VEVENT
END:VCALENDAR