BEGIN:VCALENDAR
VERSION:2.0
PRODID:-//Sampurna Seminarhaus - ECPv6.10.1.1//NONSGML v1.0//EN
CALSCALE:GREGORIAN
METHOD:PUBLISH
X-ORIGINAL-URL:https://sampurna-seminarhaus.de
X-WR-CALDESC:Veranstaltungen für Sampurna Seminarhaus
REFRESH-INTERVAL;VALUE=DURATION:PT1H
X-Robots-Tag:noindex
X-PUBLISHED-TTL:PT1H
BEGIN:VTIMEZONE
TZID:Europe/Berlin
BEGIN:DAYLIGHT
TZOFFSETFROM:+0100
TZOFFSETTO:+0200
TZNAME:CEST
DTSTART:20240331T010000
END:DAYLIGHT
BEGIN:STANDARD
TZOFFSETFROM:+0200
TZOFFSETTO:+0100
TZNAME:CET
DTSTART:20241027T010000
END:STANDARD
END:VTIMEZONE
BEGIN:VEVENT
DTSTART;TZID=Europe/Berlin:20240913T163000
DTEND;TZID=Europe/Berlin:20240915T170000
DTSTAMP:20260420T171448
CREATED:20231217T114037Z
LAST-MODIFIED:20231217T150118Z
UID:10000926-1726245000-1726419600@sampurna-seminarhaus.de
SUMMARY:Rheingauer Energie-Tage 4.0
DESCRIPTION:Wird es Zeit\, das Leben jeden Tag wertvoll zu gestalten? \nDefinitiv! Und an diesem Wochenende legen wir genau dafür den Grundstein! Du wirst in einer kleinen\, geschützten Gruppe von maximal 12 Teilnehmer:innen Energie tanken\, Kraft sammeln und nach 3 Tagen entspannt viele wertvolle Tools und Impulse mit nach Hause nehmen! \nWas Du bei diesem Workshop erwarten darfst sind… \n…wertvolle Ernährungs-Impulse für Körper\, Geist und Seele\n…Dein persönliches Energie-Diagramm nach den 5 Elementen (TCM) mit Analyse\n…einfache Techniken und Meditationen für mehr Energie & Balance\n…achtsame Gespräche zum Reflektieren\n…viel Raum für Entspannung\, Pause und Entschleunigung\n…eine Klangschalen-Energie-Reise\n…Mindset-Wissen über die Kraft von Gedanken\, Gefühlen\, Gewohnheiten und Motivation\n…optional: Eine sanfte Ak(k)upressur-Erfahrung oder ein Weinberg-Spaziergang im Rheingau \nDer Workshop wird Dir helfen\, Dein Leben aktiv zu gestalten\, kraftvolle Gewohnheiten in den Alltag zu etablieren sowie kreativ\, selbstbewusst und mit lustvoller Verantwortung von der Neben- in die Hauptrolle zu schlüpfen. Es wird Zeit\, Dein Leben jeden Tag wertvoll zu gestalten! \nVoraussetzung für die Teilnahme \nFreude an persönlicher Entwicklung in einem entspannten und achtsamen Rahmen! \nLust auf viele entspannende sowie magische Momente! \nAnsonsten gibt es keine Voraussetzungen! \n\nSeminarleitung\nNicole Butschbach \n \nStaatlich geprüfte Diätassistentin | Langjährige Berufserfahrung in Reha-Kliniken | Seit 2005 tätig im Klinikzentrum Lindenallee mit Schwerpunkt Psychosomatik\, Orthopädie und Neurologie | Ernährungsberatung\, Koch-Kurse\, Vorträge sowie Ernährungs-Coaching bei psychosomatischen Erkrankungen | 45 Jahre alt | 2 Töchter | Zuhause in Heidenrod \nRalf Hermann \n \nZertifizierter Gesundheitspraktiker für Vitalität & Entspannung (DGAM/BfG)\, QiGong-Kursleiter\, Reiki-Meister | Langjährige Erfahrung in der Vermittlung von Entspannungs- sowie Achtsamkeits-Übungen auf Basis der 5 Elemente-Lehre der TCM | Unter anderem tätig in der Reha-Klinik „Landhaus Fernblick“ in Winterberg für pflegende Angehörige | 49 Jahre alt | 2 Söhne | Zuhause in Winterberg und Heidenrod \nhttps://www.balance-visionaere.de \n\nSeminargebühr und Anmeldung zum Seminar:\nSeminargebühr:  250€ \nAnmeldung bei: Die Balance-Visionäre // +4929815993603 // post@balance-visionaere.de \n\nAnmeldung & Preise für Unterkunft & Verpflegung:\nBitte aktiviere JavaScript in deinem Browser\, um dieses Formular fertigzustellen.Hast du dich bereits beim Veranstalter angemeldet? *JaNeinIch bin einverstanden *Ja\, meine Kontaktdaten dürfen an den Veranstalter weitergegeben werden.Auswahl deines Aufenthaltes *EinzelzimmerPaarbettzimmerDoppelzimmerMehrbettzimmerTagesgast mit VerpflegungWelches Einzelzimmer möchtest du?  *Suite: 412 EUR - großes Apartment mit eigenem Bad\, Wohn-/EssbereichComfort + : 312 EUR - Zimmer mit eig. Bad (1\,40m breitem Bett)Comfort: 292 EUR  - Zimmer mit eigenem BadStandard: 272 EUR  - Zimmer mit geteiltem Bad(Preis für gesamte Zeit pro Person inkl. Verpflegung)Welches Paarbettzimmer möchtest du?  *Comfort: 242 EUR p.P. - Doppelbelegung im kl. Z.\, Kuschelbett (140er)+eigen. BadStandard: 226 EUR p.P. - Doppelbelegung im kl. Z.\, Kuschelbett (140er)+geteilt. Bad(Preis für gesamte Zeit pro Person inkl. Verpflegung)Welches Doppelzimmer möchstes du?  *Suite: 312 EUR p.P. - Doppelbelegung im großen ApartmentDeluxe: 292 EUR p.P. - Doppelbelegung großes Zimmer mit eigenem BadStandard: 252 EUR p.P. - Doppelbelegung im Zimmer mit geteiltes Bad(Preis für gesamte Zeit pro Person inkl. Verpflegung)Welches Mehrbettzimmer möchtest du? *Comfort: 226 EUR - max. 4 Bettzimmer mit eigenem BadZelt-\, Stellplatz: 186 EUR - Kissen & Schlafsack mitbringen (Preis für gesamte Zeit pro Person inkl. Verpflegung)Welche Tagesgast-Variante möchtest wählen?  *166 EUR inkl. Frühstück-\, Mittag- und Abendbuffet142 EUR inkl. Mittag- und Abendbuffet96 EUR inkl. Mittagbuffet(Preis für die gesamte Zeit pro Person)Dein erster alternativer Zimmerwunsch *Bitte unbedingt angeben!Comfort Plus : 312 EUR - Zimmer mit eig. Bad (1\,40m breitem Bett)Comfort: 292 EUR  - Zimmer mit eigenem BadEinzelzimmer Standard: 272 EUR pro Person - Zimmer mit geteilt. BadPaarbettzimmer Standard: 226 EUR pro Person - Kuschelbett (140er) für 2 mit geteilt. BadDoppelzimmer Standard: 252 EUR pro Person - Doppelbelegung mit geteilt. BadMehrbettzimmer Comfort: 226 EUR pro Person - 4 Bettzimmer mit eigen. BadZelt-/Stellplatz: 186 EUR p.P.- Kissen & Schlafsack mitbringen*Unsere Zimmer sind teilweise sehr schnell ausgebucht. Gib hier bitte eine Alternative an\, falls dein erster Zimmerwunsch schon belegt ist.Welche Variante möchtest du als Tagesgast wählen? (Preis für die gesamte Zeit pro Person) *166 EUR inkl. Frühstück-\, Mittag- und Abendbuffet142 EUR inkl. Mittag- und Abendbuffet96 EUR inkl. MittagbuffetNachricht ans TeamIch habe eine persönliche Nachricht ans TeamMeine Nachricht ans Team *Vorname *Nachname *Vor- und Nachname deines Partners *Möchtest du mit einer bestimmten Person ins Doppelzimmer? *Straße und Hausnummer *Hausnummer *PLZ *Ort *Telefonnummer *E-Mail *AGB *Ich bestätige die Teilnahme- & Stornobedingungen des Seminars wie o.a.  sowie die AGB des Seminarhauses.Datenschutzbestimmungen *Ich habe die Datenschutzerklärung gelesen und stimme zu.NameBuchungsanfrage abschicken
URL:https://sampurna-seminarhaus.de/event/rheingauer-energie-tage-4-0/
LOCATION:Seminarhaus Sampurna\, Am Tiergarten 1\, Schlangenbad-Bärstadt\, Hessen\, 65388\, Deutschland
CATEGORIES:Seminar
ATTACH;FMTTYPE=image/jpeg:https://sampurna-seminarhaus.de/wp-content/uploads/2023/12/Schoene-Aussicht-auf-den-Rheingau-0bc2cfd5aa4b3ae55e164e7b557da27d-e1702813118652.jpeg
ORGANIZER;CN="Die Balance-Vision%C3%A4re Nicole & Ralf":MAILTO:post@balance-visionaere.de
END:VEVENT
BEGIN:VEVENT
DTSTART;TZID=Europe/Berlin:20240913T170000
DTEND;TZID=Europe/Berlin:20240915T150000
DTSTAMP:20260420T171448
CREATED:20230813T134908Z
LAST-MODIFIED:20240115T141238Z
UID:10000888-1726246800-1726412400@sampurna-seminarhaus.de
SUMMARY:Weg nach Innen – Eine Reise zu deinem Selbst (Meditation meets YIN YOGA)
DESCRIPTION:Jenseits aller Worte liegt die Stille.\nDie Stille\, aus der alles entsteht. \n  \nIn diesem Seminar findest du den Kontakt sowohl zu deinem inneren Energiekörper als auch die Verbindung zur Quelle allen Seins. Du lernst deinen Energiekörper zu fühlen und in Balance zu bringen. In einem Zustand der Gedankenfreiheit öffnet sich der Raum der Stille und Weisheit. \nIn diesem Seminar tauchen wir ein in die Themenfelder: \n\nKundalini und ihre mütterliche sanfte Kraft\nEnergiekörper und seine Funktion\nEnergiebahnen (Nadis) und Energiezentren (Chakras)\ndas vibratorische (kosmische) Bewusstsein\n\nDas Highlight dieses Seminars wird die vedische Feuerzeremonie „Havan“ sein. Sie unterstützt dich\, alte Dinge loszulassen\, energetische Blockaden zu lösen und Raum für Neues in deinem Leben zu schaffen. \nUm die Integration der Inhalte direkt auf körperlicher Ebene stattfinden zu lassen\, wird das Seminar durch tolle YIN YOGA Stunden mit Sabina Ihrig begleitet. \nDu hast bereits angefangen deinen spirituellen Weg zu gehen oder spürst den Ruf in dir\, dann bist du in diesem Seminar genau richtig. Dieses Seminar ist außerdem die perfekte Ergänzung zu unserem Einsteiger-Kurs\, von unserer Online-Akademie www.nirmalayoga.de. \n  \n\nSeminarziele\n\nRuhe – Introspektion – Retreat\nErkenntnis des „Selbst“ im eigenen Bewusstsein.\nEinklang mit sich selbst\nWeg zum inneren Meister/ zur inneren Meisterin\nEinklang mit den Elementen – wie kann ich die Elemente für mich arbeiten lassen\nErweckung der Kundalini – Energie\nErleuchtung der inneren Centren – Chakras\nNirvichara Samadi – höchstes\, gedankenfreies Bewusstsein\n\n\nTeilnahmevoraussetzung\nEs sind keine Vorkenntnisse nötig.\nMeditationserfahrung ist hilfreich\, aber nicht notwendig.\nGeeignet auch für Teilnehmer/innen des Einsteiger-Online-Kurses bei nirmalayoga.de. \n\nSeminarleitung:\nSven-Oliver Engel \n \nDer Seminarleiter Sven Oliver Engel\, geb. 21.09.1966 in Hamburg\, hatte durch eine Nahtoderfahrung 1986 die Gelegenheit auf „die andere Seite“ zu schauen. Die spirituellen Impulse\, die er von dort bekam\, hat er in jahrelangen Selbstversuchen und Studien  sortiert und verarbeitet. Von 1990 bis 1994 studierte er Philosophie an der Gutenberg Universität in Mainz\, mit Schwerpunkte Buddhismus und indische Philosophie und Theologie. Bereits 1991 lernte er die indische Großmeisterin und Heilige Sri Mataji Nirmala Devi persönlich kennen\, die mit Ihrer Lehre von „Sahaja Samadi“ seinen spirituellen Weg wesentlich beeinflusste.  Seit 25 Jahren hält er Vorträge und Seminare zum Thema Yoga und Meditation\, Stressmanagement und Stressbewältigung durch Meditation. \n  \n\nSeminargebühr\nEs fällt keine Seminargebühr an. Spenden in Höhe von 50 bis 100 EUR sind willkommen. Diese werden z.Z. zum Ausbau der Online-Akademie eingesetzt. \n\nPreise und Anmeldung für Unterkunft und Verpflegung\nBitte aktiviere JavaScript in deinem Browser\, um dieses Formular fertigzustellen.Auswahl deines Aufenthaltes *EinzelzimmerDoppelzimmerMehrbettzimmerTagesgast mit VerpflegungWelches Einzelzimmer möchtest du?  *Comfort Plus : 332 EUR - Zimmer mit eig. Bad (1\,40m breitem Bett)Comfort: 312 EUR  - Zimmer mit eigenem BadStandard: 292 EUR  - Zimmer mit geteiltem Bad(Preis für gesamte Zeit pro Person inkl. Verpflegung)Welches Doppelzimmer möchstes du?  *Deluxe: 312 EUR p.P. - Doppelbelegung großes Zimmer mit eigenem BadStandard: 272 EUR p.P. - Doppelbelegung im Zimmer mit geteiltes Bad(Preis für gesamte Zeit pro Person inkl. Verpflegung)Welches Mehrbettzimmer möchtest du? *Comfort: 246 EUR - max. 4 Bettzimmer mit eigenem BadZelt-\, Stellplatz: 206 EUR (Preis für gesamte Zeit pro Person inkl. Verpflegung)Welche Tagesgast-Variante möchtest du wählen?  *186 EUR inkl. Frühstück-\, Mittag- und Abendbuffet162 EUR inkl. Mittag- und Abendbuffet116 EUR inkl. Mittagbuffet(Preis für die gesamte Zeit pro Person)Dein erster alternativer Zimmerwunsch *Bitte unbedingt angeben!Comfort + : 332 EUR - Zimmer mit eig. Bad (1\,40m breitem Bett)Comfort: 312 EUR  - Zimmer mit eigenem BadEinzelzimmer Standard: 292 EUR pro Person - Zimmer mit geteilt. BadMehrbettzimmer Comfort: 246 EUR pro Person - 4 Bettzimmer mit eigen. BadZelt-/Womoplatz: 206 EUR pro Person-*Unsere Zimmer sind teilweise sehr schnell ausgebucht. Gib hier bitte eine Alternative an\, falls dein erster Zimmerwunsch schon belegt ist.Nachricht ans TeamIch habe eine persönliche Nachricht ans TeamMeine Nachricht ans Team *Vorname *Nachname *Vor- und Nachname deines Partners *Möchtest du mit einer bestimmten Person ins Doppelzimmer? *Straße und Hausnummer *Hausnummer *PLZ *Ort *TelefonnummerE-Mail *AGB *Ich bestätige die Teilnahme- & Stornobedingungen des Seminars wie o.a.  sowie die AGB des Seminarhauses.Datenschutzbestimmungen *Ich habe die Datenschutzerklärung gelesen und stimme zu.MessageBuchungsanfrage abschicken
URL:https://sampurna-seminarhaus.de/event/der-weg-nach-innen-eine-reise-zu-dir-selbst/
LOCATION:Hessen
CATEGORIES:Seminar
ATTACH;FMTTYPE=image/jpeg:https://sampurna-seminarhaus.de/wp-content/uploads/2023/08/Erweckungsmedi-Newsletter-e1691934132804.jpeg
ORGANIZER;CN="Sven-Oliver Engel":MAILTO:sven-oliver@nirmalayoga.de
END:VEVENT
BEGIN:VEVENT
DTSTART;TZID=Europe/Berlin:20240913T170000
DTEND;TZID=Europe/Berlin:20240915T150000
DTSTAMP:20260420T171448
CREATED:20240306T081122Z
LAST-MODIFIED:20240315T122000Z
UID:10000976-1726246800-1726412400@sampurna-seminarhaus.de
SUMMARY:Auszeit nehmen – Innehalten und Kraft schöpfen - Energiewochenende mit Qigong & Tao-Meditation
DESCRIPTION:An diesem Wochenende tauchen wir tief in die Praktiken des Qigong ein – eine der ältesten Heil- und Vorbeugungsmethoden der traditionellen Chinesischen Medizin.\nDurch leicht zu erlernende Übungen wird unsere Lebenskraft „Qi“ angeregt und vermehrt und wir fördern so Gesundheit\, Vitalität\, Ausgeglichenheit und Lebensfreude. \nMit einfachen\, harmonischen Bewegungsabläufen\, Eigenmassage- und Zentrierungsübungen und taoistischen Meditationen\n• Loslassen und tief entspannen\n• Meridiansystem und Selbstheilungskräfte aktivieren\n• Spannungen und Blockaden lösen – alles in’s Fließen bringen\n• wieder in die Mitte kommen und neue\, innere Kräfte aktivieren\n• Unterstützt von heilsamen ätherischen Ölen und Klängen \nWas nehmen Sie mit ?\n• Sie entwickeln Bewusstsein dafür\, welche Möglichkeiten Ihnen diese Methoden und Übungen eröffnen\n• Sie erhalten Übungen\, die Sie leicht in Ihren Alltag integrieren können\n• Sie tanken auf und kommen gestärkt – im Innen wie im Außen- und zentriert in Ihren Alltag zurück\n• Sie kommen „in Fluss“ und legen die Basis für mehr Vitalität und Lebensfreude. \nWir werden eine kleine Gruppe mit max. 8 Teilnehmenden sein. \nAblaufplan \nVoraussetzung für die Teilnahme \nFür alle\, die sich selbst etwas Gutes tun wollen – für Anfänger gleichermaßen wie für Qigong-Erfahrene geeignet. \n\nSeminarleitung\n \nAnnette Burkhardt \nZertifizierte Lehrerin für Qigong seit 2005\, 2-jährige Ausbildung im Authentischen Medizinischen Qigong bei dem Chinesischen Großmeister Qingshan Liu\, Münchener Qigong-Akademie; seither fortlaufende Weiterbildungen.\nIch begleite Sie ganzheitlich\, mit viel Herz\, Empathie und Leichtigkeit und einer breitgefächerten Schatzkiste zu den Themen\, Prävention und Regeneration\, Resilienz und Persönlichkeitsentwicklung. \nhttps://www.annette-burkhardt.com/ \n  \n\nAnmeldung zum Seminar und Seminargebühr\nSeminargebühr regulär : 210 € \nAnmeldung bei: Annette Burkhardt// +4915208884447 // kontakt@annette-burkhardt.com \n\nAnmeldung und Preise für Unterkunft und Verpflegung\nBitte aktiviere JavaScript in deinem Browser\, um dieses Formular fertigzustellen.Hast du dich bereits beim Veranstalter angemeldet? *JaNeinIch bin einverstanden *Ja\, meine Kontaktdaten dürfen an den Veranstalter weitergegeben werden.Auswahl deines Aufenthaltes *EinzelzimmerPaarbettzimmerDoppelzimmerMehrbettzimmerTagesgast mit VerpflegungWelches Einzelzimmer möchtest du?  *Suite: 412 EUR - großes Apartment mit eigenem Bad\, Wohn-/EssbereichComfort Plus : 312 EUR - Zimmer mit eig. Bad (1\,40m breitem Bett)Comfort: 292 EUR  - Zimmer mit eigenem BadStandard: 272 EUR  - Zimmer mit geteiltem Bad(Preis für gesamte Zeit pro Person inkl. Verpflegung)Welches Paarbettzimmer möchtest du?  *Comfort: 242 EUR p.P. - Doppelbelegung im kl. Z.\, Kuschelbett (140er)+eigen. BadStandard: 226 EUR p.P. - Doppelbelegung im kl. Z.\, Kuschelbett (140er)+geteilt. Bad(Preis für gesamte Zeit pro Person inkl. Verpflegung)Welches Doppelzimmer möchstes du?  *Suite: 312 EUR p.P. - Doppelbelegung im großen ApartmentDeluxe: 292 EUR p.P. - Doppelbelegung großes Zimmer mit eigenem BadStandard: 252 EUR p.P. - Doppelbelegung im Zimmer mit geteiltes Bad(Preis für gesamte Zeit pro Person inkl. Verpflegung)Welches Mehrbettzimmer möchtest du? *Comfort: 226 EUR - max. 4 Bettzimmer mit eigenem BadZelt-\, Stellplatz: 186 EUR - Kissen & Schlafsack mitbringen (Preis für gesamte Zeit pro Person inkl. Verpflegung)Welche Tagesgast-Variante möchtest wählen?  *166 EUR inkl. Frühstück-\, Mittag- und Abendbuffet142 EUR inkl. Mittag- und Abendbuffet96 EUR inkl. Mittagbuffet(Preis für die gesamte Zeit pro Person)Dein erster alternativer Zimmerwunsch *Bitte unbedingt angeben!Comfort + : 312 EUR - Zimmer mit eig. Bad (1\,40m breitem Bett)Comfort: 292 EUR  - Zimmer mit eigenem BadEinzelzimmer Standard: 272 EUR pro Person - Zimmer mit geteilt. BadPaarbettzimmer Standard: 226 EUR pro Person - Kuschelbett (140er) für 2 mit geteilt. BadDoppelzimmer Standard: 252 EUR pro Person - Doppelbelegung mit geteilt. BadMehrbettzimmer Comfort: 226 EUR pro Person - 4 Bettzimmer mit eigen. BadZelt-/Stellplatz: 186 EUR p.P.- Kissen & Schlafsack mitbringen*Unsere Zimmer sind teilweise sehr schnell ausgebucht. Gib hier bitte eine Alternative an\, falls dein erster Zimmerwunsch schon belegt ist.Welche Variante möchtest du als Tagesgast wählen? (Preis für die gesamte Zeit pro Person) *166 EUR inkl. Frühstück-\, Mittag- und Abendbuffet142 EUR inkl. Mittag- und Abendbuffet96 EUR inkl. MittagbuffetNachricht ans TeamIch habe eine persönliche Nachricht ans TeamMeine Nachricht ans Team *Vorname *Nachname *Vor- und Nachname deines Partners *Möchtest du mit einer bestimmten Person ins Doppelzimmer? *Straße und Hausnummer *Hausnummer *PLZ *Ort *TelefonEmailadresse *E-Mail *AGB *Ich bestätige die Teilnahme- & Stornobedingungen des Seminars wie o.a.  sowie die AGB des Seminarhauses.Datenschutzbestimmungen *Ich habe die Datenschutzerklärung gelesen und stimme zu.WebsiteBuchungsanfrage abschicken
URL:https://sampurna-seminarhaus.de/event/auszeit-nehmen-innehalten-und-kraft-schoepfen-energiewochenende-mit-qigong-tao-meditation-2/
LOCATION:Seminarhaus Sampurna\, Am Tiergarten 1\, Schlangenbad-Bärstadt\, Hessen\, 65388\, Deutschland
CATEGORIES:Seminar
ATTACH;FMTTYPE=image/jpeg:https://sampurna-seminarhaus.de/wp-content/uploads/2023/04/DSC1614-375e2dc05a65e449eca911f5902c64cf.jpg
ORGANIZER;CN="Annette Burkhardt":MAILTO:kontakt@annette-burkhardt.com
END:VEVENT
END:VCALENDAR