BEGIN:VCALENDAR
VERSION:2.0
PRODID:-//Sampurna Seminarhaus - ECPv6.10.1.1//NONSGML v1.0//EN
CALSCALE:GREGORIAN
METHOD:PUBLISH
X-ORIGINAL-URL:https://sampurna-seminarhaus.de
X-WR-CALDESC:Veranstaltungen für Sampurna Seminarhaus
REFRESH-INTERVAL;VALUE=DURATION:PT1H
X-Robots-Tag:noindex
X-PUBLISHED-TTL:PT1H
BEGIN:VTIMEZONE
TZID:Europe/Berlin
BEGIN:DAYLIGHT
TZOFFSETFROM:+0100
TZOFFSETTO:+0200
TZNAME:CEST
DTSTART:20240331T010000
END:DAYLIGHT
BEGIN:STANDARD
TZOFFSETFROM:+0200
TZOFFSETTO:+0100
TZNAME:CET
DTSTART:20241027T010000
END:STANDARD
END:VTIMEZONE
BEGIN:VEVENT
DTSTART;TZID=Europe/Berlin:20240819T103000
DTEND;TZID=Europe/Berlin:20240825T153000
DTSTAMP:20260420T225026
CREATED:20230119T111903Z
LAST-MODIFIED:20240319T104627Z
UID:10000840-1724063400-1724599800@sampurna-seminarhaus.de
SUMMARY:Breathwork Ausbildung 2024 – Teil 2/2
DESCRIPTION:Dieses Training richtet sich an jene Wesen\, die auf herzzentrierte Weise mit Menschen arbeiten wollen. \nFür jene\, die Brücken zwischen den Welten schlagen. Spüren\, dass es ihre Mission ist\, ein neues Bewusstsein zu verkörpern. \nJene\, die sich gerufen fühlen\, mit der wohl ältesten und einfachsten Medizin auf dem Planeten zu arbeiten… \nAtem \nDiese Ausbildung ist genau das Richtige für dich\, wenn…\n​• Spiritualität und Bewusstseinsarbeit einen zentralen Stellenwert in deinem Leben einnehmen.\n• du nach einem Kanal suchst\, dies professionell mit deinen Mitmenschen zu teilen.\n• du bereits als Coach\, Yogalehrer\, Therapeut oder Seminarleiter tätig bist und Breathwork in dein Feld integrieren willst. \nDich erwarten…\n• 14 intensive Ausbildungstage in Person\, die dir erlauben werden\, die nötige Praxiserfahrung zu sammeln\, um deine Klienten bestmöglich begleiten zu können.\n• 3 monatl. Calls im Praxisteil\, um gemeinsam die Sessions mit deinen ersten Klienten zu reflektieren\n• Mehrere Stunden Videos\, um die Theorie zu festigen\n• 120 Seiten Kurs-Manual\n• Zugang zur Telegram-Community\n• Begleitung durch Daniel während der gesamten Zeit\n• Tiefe Transformation. \nAlle weiteren Informationen über Umfang\, Zeiten\, Voraussetzungen\, Kosten findest du auf der Website unter: https://daniel-alan.com/breathwork-ausbildung \n\nSeminarleitung\n \nDaniel Alan \nDaniel ist ein international agierender Bewusstseins- und Atemtrainer\, spiritueller Mentor und Vater.\nEr ermöglicht es Menschen\, mehr Liebe und klares Verständnis in ihr Leben zu integrieren.\nWas seine Klienten am meisten an ihm schätzen\, ist seine Fähigkeit\, transzendentale Tiefe mit einer spielerischer Einfachheit zu verbinden.\nSein ausgiebiges Training in Yoga\, Coaching\, Energie- und Atemarbeit machen ihn zu einem hervorragenden Begleiter für bleibende Transformation. \nhttps://daniel-alan.com \n\nSeminargebühr und Anmeldung\nSeminargebühr: 4.995€\nAnmeldung bei: Daniel Alan // Tel: +491774068633 // Mail: info@art-of-breath.com \n\nAnmeldung und Preise für Unterkunft & Verpflegung\nBitte aktiviere JavaScript in deinem Browser\, um dieses Formular fertigzustellen.Hast du dich bereits beim Veranstalter angemeldet? *JaNeinIch bin einverstandenJa\, meine Kontaktdaten dürfen an den Veranstalter weitergegeben werden.Welchen Termin möchtest du gerne buchen? *alle 2 Termine29.April-05.Mai.202419.-25.August.2024Auswahl deines Aufenthaltes *EinzelzimmerPaarbettzimmerDoppelzimmerMehrbettzimmerTagesgast mit VerpflegungWelches Einzelzimmer möchtest du?  *Suite: 992 EUR - großes Apartment mit eigenem Bad\, Wohn-/EssbereichComfort Plus: 902 EUR - Zimmer mit 1\,40 breitem Bett und eigenem Bad und TeezubereitungsmöglichkeitenComfort: 842 EUR  - Zimmer mit eigenem BadStandard: 782 EUR  - Zimmer mit geteiltem Bad(Preis für gesamte Zeit pro Person inkl. Verpflegung)Welches Paarbettzimmer möchtest du?  *Comfort: 692 EUR p.P. - Doppelbelegung im kl. Z.\, Kuschelbett (140er)+eigen. BadStandard: 644 EUR p.P. - Doppelbelegung im kl. Z.\, Kuschelbett (140er)+geteilt. Bad(Preis für gesamte Zeit pro Person inkl. Verpflegung)Welches Doppelzimmer möchstes du?  *Suite: 902 EUR p.P. - Doppelbelegung im großen ApartmentDeluxe:  842 EUR p.P. - Doppelbelegung großes Zimmer mit eigenem BadStandard: 722 EUR p.P. - Doppelbelegung im Zimmer mit geteiltes Bad(Preis für gesamte Zeit pro Person inkl. Verpflegung)Welches Mehrbettzimmer möchtest du? *Comfort: 644 EUR - max. 4 Bettzimmer mit eigenem BadZelt-\, Stellplatz: 524 EUR - Kissen & Schlafsack mitbringen (Preis für gesamte Zeit pro Person inkl. Verpflegung)Welche Tagesgast-Variante möchtest wählen?  *448 EUR inkl. Mittag- und Abendbuffet287 EUR inkl. Mittagbuffet(Preis für die gesamte Zeit pro Person)Dein erster alternativer Zimmerwunsch *Bitte unbedingt angeben!Einzelzimmer Standard: 782 EUR pro Person - Zimmer mit geteilt. BadComfort Plus: 902 EUR - Zimmer mit 1\,40 breitem Bett und eigenem Bad und TeezubereitungsmöglichkeitenPaarbettzimmer Standard: 644 EUR pro Person - Kuschelbett (140er) für 2 mit geteilt. BadDoppelzimmer Standard: 722 EUR pro Person - Doppelbelegung mit geteilt. BadMehrbettzimmer Comfort: 644 EUR pro Person - 4 Bettzimmer mit eigen. BadZelt-/Stellplatz: 524 EUR p.P.- Kissen & Schlafsack mitbringen*Unsere Zimmer sind teilweise sehr schnell ausgebucht. Gib hier bitte eine Alternative an\, falls dein erster Zimmerwunsch schon belegt ist.Dein zweiter alternativer Zimmerwunsch *Bitte unbedingt angeben!Doppelzimmer Standard: 722 EUR pro Person- Doppelbelegung mit geteilt. BadMehrbettzimmer Comfort: 644 EUR pro Person- 4 Bettzimmer mit eigen. BadStellplatz: 524 EUR pro Person- Kissen & Schlafsack mitbringenTagesgast mit selbst organisierter Übernachtung in der NäheWenn mein Wunschzimmer nicht frei ist\, komme ich nicht.*Ja\, unsere Zimmer gehen teilweise weg wie warme Semmeln. Ein zweiter Zimmerwunsch ist hier wichtig!Welche Variante möchtest du als Tagesgast wählen? (Preis für die gesamte Zeit pro Person) *448 EUR inkl. Mittag- und Abendbuffet287 EUR inkl. MittagbuffetDeine Essenswünsche: *Bio-vegetarischBio-veganGlutenfrei zzgl. 15€ am TagAuf meine Allergie angepasstes Essen zzgl. 15€ am Tag*Wähle JETZT. Sonderwünsche können vor Ort nicht mehr berücksichtigen werden.Hinweise zu deiner AllergieNachricht ans TeamIch habe eine persönliche Nachricht ans TeamMeine Nachricht ans Team *Vorname *Nachname *Vor- und Nachname deines Partners *Möchtest du mit einer bestimmten Person ins Doppelzimmer? *Straße und Hausnummer *Hausnummer *PLZ *Ort *Telefonnummer *E-Mail *AGB *Ich bestätige die Teilnahme- & Stornobedingungen des Seminars wie o.a.  sowie die AGB des Seminarhauses.Datenschutzbestimmungen *Ich habe die Datenschutzerklärung gelesen und stimme zu.CommentBuchungsanfrage abschicken
URL:https://sampurna-seminarhaus.de/event/breathwork-ausbildung-2024-teil-2-2/
LOCATION:Seminarhaus Sampurna\, Am Tiergarten 1\, Schlangenbad-Bärstadt\, Hessen\, 65388\, Deutschland
CATEGORIES:Ausbildung
ATTACH;FMTTYPE=image/png:https://sampurna-seminarhaus.de/wp-content/uploads/2023/01/Titelbild_neu-2eec8839a94322867ae75284b3fb46ed.png
ORGANIZER;CN="Daniel Alan":MAILTO:info@art-of-breath.com
END:VEVENT
BEGIN:VEVENT
DTSTART;TZID=Europe/Berlin:20240823T170000
DTEND;TZID=Europe/Berlin:20240825T150000
DTSTAMP:20260420T225026
CREATED:20240629T143651Z
LAST-MODIFIED:20240629T143651Z
UID:10001272-1724432400-1724598000@sampurna-seminarhaus.de
SUMMARY:Yin & Yang Spätsommer Retreat - Balanced & Grounded
DESCRIPTION:Der Spätsommer ist eine besondere Jahreszeit. Die Zeit der warmen\, goldenen Tage\, der Fülle & Ernte. Es ist die Zeit des Wandels & Übergangs vom Sommer in den Herbst. \nEine magische\, nährende Zeit auch für uns Menschen. Der Spätsommer steht für Erdung & Stabilität und gleichzeitig für Ausgeglichenheit\, Balance & eine starke Körpermitte. \nAn diesem Wochenende lade ich dich herzlich ein mit mir gemeinsam in die Stille einzutauchen\, dich zu entspannen & deine Akkus wieder aufzuladen. Dich erwartet ein Wechsel aus Yin & Yang Yoga\, Pranayama & Meditation\, Zeit in der Natur & Zeit für dich. \nIm Yin Yoga ist das Erdelement und das Organpaar Milz & Magen dem Spätsommer zugeordnet. Das heißt für uns: Ganz viel auf der Erde rumliegen\, dehnen & entspannen. Auf körperlicher Ebene sprechen wir Beine\, Hüftbeuger & die Körpermitte an. Auf mentaler Ebene geht es um Ruhe\, Präsenz\, Selbstfürsorge. Um das Vertrauen in das Leben und sich weniger Sorgen zu machen. Ganz nach dem Motto „Sorge dich nicht\, lebe“. \nIm Hatha Yoga steht das Wurzelchakra für den Spätsommer. Neben Balancehaltungen üben wir stabilisierende\, kraftvolle Asanas für Beine\, Po\, Bauch & Rücken. \nIch freu mich auf dich! \nNamasté Maike \nAblaufplan \nVoraussetzung für die Teilnahme \nDas Seminar ist für alle Level geeignet. Du bist auch herzlich eingeladen\, wenn Du noch keine Yogaerfahrung hast. Ich passe die Praxis individuell für Dich an. Du bist auch herzlich Willkommen\, wenn du schwanger bist. \n  \n\nSeminarleitung\nMaike Steinmann Yoga\, www.maingleichgewicht.com\nMaike Steinmann \n„Hallo\, ich bin Maike\, 35 und mit ganzem Herzen Yogalehrerin. Bereits während meines Sportstudiums entdeckte ich Yoga für mich. Zunächst war ich im aktiven Vinyasa Yoga zu Hause\, später trat Yin Yoga in mein Leben. Beides ist seither nicht mehr aus meinem Leben wegzudenken. In meinem Unterricht kombiniere ich beide Yogastile. Gerade in unserer hektischen und lauten Welt\, in der alles sehr schnell gehen muss\, brauchen wir mehr Ruhe & Entspannung. In meinen Stunden ist mir wichtig\, dass Du Dir erlaubst loszulassen und einfach zu sein. Dass Du Dich selbst und Deinen Körper besser kennenlernst und einen Weg für Dich findest Dich ganz tief in Dir selbst zu entspannen\, auch wenn es im Außen unruhig ist. \nNeben meiner Leidenschaft als Yogalehrerin\, arbeite ich selbstständig als Personal Trainerin und Mental Coach in Frankfurt am Main\, leite Workshops und Kurse zu Themen wie „Achtsamkeit\, Stressmanagement & Resilienz“. Ich freue mich Dich bald persönlich kennenzulernen.“ \n  \n\nAnmeldung und Seminarkosten\nSeminargebühr: 255€ \nFrühbucherpreis: 233€ bis 12.07.2024 \nAnmeldung bei: Maike Steinmann // Tel: +4917670873743 // Mail: kontakt@maingleichgewicht.com \n\nAnmeldung & Preise für Unterkunft & Verpflegung im Seminarhaus\nBitte aktiviere JavaScript in deinem Browser\, um dieses Formular fertigzustellen.Hast du dich bereits beim Veranstalter angemeldet? *JaNeinIch bin einverstanden *Ja\, meine Kontaktdaten dürfen an den Veranstalter weitergegeben werden.Auswahl deines Aufenthaltes *EinzelzimmerPaarbettzimmerDoppelzimmerMehrbettzimmerTagesgast mit VerpflegungWelches Einzelzimmer möchtest du?  *Suite: 412 EUR - großes Apartment mit eigenem Bad\, Wohn-/EssbereichComfort Plus : 312 EUR - Zimmer mit eig. Bad (1\,40m breitem Bett)Comfort: 292 EUR  - Zimmer mit eigenem BadStandard: 272 EUR  - Zimmer mit geteiltem Bad(Preis für gesamte Zeit pro Person inkl. Verpflegung)Welches Paarbettzimmer möchtest du?  *Comfort: 242 EUR p.P. - Doppelbelegung im kl. Z.\, Kuschelbett (140er)+eigen. BadStandard: 226 EUR p.P. - Doppelbelegung im kl. Z.\, Kuschelbett (140er)+geteilt. Bad(Preis für gesamte Zeit pro Person inkl. Verpflegung)Welches Doppelzimmer möchstes du?  *Suite: 312 EUR p.P. - Doppelbelegung im großen ApartmentDeluxe: 292 EUR p.P. - Doppelbelegung großes Zimmer mit eigenem BadStandard: 252 EUR p.P. - Doppelbelegung im Zimmer mit geteiltes Bad(Preis für gesamte Zeit pro Person inkl. Verpflegung)Welches Mehrbettzimmer möchtest du? *Comfort: 226 EUR - max. 4 Bettzimmer mit eigenem BadZelt-\, Stellplatz: 186 EUR - Kissen & Schlafsack mitbringen (Preis für gesamte Zeit pro Person inkl. Verpflegung)Welche Tagesgast-Variante möchtest wählen?  *166 EUR inkl. Frühstück-\, Mittag- und Abendbuffet142 EUR inkl. Mittag- und Abendbuffet96 EUR inkl. Mittagbuffet(Preis für die gesamte Zeit pro Person)Dein erster alternativer Zimmerwunsch *Bitte unbedingt angeben!Comfort + : 312 EUR - Zimmer mit eig. Bad (1\,40m breitem Bett)Wahlmöglichkeit 14Einzelzimmer Standard: 272 EUR pro Person - Zimmer mit geteilt. BadPaarbettzimmer Standard: 226 EUR pro Person - Kuschelbett (140er) für 2 mit geteilt. BadDoppelzimmer Standard: 252 EUR pro Person - Doppelbelegung mit geteilt. BadMehrbettzimmer Comfort: 226 EUR pro Person - 4 Bettzimmer mit eigen. BadZelt-/Stellplatz: 186 EUR p.P.- Kissen & Schlafsack mitbringen*Unsere Zimmer sind teilweise sehr schnell ausgebucht. Gib hier bitte eine Alternative an\, falls dein erster Zimmerwunsch schon belegt ist.Welche Variante möchtest du als Tagesgast wählen? (Preis für die gesamte Zeit pro Person) *166 EUR inkl. Frühstück-\, Mittag- und Abendbuffet142 EUR inkl. Mittag- und Abendbuffet96 EUR inkl. MittagbuffetNachricht ans TeamIch habe eine persönliche Nachricht ans TeamMeine Nachricht ans Team *Vorname *Nachname *Vor- und Nachname deines Partners *Möchtest du mit einer bestimmten Person ins Doppelzimmer? *Straße und Hausnummer *Hausnummer *PLZ *Ort *TelefonnummerE-Mail *AGB *Ich bestätige die Teilnahme- & Stornobedingungen des Seminars wie o.a.  sowie die AGB des Seminarhauses.Datenschutzbestimmungen *Ich habe die Datenschutzerklärung gelesen und stimme zu.CommentBuchungsanfrage abschicken
URL:https://sampurna-seminarhaus.de/event/yin-yang-spaetsommer-retreat-balanced-grounded/
LOCATION:Hessen
CATEGORIES:Seminar
ATTACH;FMTTYPE=image/png:https://sampurna-seminarhaus.de/wp-content/uploads/2024/06/Flyer-1000x375-ee6a35b335a17424a73ed314c0381cb5-e1719671657613.png
ORGANIZER;CN="Maike Steinmann":MAILTO:kontakt@maingleichgewicht.com
END:VEVENT
BEGIN:VEVENT
DTSTART;TZID=Europe/Berlin:20240823T170000
DTEND;TZID=Europe/Berlin:20240825T160000
DTSTAMP:20260420T225026
CREATED:20240530T111627Z
LAST-MODIFIED:20240806T133352Z
UID:10000992-1724432400-1724601600@sampurna-seminarhaus.de
SUMMARY:"Rise in Creativity - erwecke deine Schöpferkraft"
DESCRIPTION:Es ist Sommer – die Natur steht in voller Kraft! Diese Energie möchte ich nutzen um dich in deine Schöpferkraft\, deine Energie zu bringen. Inspiriert von der Wärme der Sonne starten wir den Tag mit dynamischen Vinyasa Flows. Abends fließen durch regenerative Relax-Yoga-Flows. \nLass im wunderschönen Sampurna Seminarhaus den Alltag für ein paar Tage hinter dir. Genieße die umliegende Natur bei einem Spaziergang oder entspanne einfach auf dem Sonnendeck. Tagträume\, tausche dich aus…Hauptsache du bist bei dir\, in Verbindung mit dem Moment\, an diesem Wochenende! \nDein Yoga Paket enthält: \n4x Yoga á 60 Minuten\n2x Pranayama & Meditation á 30 Minuten (freiwillig)\n1x Dharmatalk ca. 60 Minuten\nCommunitytime \nAblaufplan \nVoraussetzung für die Teilnahme \nDas Yoga-Wochenende ist für alle Level geeignet. Es ist allerdings zu empfehlen\, dass man schon erste Yoga Erfahrungen gesammelt hat. \n\nSeminarleitung\n \nAlexandra Walker \nYoga und Entspannung gehören für Alexandra untrennbar zusammen. Yoga ist ihr Antrieb\, die Ruheoase\, der Anker. \n“Durch Yoga verbessere ich meine Beweglichkeit\, Fokussierung\, Gelassenheit und erkenne\, dass alles so gut ist\, wie es ist.” (Alexandra Walker) \nSeit etwa 20 Jahren praktiziert Alexandra Yoga. Im Jahr 2014 hat sie beschlossen\, ihrer inneren Stimme zu folgen und aus dem Hobby und ihrer Leidenschaft einen Beruf zu machen. Seit 2014 unterrichtet sie kontinuierlich mit Hingabe und Freude. \n\nAnmeldung und Seminargebühr\nSeminargebühr: 289€ \nAnmeldung: Alexandra Walker// Mobil:  +491777526535 // hallo@alexandrawalker.de \n\nAnmeldung und Preise für Unterkunft und Verpflegung im Seminarhaus\nBitte aktiviere JavaScript in deinem Browser\, um dieses Formular fertigzustellen.Hast du dich bereits beim Veranstalter angemeldet? *JaNeinIch bin einverstanden *Ja\, meine Kontaktdaten dürfen an den Veranstalter weitergegeben werden.Auswahl deines Aufenthaltes *EinzelzimmerPaarbettzimmerDoppelzimmerMehrbettzimmerTagesgast mit VerpflegungWelches Einzelzimmer möchtest du?  *Suite: 412 EUR - großes Apartment mit eigenem Bad\, Wohn-/EssbereichComfort +: 312 EUR - Zimmer mit eigenem Bad und 140er BettComfort: 292 EUR  - Zimmer mit eigenem BadStandard: 272 EUR  - Zimmer mit geteiltem Bad(Preis für gesamte Zeit pro Person inkl. Verpflegung)Welches Paarbettzimmer möchtest du?  *Comfort: 242 EUR p.P. - Doppelbelegung im kl. Z.\, Kuschelbett (140er)+eigen. BadStandard: 226 EUR p.P. - Doppelbelegung im kl. Z.\, Kuschelbett (140er)+geteilt. Bad(Preis für gesamte Zeit pro Person inkl. Verpflegung)Welches Doppelzimmer möchstes du?  *Suite: 312 EUR p.P. - Doppelbelegung im großen ApartmentDeluxe: 292 EUR p.P. - Doppelbelegung großes Zimmer mit eigenem BadStandard: 252 EUR p.P. - Doppelbelegung im Zimmer mit geteiltes Bad(Preis für gesamte Zeit pro Person inkl. Verpflegung)Welches Mehrbettzimmer möchtest du? *Comfort: 226 EUR - max. 4 Bettzimmer mit eigenem BadZelt-\, Stellplatz: 186 EUR - Kissen & Schlafsack mitbringen (Preis für gesamte Zeit pro Person inkl. Verpflegung)Welche Tagesgast-Variante möchtest wählen?  *166 EUR inkl. Frühstück-\, Mittag- und Abendbuffet142 EUR inkl. Mittag- und Abendbuffet96 EUR inkl. Mittagbuffet(Preis für die gesamte Zeit pro Person)Dein erster alternativer Zimmerwunsch *Bitte unbedingt angeben!Einzelzimmer Standard: 272 EUR pro Person - Zimmer mit geteilt. BadComfort +: 312 EUR - Zimmer mit eigenem Bad und 140er BettPaarbettzimmer Standard: 226 EUR pro Person - Kuschelbett (140er) für 2 mit geteilt. BadDoppelzimmer Standard: 252 EUR pro Person - Doppelbelegung mit geteilt. BadMehrbettzimmer Comfort: 226 EUR pro Person - 4 Bettzimmer mit eigen. BadZelt-/Stellplatz: 186 EUR p.P.- Kissen & Schlafsack mitbringen*Unsere Zimmer sind teilweise sehr schnell ausgebucht. Gib hier bitte eine Alternative an\, falls dein erster Zimmerwunsch schon belegt ist.Dein zweiter alternativer Zimmerwunsch *Bitte unbedingt angeben!Doppelzimmer Standard: 252 EUR pro Person- Doppelbelegung mit geteilt. BadComfort +: 312 EUR - Zimmer mit eigenem Bad und 140er BettMehrbettzimmer Comfort: 226 EUR pro Person- 4 Bettzimmer mit eigen. BadStellplatz: 186 EUR pro Person- Kissen & Schlafsack mitbringenTagesgast mit selbst organisierter Übernachtung in der NäheWenn mein Wunschzimmer nicht frei ist\, komme ich nicht.*Ja\, unsere Zimmer gehen teilweise weg wie warme Semmeln. Ein zweiter Zimmerwunsch ist hier wichtig!Welche Variante möchtest du als Tagesgast wählen? (Preis für die gesamte Zeit pro Person) *166 EUR inkl. Frühstück-\, Mittag- und Abendbuffet142 EUR inkl. Mittag- und Abendbuffet96 EUR inkl. MittagbuffetNachricht ans TeamIch habe eine persönliche Nachricht ans TeamMeine Nachricht ans Team *Vorname *Nachname *Vor- und Nachname deines Partners *Möchtest du mit einer bestimmten Person ins Doppelzimmer? *Straße und Hausnummer *Hausnummer *PLZ *Ort *TelefonnummerE-Mail *AGB *Ich bestätige die Teilnahme- & Stornobedingungen des Seminars wie o.a.  sowie die AGB des Seminarhauses.Datenschutzbestimmungen *Ich habe die Datenschutzerklärung gelesen und stimme zu.CommentBuchungsanfrage abschicken
URL:https://sampurna-seminarhaus.de/event/rise-in-creativity-erwecke-deine-schoepferkraft/
LOCATION:Seminarhaus Sampurna\, Am Tiergarten 1\, Schlangenbad-Bärstadt\, Hessen\, 65388\, Deutschland
CATEGORIES:Seminar
ATTACH;FMTTYPE=image/png:https://sampurna-seminarhaus.de/wp-content/uploads/2024/05/1.png
ORGANIZER;CN="Alexandra Walker":MAILTO:hallo@alexandrawalker.de
END:VEVENT
END:VCALENDAR