BEGIN:VCALENDAR
VERSION:2.0
PRODID:-//Sampurna Seminarhaus - ECPv6.10.1.1//NONSGML v1.0//EN
CALSCALE:GREGORIAN
METHOD:PUBLISH
X-ORIGINAL-URL:https://sampurna-seminarhaus.de
X-WR-CALDESC:Veranstaltungen für Sampurna Seminarhaus
REFRESH-INTERVAL;VALUE=DURATION:PT1H
X-Robots-Tag:noindex
X-PUBLISHED-TTL:PT1H
BEGIN:VTIMEZONE
TZID:Europe/Berlin
BEGIN:DAYLIGHT
TZOFFSETFROM:+0100
TZOFFSETTO:+0200
TZNAME:CEST
DTSTART:20240331T010000
END:DAYLIGHT
BEGIN:STANDARD
TZOFFSETFROM:+0200
TZOFFSETTO:+0100
TZNAME:CET
DTSTART:20241027T010000
END:STANDARD
END:VTIMEZONE
BEGIN:VEVENT
DTSTART;TZID=Europe/Berlin:20240816T170000
DTEND;TZID=Europe/Berlin:20240818T150000
DTSTAMP:20260420T204731
CREATED:20240301T121220Z
LAST-MODIFIED:20240304T111257Z
UID:10000963-1723827600-1723993200@sampurna-seminarhaus.de
SUMMARY:Das schamanische Seelenrückholungsseminar
DESCRIPTION:Die schamanische Seelenrückholung \nist eine der elementaren arbeiten im Schamanischen. \nIch sehe unsere Seele\, wie ein Puzzle mit tausenden von Teilen\, jeder dieser Seelenanteile hat seine Aufgabe um uns zur Seite zu stehen\, ohne die wären wir nur eine leere Hülle. \nIm Laufe des Lebens und auch aus alten Leben\, gehen Seelenanteile durch Unfälle\, Narkosen\, Operationen und natürlich traumatische Erlebnisse Anteile verloren und stehen uns nicht mehr zur Verfügung\, genau das macht uns das Leben schwer\, wir können nicht mehr Vertrauen oder einfach kraftvoll durchs Leben gehen. Eine Seelenrückholung ist der Beginn von deinem Weg der Selbstheilung. \nDieses Wochenende ist der Einzelarbeit und der Gruppenarbeit gewidmet und wird sehr intensiv werden. \nTeilnahmevoraussetzungen: Offenheit für neue Wege \n\nAblaufplan\nBeginn / erstes Treffen um 17.00 Uhr im Raum Satya. \nWer hat bitte seine Trommel und Rassel mitbringen. \nVorstellungsrunde\, Trommelreise und nach dem Abendessen eine geführte Reise in deinen Seelengarten Samstag Beginn um 9.30 Uhr Wir starten an diesem Tag mit der Seelenrückholung für einzelne Teilnehmer am Nachmittag gehen wir in die Fernheilung als Einzel und als Aufstellungsarbeit \, für die Fernarbeit kann jeder für einen Freund  arbeiten\, bitte dessen Einverständnis dazu geben lassen. \nSonntag Beginn 9.30 \nwir gehen weiter in der Aufstellungsarbeit zur Seelenrückholung nach dem Mittagessen Abschlussrunde und Verabschiedung. \nEnde gegen 15.00 Uhr \n\nSeminarleitung\n \nSusanne Schatter \nIch bin Susanne\, geboren 1963 in Frankfurt am Main. \nSchamanische Ausbildung der nordischen Heilweisen \,diverse Weiterbildungen im schamanischen Bereich\nAusbildung NLP Coach\, Kinesiologie\, EFT – Klopftechniken\, Persönlichkeitstrainer für Mensch und Pferd\,\nHypnosetrainer\, Kommunikationstrainer\, Ritualfrau für keltische Zeremonien und Hochzeiten. \n\nAnmeldung und Seminargebühr\nSeminargebühr: 280 €  \nAnmeldung: Susanne Schatter // Mobil:  +491704683316 // E-mail: susanne@keltische-hochzeit.de \n\nAnmeldung und Preise für Unterkunft und Verpflegung im Seminarhaus\nBitte aktiviere JavaScript in deinem Browser\, um dieses Formular fertigzustellen.Hast du dich bereits beim Veranstalter angemeldet? *JaNeinIch bin einverstanden *Ja\, meine Kontaktdaten dürfen an den Veranstalter weitergegeben werden.Auswahl deines Aufenthaltes *EinzelzimmerPaarbettzimmerDoppelzimmerMehrbettzimmerTagesgast mit VerpflegungWelches Einzelzimmer möchtest du?  *Suite: 412 EUR - großes Apartment mit eigenem Bad\, Wohn-/EssbereichComfort Plus : 312 EUR - Zimmer mit eig. Bad (1\,40m breitem Bett)Comfort: 292 EUR  - Zimmer mit eigenem BadStandard: 272 EUR  - Zimmer mit geteiltem Bad(Preis für gesamte Zeit pro Person inkl. Verpflegung)Welches Paarbettzimmer möchtest du?  *Comfort: 242 EUR p.P. - Doppelbelegung im kl. Z.\, Kuschelbett (140er)+eigen. BadStandard: 226 EUR p.P. - Doppelbelegung im kl. Z.\, Kuschelbett (140er)+geteilt. Bad(Preis für gesamte Zeit pro Person inkl. Verpflegung)Welches Doppelzimmer möchstes du?  *Suite: 312 EUR p.P. - Doppelbelegung im großen ApartmentDeluxe: 292 EUR p.P. - Doppelbelegung großes Zimmer mit eigenem BadStandard: 252 EUR p.P. - Doppelbelegung im Zimmer mit geteiltes Bad(Preis für gesamte Zeit pro Person inkl. Verpflegung)Welches Mehrbettzimmer möchtest du? *Comfort: 226 EUR - max. 4 Bettzimmer mit eigenem BadZelt-\, Stellplatz: 186 EUR - Kissen & Schlafsack mitbringen (Preis für gesamte Zeit pro Person inkl. Verpflegung)Welche Tagesgast-Variante möchtest wählen?  *166 EUR inkl. Frühstück-\, Mittag- und Abendbuffet142 EUR inkl. Mittag- und Abendbuffet96 EUR inkl. Mittagbuffet(Preis für die gesamte Zeit pro Person)Dein erster alternativer Zimmerwunsch *Bitte unbedingt angeben!Comfort + : 312 EUR - Zimmer mit eig. Bad (1\,40m breitem Bett)Comfort: 292 EUR  - Zimmer mit eigenem BadEinzelzimmer Standard: 272 EUR pro Person - Zimmer mit geteilt. BadPaarbettzimmer Standard: 226 EUR pro Person - Kuschelbett (140er) für 2 mit geteilt. BadDoppelzimmer Standard: 252 EUR pro Person - Doppelbelegung mit geteilt. BadMehrbettzimmer Comfort: 226 EUR pro Person - 4 Bettzimmer mit eigen. BadZelt-/Stellplatz: 186 EUR p.P.- Kissen & Schlafsack mitbringen*Unsere Zimmer sind teilweise sehr schnell ausgebucht. Gib hier bitte eine Alternative an\, falls dein erster Zimmerwunsch schon belegt ist.Welche Variante möchtest du als Tagesgast wählen? (Preis für die gesamte Zeit pro Person) *166 EUR inkl. Frühstück-\, Mittag- und Abendbuffet142 EUR inkl. Mittag- und Abendbuffet96 EUR inkl. MittagbuffetNachricht ans TeamIch habe eine persönliche Nachricht ans TeamMeine Nachricht ans Team *Vorname *Nachname *Vor- und Nachname deines Partners *Möchtest du mit einer bestimmten Person ins Doppelzimmer? *Straße und Hausnummer *Hausnummer *PLZ *Ort *TelefonEmailadresse *E-Mail *AGB *Ich bestätige die Teilnahme- & Stornobedingungen des Seminars wie o.a.  sowie die AGB des Seminarhauses.Datenschutzbestimmungen *Ich habe die Datenschutzerklärung gelesen und stimme zu.WebsiteBuchungsanfrage abschicken
URL:https://sampurna-seminarhaus.de/event/das-schamanische-seelenrueckholungsseminar/
LOCATION:Seminarhaus Sampurna\, Am Tiergarten 1\, Schlangenbad-Bärstadt\, Hessen\, 65388\, Deutschland
CATEGORIES:Ausbildung
ATTACH;FMTTYPE=image/jpeg:https://sampurna-seminarhaus.de/wp-content/uploads/2022/02/39203701_2073031682716149_55560646128828416_n-b08a82b88cc5010a5872aac5f79bb7ee-e1645718644307.jpg
ORGANIZER;CN="Susanne Schatter":MAILTO:susanne@keltische-hochzeit.de
END:VEVENT
END:VCALENDAR