BEGIN:VCALENDAR
VERSION:2.0
PRODID:-//Sampurna Seminarhaus - ECPv6.10.1.1//NONSGML v1.0//EN
CALSCALE:GREGORIAN
METHOD:PUBLISH
X-ORIGINAL-URL:https://sampurna-seminarhaus.de
X-WR-CALDESC:Veranstaltungen für Sampurna Seminarhaus
REFRESH-INTERVAL;VALUE=DURATION:PT1H
X-Robots-Tag:noindex
X-PUBLISHED-TTL:PT1H
BEGIN:VTIMEZONE
TZID:Europe/Berlin
BEGIN:DAYLIGHT
TZOFFSETFROM:+0100
TZOFFSETTO:+0200
TZNAME:CEST
DTSTART:20240331T010000
END:DAYLIGHT
BEGIN:STANDARD
TZOFFSETFROM:+0200
TZOFFSETTO:+0100
TZNAME:CET
DTSTART:20241027T010000
END:STANDARD
END:VTIMEZONE
BEGIN:VEVENT
DTSTART;TZID=Europe/Berlin:20240701T173000
DTEND;TZID=Europe/Berlin:20240708T160000
DTSTAMP:20260420T204648
CREATED:20230906T112121Z
LAST-MODIFIED:20230911T145056Z
UID:10000893-1719855000-1720454400@sampurna-seminarhaus.de
SUMMARY:7 tägiges Soul-Painting Retreat Juli 2024- Meditation\, Yoga und Malen im Taunus
DESCRIPTION:Eintauchen in SOUL- PAINTING- mit Clara Morgenthau \nDieses RETREAT ist eine Einladung\, Deine ureigene Kreativität zu entfachen\, zu vertiefen und aus ihr zu schöpfen. Für Dein gesamtes Leben. Mit Fülle\, Freude und Liebe. Die ultimative Erfahrung in unserem Leben ist die Freisetzung unserer Kreativität und die Seele war schon immer die Quelle dafür.  Die „Mindstyle“-Zeitschrift „Happiness“ (Ausgabe 6/2020) hat es in ihrem Bericht über die Soul-Painting-Retreats von und mit Clara Morgenthau wunderschön auf den Punkt gebracht: „Kreativität ist Mut – Mut\, etwas Neues auszuprobieren und unseren inneren Kritiker für einen Augenblick zu vergessen. Auf einfache und liebevolle Weise verbindet die Künstlerin Clara Morgenthau in ihren Workshops die Kraft der Meditation und des Yoga mit der Kunst des Malens\, Collagierens und Monoprintings. Sie glaubt\, die Seele ist unsere ganz eigene Quelle der Kreativität – und so können wir das Soul-Painting in einem wunderschönen Retreat selber erleben.“ \nEs sind keine Vorkenntnisse nötig. Jede Interessierte\, die eine Seele hat\, kann daran teilnehmen. Das Künstlermaterial ist inklusive. \nNEU Tagesablauf Soul Painting (1) \nVideo Soul-Painting \n\nSeminarleitung\n \nClara Morgenthau \nClara Morgenthau ist seit ihrer frühesten Kindheit kreativ. Sie wuchs in Frankfurt am Main auf\, lebte nach ihrem Diplom in Hamburg\, zog später mit ihrem VW Bus durch Süd-Europa\, war in Italien bei einem Wanderzirkus\, spielte Akkordeon in drei Musikbands und lebte in einem indischen Ashram\, wo sie sich auf die Praxis von Meditation fokussierte. Clara glaubt daran\, dass die Seele die Quelle der Kreativität- und alles miteinander verbunden ist. \nhttps://www.claramorgenthau.de \n\nSeminaranmeldung & Preise\n797\,- € bei Buchungen bis zum einschließlich 23.12.2023 (Early Bird) \n847\,- € Regulär  \nAnmeldung bei: Jana Schmidt // +4917662306446 // info@claramorgenthau.de \n\nPreise und Anmeldung für Unterkunft & Verpflegung im Seminarhaus\nBitte aktiviere JavaScript in deinem Browser\, um dieses Formular fertigzustellen.Hast du dich bereits beim Veranstalter angemeldet? *JaNeinIch bin einverstanden *Ja\, meine Kontaktdaten dürfen an den Veranstalter weitergegeben werden.Auswahl deines Aufenthaltes (es wird ein Rabatt von 7% auf den Gesamtpreis der Übernachtungsgäste gegeben) *EinzelzimmerDoppelzimmerMehrbettzimmerTagesgast mit VerpflegungWelches Einzelzimmer möchtest du?  *Comfort Plus : 1115 EUR - Zimmer mit eig. Bad (1\,40m breitem Bett)Comfort: 1045 EUR  - Zimmer mit eigenem BadStandard: 975 EUR  - Zimmer mit geteiltem Bad(Preis für gesamte Zeit pro Person inkl. Verpflegung)Welches Doppelzimmer möchstes du?  *Deluxe: 1045 EUR p.P. - Doppelbelegung großes Zimmer mit eigenem BadStandard: 905 EUR p.P. - Doppelbelegung im Zimmer mit geteiltes Bad(Preis für gesamte Zeit pro Person inkl. Verpflegung)Welches Mehrbettzimmer möchtest du? *Comfort: 814 EUR - max. 4 Bettzimmer mit eigenem BadZelt-\, Stellplatz: 674 EUR - inkl. Badnutzung im Haus (Preis für gesamte Zeit pro Person inkl. Verpflegung)Welche Tagesgast-Variante möchtest wählen?  *604 EUR inkl. Frühstück-\, Mittag- und Abendbuffet520  EUR inkl. Mittag- und Abendbuffet359 EUR inkl. Mittagbuffet(Preis für die gesamte Zeit pro Person)Dein erster alternativer Zimmerwunsch *Bitte unbedingt angeben!Comfort + : 1.115 EUR - Zimmer mit eig. Bad (1\,40m breitem Bett)Einzelzimmer Standard: 975 EUR pro Person - Zimmer mit geteilt. BadDoppelzimmer Standard: 905 EUR pro Person - Doppelbelegung mit geteilt. BadMehrbettzimmer Comfort: 814 EUR pro Person - 4 Bettzimmer mit eigen. BadZelt-/Stellplatz: 674 EUR p.P.- inkl. Badnutzung im Haus*Unsere Zimmer sind teilweise sehr schnell ausgebucht. Gib hier bitte eine Alternative an\, falls dein erster Zimmerwunsch schon belegt ist.Dein zweiter alternativer Zimmerwunsch *Bitte unbedingt angeben!Comfort + : 1.115 EUR - Zimmer mit eig. Bad (1\,40m breitem Bett)Doppelzimmer Standard: 905 EUR pro Person- Doppelbelegung mit geteilt. BadMehrbettzimmer Comfort: 814 EUR pro Person- 4 Bettzimmer mit eigen. BadZelt-/Stellplatz: 674 EUR pro Person- Kissen & Schlafsack mitbringenTagesgast mit selbst organisierter Übernachtung in der NäheWenn mein Wunschzimmer nicht frei ist\, komme ich nicht.*Ja\, unsere Zimmer gehen teilweise weg wie warme Semmeln. Ein zweiter Zimmerwunsch ist hier wichtig!Welche Variante möchtest du als Tagesgast wählen? (Preis für die gesamte Zeit pro Person) *604 EUR inkl. Frühstück-\, Mittag- und Abendbuffet520 EUR inkl. Mittag- und Abendbuffet359 EUR inkl. MittagbuffetNachricht ans TeamIch habe eine persönliche Nachricht ans TeamMeine Nachricht ans Team *Vorname *Nachname *Vor- und Nachname deines Partners *Möchtest du mit einer bestimmten Person ins Doppelzimmer? *Straße und Hausnummer *Hausnummer *PLZ *Ort *TelefonE-Mail *AGB *Ich bestätige die Teilnahme- & Stornobedingungen des Seminars wie o.a.  sowie die AGB des Seminarhauses.Datenschutzbestimmungen *Ich habe die Datenschutzerklärung gelesen und stimme zu.NameBuchungsanfrage abschicken
URL:https://sampurna-seminarhaus.de/event/7-taegiges-soul-painting-retreat-juli-2024-meditation-yoga-und-malen-im-taunus/
LOCATION:Hessen
CATEGORIES:Seminar
ATTACH;FMTTYPE=image/jpeg:https://sampurna-seminarhaus.de/wp-content/uploads/2023/09/Veranstaltung-transformative-Retreats_Quer-d57d32f26a0b04bb52b540191c1f7e31-300x113-1.jpg
ORGANIZER;CN="Clara Morgenthau":MAILTO:info@claramorgenthau.de
END:VEVENT
BEGIN:VEVENT
DTSTART;TZID=Europe/Berlin:20240705T160000
DTEND;TZID=Europe/Berlin:20240707T160000
DTSTAMP:20260420T204648
CREATED:20240315T120928Z
LAST-MODIFIED:20240621T105744Z
UID:10000978-1720195200-1720368000@sampurna-seminarhaus.de
SUMMARY:Summer Flow Retreat
DESCRIPTION:Ein Retreat mit Fokus auf Animal Flow® & Community Building\nKomm mit 3 Animal Flow Instructorn zu einem Intensiv-Wochenende und tauche ein in den Spirit des Animal Flows.\nDieses Retreat lädt Dich als Anfänger und als Fortgeschrittenen `Flowist` dazu ein\, gemeinsam in den Flow zu kommen\, diese Bewegungskunst kennenzulernen oder Deine Grundlagen zu erweitern und vor allem zusammen ganz viel Spaß zu haben.\nNeben Animal Flow bieten wir Dir ein abwechslungsreiches Programm mit Yoga\, Martial Arts\, Mobility Training & Breathwork an. \nWas ist Animal Flow?\nEine Trainingsmethode\, die sich auf dynamische Körperbewegungen konzentriert und das ‘Human-Animal’ in Dir weckt. Das Training kombiniert Elemente aus verschiedenen Disziplinen wie Bodyweight-Training\, Yoga\, Capoeira\, Kampfsport und Gymnastik\, um Beweglichkeit\, Kraft\, Ausdauer und Koordination zu verbessern.\nWas Animal Flow einzigartig macht\, ist die Art\, wie Bewegungselemente zusammengeführt und kombiniert werden: dem sogenannten Flow. Durch fließende und kreativ gestaltete Bewegungsabläufe\, die teils von Tieren inspiriert sind\, wird nicht nur Deine physische Fitness gefördert\, sondern auch kognitive Fähigkeiten mobilisierst. \nVoraussetzung für die Teilnahme \nNeugier und Interesse neue Bewegungsmuster zu erlernen.\nEs sind keine Vorkenntnisse erforderlich. Dieses Retreat ist für Anfänger und Fortgeschrittene Flowists. \nAblaufplan \nVideo \n\nSeminarleitung\n \nMelanie Gotic \nMotto: Fresh & Sporty over Forty \n\nAnimal Flow Regional Leader Rheinland Pfalz\n• Animal Flow Level 1 Trainerin\n• Ving Tsun Ausbilderin TG 2 & Mobility Coach\n\nAF-Pose: Crocodile Crawl \nhttps://www.melaniegotic.de/ueber-mich/ \n \nDenise Kari \nMotto: Sei du selbst die Veränderung\, die du dir wünschst für diese Welt \n\nInhaberin von „Evolution Training“\, ein Fitnessstudio der besonderen Art\n• Animal Flow Level 2 Trainerin\n• Kettlebell\, Schlingentraining (TRX)\, FUNctional Training usw.\n\nAF Pose: Ape Reach \nhttps://www.evolution-training.de/ \n \nHannanda Budig \nMotto: Sei frei\, wild & leicht \n\nAnimal Flow Level 1 Trainerin\n• Yoga\, Movement & Breathwork Coach\n• Lomi Lomi Massage\n\nAF Pose: Crab Reach \nhttps://www.hannanda-fusion.com \n  \n\nAnmeldung zum Seminar und Seminargebühr\nSeminargebühr regulär: 225 € \nFrühbucherpreis bei Buchung bis 01.April: 185€ \nAnmeldung bei: Melanie Gotic // 01726606906 // melaniegotic@web.de \nDenise Kari // 01634298823  // info@evolution-training.de  \nHananda Budig  // 0176-72262997 // info@hannanda-fusion.com \n\nAnmeldung und Preise für Unterkunft und Verpflegung\nBitte aktiviere JavaScript in deinem Browser\, um dieses Formular fertigzustellen.Hast du dich bereits beim Veranstalter angemeldet? *JaNeinIch bin einverstanden *Ja\, meine Kontaktdaten dürfen an den Veranstalter weitergegeben werden.Auswahl deines Aufenthaltes *EinzelzimmerPaarbettzimmerDoppelzimmerMehrbettzimmerTagesgast mit VerpflegungWelches Einzelzimmer möchtest du?  *Suite: 412 EUR - großes Apartment mit eigenem Bad\, Wohn-/EssbereichComfort Plus : 312 EUR - Zimmer mit eig. Bad (1\,40m breitem Bett)Comfort: 292 EUR  - Zimmer mit eigenem BadStandard: 272 EUR  - Zimmer mit geteiltem Bad(Preis für gesamte Zeit pro Person inkl. Verpflegung)Welches Paarbettzimmer möchtest du?  *Comfort: 242 EUR p.P. - Doppelbelegung im kl. Z.\, Kuschelbett (140er)+eigen. BadStandard: 226 EUR p.P. - Doppelbelegung im kl. Z.\, Kuschelbett (140er)+geteilt. Bad(Preis für gesamte Zeit pro Person inkl. Verpflegung)Welches Doppelzimmer möchstes du?  *Suite: 312 EUR p.P. - Doppelbelegung im großen ApartmentDeluxe: 292 EUR p.P. - Doppelbelegung großes Zimmer mit eigenem BadStandard: 252 EUR p.P. - Doppelbelegung im Zimmer mit geteiltes Bad(Preis für gesamte Zeit pro Person inkl. Verpflegung)Welches Mehrbettzimmer möchtest du? *Comfort: 226 EUR - max. 4 Bettzimmer mit eigenem BadZelt-\, Stellplatz: 186 EUR - Kissen & Schlafsack mitbringen (Preis für gesamte Zeit pro Person inkl. Verpflegung)Welche Tagesgast-Variante möchtest wählen?  *166 EUR inkl. Frühstück-\, Mittag- und Abendbuffet142 EUR inkl. Mittag- und Abendbuffet96 EUR inkl. Mittagbuffet(Preis für die gesamte Zeit pro Person)Dein erster alternativer Zimmerwunsch *Bitte unbedingt angeben!Comfort + : 312 EUR - Zimmer mit eig. Bad (1\,40m breitem Bett)Einzelzimmer Standard: 272 EUR pro Person - Zimmer mit geteilt. BadPaarbettzimmer Standard: 226 EUR pro Person - Kuschelbett (140er) für 2 mit geteilt. BadDoppelzimmer Standard: 252 EUR pro Person - Doppelbelegung mit geteilt. BadMehrbettzimmer Comfort: 226 EUR pro Person - 4 Bettzimmer mit eigen. BadZelt-/Stellplatz: 186 EUR p.P.- Kissen & Schlafsack mitbringen*Unsere Zimmer sind teilweise sehr schnell ausgebucht. Gib hier bitte eine Alternative an\, falls dein erster Zimmerwunsch schon belegt ist.Dein zweiter alternativer Zimmerwunsch *Bitte unbedingt angeben!Comfort + : 312 EUR - Zimmer mit eig. Bad (1\,40m breitem Bett)Doppelzimmer Standard: 262 EUR pro Person- Doppelbelegung mit geteilt. BadMehrbettzimmer Comfort: 226 EUR pro Person- 4 Bettzimmer mit eigen. BadStellplatz: 186 EUR pro Person- Kissen & Schlafsack mitbringenTagesgast mit selbst organisierter Übernachtung in der NäheWenn mein Wunschzimmer nicht frei ist\, komme ich nicht.*Ja\, unsere Zimmer gehen teilweise weg wie warme Semmeln. Ein zweiter Zimmerwunsch ist hier wichtig!Welche Variante möchtest du als Tagesgast wählen? (Preis für die gesamte Zeit pro Person) *166 EUR inkl. Frühstück-\, Mittag- und Abendbuffet142 EUR inkl. Mittag- und Abendbuffet96 EUR inkl. MittagbuffetNachricht ans TeamIch habe eine persönliche Nachricht ans TeamMeine Nachricht ans Team *Vorname *Nachname *Vor- und Nachname deines Partners *Möchtest du mit einer bestimmten Person ins Doppelzimmer? *Straße und Hausnummer *Hausnummer *PLZ *Ort *TelefonEmailadresse *E-Mail *AGB *Ich bestätige die Teilnahme- & Stornobedingungen des Seminars wie o.a.  sowie die AGB des Seminarhauses.Datenschutzbestimmungen *Ich habe die Datenschutzerklärung gelesen und stimme zu.NameBuchungsanfrage abschicken
URL:https://sampurna-seminarhaus.de/event/summer-flow-retreat/
LOCATION:Seminarhaus Sampurna\, Am Tiergarten 1\, Schlangenbad-Bärstadt\, Hessen\, 65388\, Deutschland
CATEGORIES:Empfohlene Seminare,Event
ATTACH;FMTTYPE=image/jpeg:https://sampurna-seminarhaus.de/wp-content/uploads/2024/03/Header-Sampurna-e1710759122673.jpeg
ORGANIZER;CN="Melanie Gotic":MAILTO:info@evolution-training.de
END:VEVENT
BEGIN:VEVENT
DTSTART;TZID=Europe/Berlin:20240705T180000
DTEND;TZID=Europe/Berlin:20240707T160000
DTSTAMP:20260420T204648
CREATED:20230421T152952Z
LAST-MODIFIED:20240907T144311Z
UID:10000857-1720202400-1720368000@sampurna-seminarhaus.de
SUMMARY:EngelWölfe – Modul 2 - Neo-Schamanismus mit Nicole Schollmayer und Andreas Krüger
DESCRIPTION:An fünf Wochenenden innerhalb eines Jahres werden wir Dich dabei unterstützen\, Dich an Deine magischen Potenziale zu erinnern\, denn diese stecken in uns allen. Oftmals sind sie jedoch durch Verbote\, Gelübde\, Introjekte etc. in den Hintergrund gedrängt – dies wird sich im Laufe unseres Seminarzyklus ändern.\nWir werden viele Techniken schamanischer Heilarbeit mit Dir üben und selbst erfahren. Wir integrieren unsere Kompetenzen in Gestaltarbeit und Leibarbeit in diesen achtsam durch uns gestalteten Prozess. Wir werden Dich in Deiner individuellen Entwicklung als SchamanIn und TherapeutIn stützen und stärken.\nIn einem sicheren Feld wirst Du auch genügend Raum für Deine inneren Prozesse und Selbsterfahrung und Dein ganz individuelles Wachstum haben. Wir unterstützen und begleiten Dich kompetent während des Kurses und gerne auch in den Zeiten dazwischen\, damit Du sicher und gehalten in Deine Magie gehen kannst und diese auch in Deinen Alltag integrieren kannst. \nVoraussetzung für die Teilnahme \nWenn Du Dich gerufen fühlst. \nAblaufplan \n\nSeminarleitung\n \nAndreas Krüger \nSchulleiter & Dozent der Samuel-Hahnemann-Schule für Prozessorientierte Homöopathie\nPersonale Arbeit am Leib\nAufstellungen\, Rituale und Engel-Wolf-Schamanismus \n\n\n\nandreaskruegerberlin.de \n\n  \n\n\nNicole Schollmayer \nPrivatpraxis als Gestalttherapeutin und Heilpraktikerin für Psychotherapie\nCoaching\, Aufstellungen\, Rituale und Schamanismus\n20-jährige Krisenberatung in der Wirtschaft \nhttps://www.praxis-schollmayer.com/ \n  \n\nSeminargebühr und Anmeldung\nSeminargebühr: 320€\nAnmeldung bei: Nicole Schollmayer // Tel: +491709089988 // Mail: mail@nicole-schollmayer.de \n\nAnmeldung und Preise für Unterkunft & Verpflegung\nBitte aktiviere JavaScript in deinem Browser\, um dieses Formular fertigzustellen.Du möchtest dich für folgende Termine anmelden. *19.04.-21.04.202424.05.-26.05.202405.07.-07.07.202427.09.-29.09.202415.11.-17.11.2024Hast du dich bereits beim Veranstalter angemeldet? *JaNeinIch bin einverstanden *Ja\, meine Kontaktdaten dürfen an den Veranstalter weitergegeben werden.Auswahl deines Aufenthaltes (kopieren) *EinzelzimmerPaarbettzimmerDoppelzimmerMehrbettzimmerTagesgast mit VerpflegungWelches Einzelzimmer möchtest du?  *Suite: 412 EUR - großes Apartment mit eigenem Bad\, Wohn-/EssbereichComfort Plus : 312 EUR - Zimmer mit eig. Bad (1\,40m breitem Bett)Comfort: 292 EUR  - Zimmer mit eigenem BadStandard: 272 EUR  - Zimmer mit geteiltem Bad(Preis für gesamte Zeit pro Person inkl. Verpflegung)Welches Paarbettzimmer möchtest du?  *Comfort: 242 EUR p.P. - Doppelbelegung im kl. Z.\, Kuschelbett (140er)+eigen. BadStandard: 226 EUR p.P. - Doppelbelegung im kl. Z.\, Kuschelbett (140er)+geteilt. Bad(Preis für gesamte Zeit pro Person inkl. Verpflegung)Welches Doppelzimmer möchstes du?  *Suite: 312 EUR p.P. - Doppelbelegung im großen ApartmentDeluxe: 292 EUR p.P. - Doppelbelegung großes Zimmer mit eigenem BadStandard: 252 EUR p.P. - Doppelbelegung im Zimmer mit geteiltes Bad(Preis für gesamte Zeit pro Person inkl. Verpflegung)Welches Mehrbettzimmer möchtest du? *Comfort: 226 EUR - max. 4 Bettzimmer mit eigenem BadZelt-\, Stellplatz: 186 EUR - Kissen & Schlafsack mitbringen (Preis für gesamte Zeit pro Person inkl. Verpflegung)Welche Tagesgast-Variante möchtest wählen?  *166 EUR inkl. Frühstück-\, Mittag- und Abendbuffet142 EUR inkl. Mittag- und Abendbuffet96 EUR inkl. Mittagbuffet(Preis für die gesamte Zeit pro Person)Dein erster alternativer Zimmerwunsch *Bitte unbedingt angeben!Comfort + : 312 EUR - Zimmer mit eig. Bad (1\,40m breitem Bett)Einzelzimmer Standard: 272 EUR pro Person - Zimmer mit geteilt. BadPaarbettzimmer Standard: 226 EUR pro Person - Kuschelbett (140er) für 2 mit geteilt. BadDoppelzimmer Standard: 252 EUR pro Person - Doppelbelegung mit geteilt. BadMehrbettzimmer Comfort: 226 EUR pro Person - 4 Bettzimmer mit eigen. BadZelt-/Stellplatz: 186 EUR p.P.- Kissen & Schlafsack mitbringen*Unsere Zimmer sind teilweise sehr schnell ausgebucht. Gib hier bitte eine Alternative an\, falls dein erster Zimmerwunsch schon belegt ist.Dein zweiter alternativer Zimmerwunsch *Bitte unbedingt angeben!Comfort + : 312 EUR - Zimmer mit eig. Bad (1\,40m breitem Bett)Doppelzimmer Standard: 252 EUR pro Person- Doppelbelegung mit geteilt. BadMehrbettzimmer Comfort: 226 EUR pro Person- 4 Bettzimmer mit eigen. BadStellplatz: 186 EUR pro Person- Kissen & Schlafsack mitbringenTagesgast mit selbst organisierter Übernachtung in der NäheWenn mein Wunschzimmer nicht frei ist\, komme ich nicht.*Ja\, unsere Zimmer gehen teilweise weg wie warme Semmeln. Ein zweiter Zimmerwunsch ist hier wichtig!Welche Variante möchtest du als Tagesgast wählen? (Preis für die gesamte Zeit pro Person) *166 EUR inkl. Frühstück-\, Mittag- und Abendbuffet142 EUR inkl. Mittag- und Abendbuffet96 EUR inkl. MittagbuffetNachricht ans TeamIch habe eine persönliche Nachricht ans TeamMeine Nachricht ans Team *Vorname *Nachname *Vor- und Nachname deines Partners *Möchtest du mit einer bestimmten Person ins Doppelzimmer? *Straße und Hausnummer *Hausnummer *PLZ *Ort *TelefonnummerE-Mail *AGB *Ich bestätige die Teilnahme- & Stornobedingungen des Seminars wie o.a.  sowie die AGB des Seminarhauses.Datenschutzbestimmungen *Ich habe die Datenschutzerklärung gelesen und stimme zu.EmailBuchungsanfrage abschicken
URL:https://sampurna-seminarhaus.de/event/engelwoelfe-modul-2-neo-schamanismus-mit-nicole-schollmayer-und-andreas-krueger/
LOCATION:Seminarhaus Sampurna\, Am Tiergarten 1\, Schlangenbad-Bärstadt\, Hessen\, 65388\, Deutschland
CATEGORIES:Ausbildung
ATTACH;FMTTYPE=image/jpeg:https://sampurna-seminarhaus.de/wp-content/uploads/2023/04/Engelwolf-Veranstaltungsbild-Sampurna-e6e761d87e3d5d02a1c562788f01d56e-e1682090985823.jpg
ORGANIZER;CN="Nicole Schollmayer":MAILTO:mail@nicole-schollmayer.de
END:VEVENT
END:VCALENDAR