BEGIN:VCALENDAR
VERSION:2.0
PRODID:-//Sampurna Seminarhaus - ECPv6.10.1.1//NONSGML v1.0//EN
CALSCALE:GREGORIAN
METHOD:PUBLISH
X-WR-CALNAME:Sampurna Seminarhaus
X-ORIGINAL-URL:https://sampurna-seminarhaus.de
X-WR-CALDESC:Veranstaltungen für Sampurna Seminarhaus
REFRESH-INTERVAL;VALUE=DURATION:PT1H
X-Robots-Tag:noindex
X-PUBLISHED-TTL:PT1H
BEGIN:VTIMEZONE
TZID:Europe/Berlin
BEGIN:DAYLIGHT
TZOFFSETFROM:+0100
TZOFFSETTO:+0200
TZNAME:CEST
DTSTART:20240331T010000
END:DAYLIGHT
BEGIN:STANDARD
TZOFFSETFROM:+0200
TZOFFSETTO:+0100
TZNAME:CET
DTSTART:20241027T010000
END:STANDARD
END:VTIMEZONE
BEGIN:VEVENT
DTSTART;TZID=Europe/Berlin:20240621T160000
DTEND;TZID=Europe/Berlin:20240623T140000
DTSTAMP:20260420T222804
CREATED:20240214T074837Z
LAST-MODIFIED:20240214T081548Z
UID:10000952-1718985600-1719151200@sampurna-seminarhaus.de
SUMMARY:Chakra Yoga Workshop
DESCRIPTION:Jeeva raksha (Das Wurzelchakra) | Lebenskraftmanagement \nLebenskraftmanagement für körperliche Gesundheit.\nKonzentrieren Sie sich auf die Kontrolle des Atems und lenken Sie Pancha Pranas (Vital Energie) um die Lebenskraft zu aktivieren und bringen Sie das im Gleichgewicht in unseren Körper. \nGnana sakthi (Das Stirnchakra) | Weißheit\nDas Ajna Chakra (Stirnchakra) ist das Energiezentrum zwischen unseren Augenbraunen. Aktivierung des Ajna Chakra verhilft insbesondere für Stärkung der Intuition\, Fokus und klare Denken. \nAtma sakthi (Das Kronenchakra) |  höchste Energie\nVerbindung mit höherer Energie durch Öffnen des Kronenchakras\, um Frieden zu spüren und den Stress abzubauen\, um den subtilen Körper zu energetisieren. \nAblaufplan \nVoraussetzung für die Teilnahme \nWährend des Rückzugs wird vollkommene Stille helfen\, die Chakren besser zu fokussieren. \nFrauen während ihrer Menstruationszyklen können die Chakren nicht aktivieren\, jedoch können sie sich in dieser Zeit auf das Mooladhara-Chakra konzentrieren. Offenheit für die Chakren-Erfahrung führt sehr leicht zu innerem Frieden. \n\nSeminarleiter\n \nSujatha Thirunavukkarasu \nMein Name ist Sujatha und ich komme aus Frankfurt. Ich praktiziere seit zehn Jahren Yoga und Meditation und arbeite als Vollzeit-Yogalehrerin. Zusätzlich biete ich auch Akasha-Chronik-Lesungen an. \nNach meinem Studium der Ingenieurwissenschaften hatte ich viele Fragen und Gedanken\, die mich beschäftigten. Doch nachdem mein Ajna- und Kronenchakra durch einen erleuchteten Guru namens Gurumahan aus Südindien aktiviert wurde\, fand ich Antworten auf meine Fragen und inneren Frieden durch Meditation. \nhttps://paranjothiyoga.de/ueber-uns \n \nKannan Krishnaswamy \nIch bin Kannan und stamme aus Coimbatore\, Südindien. Seit über 18 Jahren praktiziere und unterrichte ich Yoga. Während meines MBA-Studiums in England im Alter von 23 Jahren verspürte ich den Wunsch\, meine Bestimmung zu erkennen. So kam ich in Kontakt mit meinem Lehrer Guru Mahan und begann den Weg des Kundalini-Yoga zu beschreiten. \nDurch die tägliche Praxis von Asanas und Meditation fand ich zusammen mit meiner Frau Sujatha als Yoga-Lehrer meine Lebensaufgabe. \n\nSeminargebühr und Anmeldung:\nSeminargebühr regulär: 275€ \nFrühbucherrabatt bis 30.April.2024: 250€ \nSujatha Thirunavukkarasu // +497645791994 //  anmeldung.msy@gmail.com \n\nSeminaranmeldung Übernachtung und Verpflegung\nBitte aktiviere JavaScript in deinem Browser\, um dieses Formular fertigzustellen.Hast du dich bereits beim Veranstalter angemeldet? *JaNeinIch bin einverstanden *Ja\, meine Kontaktdaten dürfen an den Veranstalter weitergegeben werden.Auswahl deines Aufenthaltes *EinzelzimmerPaarbettzimmerDoppelzimmerMehrbettzimmerTagesgast mit VerpflegungWelches Einzelzimmer möchtest du?  *Suite: 412 EUR - großes Apartment mit eigenem Bad\, Wohn-/EssbereichComfort + : 312 EUR - Zimmer mit eig. Bad (1\,40m breitem Bett)Comfort: 292 EUR  - Zimmer mit eigenem BadStandard: 272 EUR  - Zimmer mit geteiltem Bad(Preis für gesamte Zeit pro Person inkl. Verpflegung)Welches Paarbettzimmer möchtest du?  *Comfort: 242 EUR p.P. - Doppelbelegung im kl. Z.\, Kuschelbett (140er)+eigen. BadStandard: 226 EUR p.P. - Doppelbelegung im kl. Z.\, Kuschelbett (140er)+geteilt. Bad(Preis für gesamte Zeit pro Person inkl. Verpflegung)Welches Doppelzimmer möchstes du?  *Suite: 312 EUR p.P. - Doppelbelegung im großen ApartmentDeluxe: 292 EUR p.P. - Doppelbelegung großes Zimmer mit eigenem BadStandard: 252 EUR p.P. - Doppelbelegung im Zimmer mit geteiltes Bad(Preis für gesamte Zeit pro Person inkl. Verpflegung)Welches Mehrbettzimmer möchtest du? *Comfort: 226 EUR - max. 4 Bettzimmer mit eigenem BadZelt-\, Stellplatz: 186 EUR - Kissen & Schlafsack mitbringen (Preis für gesamte Zeit pro Person inkl. Verpflegung)Welche Tagesgast-Variante möchtest wählen?  *166 EUR inkl. Frühstück-\, Mittag- und Abendbuffet142 EUR inkl. Mittag- und Abendbuffet96 EUR inkl. Mittagbuffet(Preis für die gesamte Zeit pro Person)Dein erster alternativer Zimmerwunsch *Bitte unbedingt angeben!Comfort Plus : 312 EUR - Zimmer mit eig. Bad (1\,40m breitem Bett)Einzelzimmer Standard: 272 EUR pro Person - Zimmer mit geteilt. BadPaarbettzimmer Standard: 226 EUR pro Person - Kuschelbett (140er) für 2 mit geteilt. BadDoppelzimmer Standard: 252 EUR pro Person - Doppelbelegung mit geteilt. BadMehrbettzimmer Comfort: 226 EUR pro Person - 4 Bettzimmer mit eigen. BadZelt-/Stellplatz: 186 EUR p.P.- Kissen & Schlafsack mitbringen*Unsere Zimmer sind teilweise sehr schnell ausgebucht. Gib hier bitte eine Alternative an\, falls dein erster Zimmerwunsch schon belegt ist.Dein zweiter alternativer Zimmerwunsch *Bitte unbedingt angeben!Comfort Plus : 312 EUR - Zimmer mit eig. Bad (1\,40m breitem Bett)Doppelzimmer Standard: 252 EUR pro Person- Doppelbelegung mit geteilt. BadMehrbettzimmer Comfort: 226 EUR pro Person- 4 Bettzimmer mit eigen. BadStellplatz: 186 EUR pro Person- Kissen & Schlafsack mitbringenTagesgast mit selbst organisierter Übernachtung in der NäheWenn mein Wunschzimmer nicht frei ist\, komme ich nicht.*Ja\, unsere Zimmer gehen teilweise weg wie warme Semmeln. Ein zweiter Zimmerwunsch ist hier wichtig!Welche Variante möchtest du als Tagesgast wählen? (Preis für die gesamte Zeit pro Person) *166 EUR inkl. Frühstück-\, Mittag- und Abendbuffet142 EUR inkl. Mittag- und Abendbuffet96 EUR inkl. MittagbuffetNachricht ans TeamIch habe eine persönliche Nachricht ans TeamMeine Nachricht ans Team *Vorname *Nachname *Vor- und Nachname deines Partners *Möchtest du mit einer bestimmten Person ins Doppelzimmer? *Straße und Hausnummer *Hausnummer *PLZ *Ort *TelefonnummerE-Mail *AGB *Ich bestätige die Teilnahme- & Stornobedingungen des Seminars wie o.a.  sowie die AGB des Seminarhauses.Datenschutzbestimmungen *Ich habe die Datenschutzerklärung gelesen und stimme zu.NameBuchungsanfrage abschicken
URL:https://sampurna-seminarhaus.de/event/chakrayogaworkshop/
LOCATION:Hessen
CATEGORIES:Seminar
ATTACH;FMTTYPE=image/png:https://sampurna-seminarhaus.de/wp-content/uploads/2024/02/join-now-4.png
ORGANIZER;CN="Sujatha Thirunavukkarasu":MAILTO:anmeldung.msy@gmail.com
END:VEVENT
BEGIN:VEVENT
DTSTART;TZID=Europe/Berlin:20240621T160000
DTEND;TZID=Europe/Berlin:20240623T160000
DTSTAMP:20260420T222804
CREATED:20231214T112102Z
LAST-MODIFIED:20240226T104744Z
UID:10000924-1718985600-1719158400@sampurna-seminarhaus.de
SUMMARY:sweat and smile - Jivamukti Yoga Retreat
DESCRIPTION:Warum „sweat and smile“? \nKatharina lädt dich zu einer dynamischen Jivamukti Yoga Praxis ein\, die dich sicher zum Schwitzen bringt und mit einem Lächeln Savasana genießen lässt. \nWas ist Jivamukti Yoga? \nJivamukti Yoga wurde Ende der 80er Jahre von Sharon Gannon und David Life in New York entwickelt. Sie haben sich hauptsächlich vom Ashtanga Yoga inspirieren lassen und dazu noch ihre Leidenschaft für Musik und Tanz hinzugemischt. So ist Jivamukti Yoga heute ein dynamischer Yogastil\, bei dem du am Anfang der Yogaklasse mit China Gel (wenn du möchtest) am unteren Rücken eingecremt wirst und am Ende (ebenfalls nur wenn du möchtest) eine Nackenmassage bekommst. Dazu gibt es (moderne) Musik\, Meditation und inspirierende Talks. \nIst das Retreat das Richtige für mich? \nDas Retreat ist richtig für dich\, wenn du schon etwas Yogaerfahrung hast\, dich gerne bei deiner Yogapraxis forderst und undogmatisch Yoga üben möchtest. \nWas gibt es sonst noch? \nIm Sampurna Seminarhaus kannst du vor\, nach oder zwischen dem Yoga in die Sauna gehen\, es gibt sehr leckeres bio-vegetarisches Essen und die umgebende Natur lädt zum Spazieren ein. \nIm Juni sollte das Wetter auch schön genug sein\, um die freie Zeit entspannt im Hof zu verbringen. \nAm Sonntagnachmittag gibt es eine abschließende Yin Yoga Klasse. \nsweatandsmileablaufplan \nVoraussetzung für die Teilnahme \nIst das Retreat die richtige Auszeit für mich?\nDas Retreat ist für dich\, wenn du Lust darauf hast\, dich beim Yoga etwas anzustrengen und du schon etwas Erfahrung mit dynamischem Yoga hast \n\nSeminarleitung\n \nKatharina Böhme \nKatharina ist unter anderem Certified Jivamukti Teacher und hat 2011 zum ersten Mal eine Jivamukti Yoga Klasse besucht. Sie war sofort begeistert! Seitdem ist sie regelmäßig unterwegs um überall auf der Welt Yoga zu machen\, hat über 600 Stunden Yogalehrerausbildungen mitgemacht\, bei mehreren Yogalehrerausbildungen selbst gelehrt und immer wieder neue Yogastile ausprobiert.\nWenn sie nicht auf der Yogamatte ist\, geht sie mit ihrem Hund „Mimmi“ spazieren\, liest jede Menge Bücher oder ist vertieft in eine Serie. \nAußerdem ist sie ausgebildete Physiotherapeutin und behandelt hauptsächlich Menschen mit Kiefer- und Kopfproblemen. \n\nPreise & Anmeldung zum Seminar\nSuper Early Bird: verbindliche Anmeldung bis 31.3.: 150€ \nEarly Bird: verbindliche Anmeldung bis 30.4.: 180€ \nSeminargebühr ab 01.Mai: 200€ \nAnmeldung unter:  Katharina Böhme//  katharina.boehme@online.de \n\nPreise und Anmeldung für Tagesgäste und Unterkunft und Verpflegung\n\n\n\nBitte aktiviere JavaScript in deinem Browser\, um dieses Formular fertigzustellen.Hast du dich bereits beim Veranstalter angemeldet? *JaNeinIch bin einverstanden *Ja\, meine Kontaktdaten dürfen an den Veranstalter weitergegeben werden.Auswahl deines Aufenthaltes *EinzelzimmerPaarbettzimmerDoppelzimmerMehrbettzimmerTagesgast mit VerpflegungWelches Einzelzimmer möchtest du?  *Suite: 412 EUR - großes Apartment mit eigenem Bad\, Wohn-/EssbereichComfort + : 312 EUR - Zimmer mit eig. Bad (1\,40m breitem Bett)Comfort: 292 EUR  - Zimmer mit eigenem BadStandard: 272 EUR  - Zimmer mit geteiltem Bad(Preis für gesamte Zeit pro Person inkl. Verpflegung)Welches Paarbettzimmer möchtest du?  *Comfort: 242 EUR p.P. - Doppelbelegung im kl. Z.\, Kuschelbett (140er)+eigen. BadStandard: 226 EUR p.P. - Doppelbelegung im kl. Z.\, Kuschelbett (140er)+geteilt. Bad(Preis für gesamte Zeit pro Person inkl. Verpflegung)Welches Doppelzimmer möchstes du?  *Suite: 312 EUR p.P. - Doppelbelegung im großen ApartmentDeluxe: 292 EUR p.P. - Doppelbelegung großes Zimmer mit eigenem BadStandard: 252 EUR p.P. - Doppelbelegung im Zimmer mit geteiltes Bad(Preis für gesamte Zeit pro Person inkl. Verpflegung)Welches Mehrbettzimmer möchtest du? *Comfort: 226 EUR - max. 4 Bettzimmer mit eigenem BadZelt-\, Stellplatz: 186 EUR - Kissen & Schlafsack mitbringen (Preis für gesamte Zeit pro Person inkl. Verpflegung)Welche Tagesgast-Variante möchtest wählen?  *166 EUR inkl. Frühstück-\, Mittag- und Abendbuffet142 EUR inkl. Mittag- und Abendbuffet96 EUR inkl. Mittagbuffet(Preis für die gesamte Zeit pro Person)Dein erster alternativer Zimmerwunsch *Bitte unbedingt angeben!Comfort Plus : 312 EUR - Zimmer mit eig. Bad (1\,40m breitem Bett)Einzelzimmer Standard: 272 EUR pro Person - Zimmer mit geteilt. BadPaarbettzimmer Standard: 226 EUR pro Person - Kuschelbett (140er) für 2 mit geteilt. BadDoppelzimmer Standard: 252 EUR pro Person - Doppelbelegung mit geteilt. BadMehrbettzimmer Comfort: 226 EUR pro Person - 4 Bettzimmer mit eigen. BadZelt-/Stellplatz: 186 EUR p.P.- Kissen & Schlafsack mitbringen*Unsere Zimmer sind teilweise sehr schnell ausgebucht. Gib hier bitte eine Alternative an\, falls dein erster Zimmerwunsch schon belegt ist.Dein zweiter alternativer Zimmerwunsch *Bitte unbedingt angeben!Comfort Plus : 7312 EUR - Zimmer mit eig. Bad (1\,40m breitem Bett)Doppelzimmer Standard: 252 EUR pro Person- Doppelbelegung mit geteilt. BadMehrbettzimmer Comfort: 226 EUR pro Person- 4 Bettzimmer mit eigen. BadStellplatz: 186 EUR pro Person- Kissen & Schlafsack mitbringenTagesgast mit selbst organisierter Übernachtung in der NäheWenn mein Wunschzimmer nicht frei ist\, komme ich nicht.*Ja\, unsere Zimmer gehen teilweise weg wie warme Semmeln. Ein zweiter Zimmerwunsch ist hier wichtig!Welche Variante möchtest du als Tagesgast wählen? (Preis für die gesamte Zeit pro Person) *166 EUR inkl. Frühstück-\, Mittag- und Abendbuffet142 EUR inkl. Mittag- und Abendbuffet96 EUR inkl. MittagbuffetNachricht ans TeamIch habe eine persönliche Nachricht ans TeamMeine Nachricht ans Team *Vorname *Nachname *Vor- und Nachname deines Partners *Möchtest du mit einer bestimmten Person ins Doppelzimmer? *Straße und Hausnummer *Hausnummer *PLZ *Ort *Telefonnummer *E-Mail *AGB *Ich bestätige die Teilnahme- & Stornobedingungen des Seminars wie o.a.  sowie die AGB des Seminarhauses.Datenschutzbestimmungen *Ich habe die Datenschutzerklärung gelesen und stimme zu.MessageBuchungsanfrage abschicken
URL:https://sampurna-seminarhaus.de/event/sweat-and-smile-ein-jivamukti-und-vinyasa-flow-yoga-retreat/
LOCATION:Hessen
CATEGORIES:Seminar
ATTACH;FMTTYPE=image/jpeg:https://sampurna-seminarhaus.de/wp-content/uploads/2023/12/erick-tang-Of7fPGRSz_4-unsplash-scaled-e1702552676892.jpg
ORGANIZER;CN="Katharina B%C3%B6hme":MAILTO:hallo@katharinaboehme-physio.de
END:VEVENT
BEGIN:VEVENT
DTSTART;TZID=Europe/Berlin:20240621T160000
DTEND;TZID=Europe/Berlin:20240623T160000
DTSTAMP:20260420T222804
CREATED:20240417T104440Z
LAST-MODIFIED:20240417T114235Z
UID:10000982-1718985600-1719158400@sampurna-seminarhaus.de
SUMMARY:Verlustangst trifft Bindungsangst\, wenn Nähe oder Distanz zur Bedrohung werden
DESCRIPTION:Wahrhaftige und erfüllende Bindung können wir nur eingehen\, wenn wir Nähe ohne Ich Verlust und Distanz ohne Wir Verlust erleben können. \nVerlustangst und Bindungsangst scheinen sich magisch anzuziehen. Die Dynamik zwischen „bleib bei mir“ und „ich brauche mehr Zeit und Raum für mich“ führt zu viel Schmerz\, Enttäuschung und Drama in den Beziehungen. \nMenschen mit Verlust- oder Bindungsangst suchen sich unbewusst und intuitiv einen Partner*in aus\, der sie vor die schmerzhaften Herausforderungen stellt\, die sie schon kennen. Die unterbewusste Motivation ist sehr oft: dieses Mal soll es anders ausgehen\, dieses Mal soll es gut enden\, dieses Mal möchte ich so wahrgenommen und angenommen werden wie ich bin. \nDas Fatale ist: für genau diese Herausforderungen haben wir Bewältigungsstrategien\, Vermeidungs- und Schutzmechanismen in unserem Verhalten etabliert\, die sofort greifen\, wenn es sich so anfühlt wie damals. Das verhindert\, dass wir neue Erfahrung machen können. Wir wiederholen das Schmerzhafte und bestätigen unsere Glaubenssätze\, die als Stützen unsere Schutzmechanismen dienen. \nDoch jeder Veränderungsprozess BRAUCHT neue\, gute und nährende Erfahrungen. Genau dort setzt das Seminar. \n\nSeminarleitung\n \nPatricia Russu \nPatricia Russu ist Beziehungscoach\, lebt in Hamburg und arbeitet mit Paaren\, die sich im Beziehungsdrama verstrickt haben und einen Weg suchen\, um wieder in eine glückliche und erfüllte Beziehung zu finden. \nIch selbst habe lange unter Verlustangst gelitten. Nach einer sehr schmerzhaften Trennung\, wurde mir klar\, dass nicht der falsche Partner die Schuld trägt für meinen Beziehungsschmerz\, sondern in mir ein Programm abläuft\, das mich immer wieder genau in die gleichen Dramen führt. Ich begann eine transformierende Reise zu mir selbst anzutreten und ließ mich zum integralen Coach ausbilden\, mit traumasensiblen und bindungsorientiertem Fokus in der Beziehungs- und Paararbeit. \nhttps://patricia-russu.de/ \n \nAnika Krämer \nAnika ist Nervensystemcoach und begleitet Menschen dabei\, über ihren Körper zurück zu sich selbst zu finden und hilft ihnen ihre Ängste\, Limitierungen und Blockaden ganzheitlich auf Nervensystem-Ebene aufzulösen. Sie ist überzeugt davon\, dass Sicherheit in sich selbst zu kultivieren\, der Schlüssel für eine bessere Welt ist. \nhttps://www.anika-kraemer.de \n\nSeminargebühr und Anmeldung zum Seminar:\nSeminargebühr:  449€ \nAnmeldung bei: Patricia Russu //  +491797862359 // mail@patricia-russu.de \n\nAnmeldung & Preise für Unterkunft & Verpflegung:\nBitte aktiviere JavaScript in deinem Browser\, um dieses Formular fertigzustellen.Hast du dich bereits beim Veranstalter angemeldet? *JaNeinIch bin einverstanden *Ja\, meine Kontaktdaten dürfen an den Veranstalter weitergegeben werden.Auswahl deines Aufenthaltes *EinzelzimmerPaarbettzimmerDoppelzimmerMehrbettzimmerTagesgast mit VerpflegungWelches Einzelzimmer möchtest du?  *Suite: 412 EUR - großes Apartment mit eigenem Bad\, Wohn-/EssbereichComfort Plus : 312 EUR - Zimmer mit eig. Bad (1\,40m breitem Bett)Comfort: 292 EUR  - Zimmer mit eigenem BadStandard: 272 EUR  - Zimmer mit geteiltem Bad(Preis für gesamte Zeit pro Person inkl. Verpflegung)Welches Paarbettzimmer möchtest du?  *Comfort: 242 EUR p.P. - Doppelbelegung im kl. Z.\, Kuschelbett (140er)+eigen. BadStandard: 226 EUR p.P. - Doppelbelegung im kl. Z.\, Kuschelbett (140er)+geteilt. Bad(Preis für gesamte Zeit pro Person inkl. Verpflegung)Welches Doppelzimmer möchstes du?  *Suite: 312 EUR p.P. - Doppelbelegung im großen ApartmentDeluxe: 292 EUR p.P. - Doppelbelegung großes Zimmer mit eigenem BadStandard: 252 EUR p.P. - Doppelbelegung im Zimmer mit geteiltes Bad(Preis für gesamte Zeit pro Person inkl. Verpflegung)Welches Mehrbettzimmer möchtest du? *Comfort: 226 EUR - max. 4 Bettzimmer mit eigenem BadZelt-\, Stellplatz: 186 EUR - Kissen & Schlafsack mitbringen (Preis für gesamte Zeit pro Person inkl. Verpflegung)Welche Tagesgast-Variante möchtest wählen?  *166 EUR inkl. Frühstück-\, Mittag- und Abendbuffet142 EUR inkl. Mittag- und Abendbuffet96 EUR inkl. Mittagbuffet(Preis für die gesamte Zeit pro Person)Dein erster alternativer Zimmerwunsch *Bitte unbedingt angeben!Comfort + : 312 EUR - Zimmer mit eig. Bad (1\,40m breitem Bett)Einzelzimmer Standard: 272 EUR pro Person - Zimmer mit geteilt. BadPaarbettzimmer Standard: 226 EUR pro Person - Kuschelbett (140er) für 2 mit geteilt. BadDoppelzimmer Standard: 252 EUR pro Person - Doppelbelegung mit geteilt. BadMehrbettzimmer Comfort: 226 EUR pro Person - 4 Bettzimmer mit eigen. BadZelt-/Stellplatz: 186 EUR p.P.- Kissen & Schlafsack mitbringen*Unsere Zimmer sind teilweise sehr schnell ausgebucht. Gib hier bitte eine Alternative an\, falls dein erster Zimmerwunsch schon belegt ist.Dein zweiter alternativer Zimmerwunsch *Bitte unbedingt angeben!Comfort + : 312 EUR - Zimmer mit eig. Bad (1\,40m breitem Bett)Doppelzimmer Standard: 262 EUR pro Person- Doppelbelegung mit geteilt. BadMehrbettzimmer Comfort: 226 EUR pro Person- 4 Bettzimmer mit eigen. BadStellplatz: 186 EUR pro Person- Kissen & Schlafsack mitbringenTagesgast mit selbst organisierter Übernachtung in der NäheWenn mein Wunschzimmer nicht frei ist\, komme ich nicht.*Ja\, unsere Zimmer gehen teilweise weg wie warme Semmeln. Ein zweiter Zimmerwunsch ist hier wichtig!Welche Variante möchtest du als Tagesgast wählen? (Preis für die gesamte Zeit pro Person) *166 EUR inkl. Frühstück-\, Mittag- und Abendbuffet142 EUR inkl. Mittag- und Abendbuffet96 EUR inkl. MittagbuffetNachricht ans TeamIch habe eine persönliche Nachricht ans TeamMeine Nachricht ans Team *Vorname *Nachname *Vor- und Nachname deines Partners *Möchtest du mit einer bestimmten Person ins Doppelzimmer? *Straße und Hausnummer *Hausnummer *PLZ *Ort *TelefonEmailadresse *E-Mail *AGB *Ich bestätige die Teilnahme- & Stornobedingungen des Seminars wie o.a.  sowie die AGB des Seminarhauses.Datenschutzbestimmungen *Ich habe die Datenschutzerklärung gelesen und stimme zu.EmailBuchungsanfrage abschicken
URL:https://sampurna-seminarhaus.de/event/verlustangst-trifft-bindungsangst-wenn-naehe-oder-distanz-zur-bedrohung-werden/
LOCATION:Seminarhaus Sampurna\, Am Tiergarten 1\, Schlangenbad-Bärstadt\, Hessen\, 65388\, Deutschland
CATEGORIES:Seminar
ATTACH;FMTTYPE=image/jpeg:https://sampurna-seminarhaus.de/wp-content/uploads/2024/04/PatriciaRussu-WorkshopSzenen-InkaEnglisch-2024-7-a027d4a8d400827d8cc7b4827cce94ae-scaled-e1713350506540.jpg
ORGANIZER;CN="Patricia Russu":MAILTO:mail@patricia-russu.de
END:VEVENT
BEGIN:VEVENT
DTSTART;TZID=Europe/Berlin:20240621T170000
DTEND;TZID=Europe/Berlin:20240623T140000
DTSTAMP:20260420T222804
CREATED:20231211T115911Z
LAST-MODIFIED:20240501T064423Z
UID:10000922-1718989200-1719151200@sampurna-seminarhaus.de
SUMMARY:Die weibliche Kraft von Lemurien
DESCRIPTION:An diesem Wochenende integrieren wir unser lemurisches Erbe in unser Bewusstsein und holen alte Rituale aus Lemurien in die JETZT-Zeit und unser aktuelles Leben. Es ist genau das Richtige für dich\, wenn du gemeinsam mit anderen tollen Frauen die weibliche Kraft von Lemurien in dir (wieder)entdecken möchtest. \nKomm dazu und lass dich von der Liebe der Sternenmütter durchfließen und auf allen Ebenen heilen. Denn das ist dein Zuhause. „Die weibliche Kraft von Lemurien“ eröffnet dir neue Horizonte und Erkenntnisse über dich und dein(e) Leben in Lemurien. \nJede Frau\, die ihrem inneren Ruf folgt\, ist -lich Willkommen in unserem magischen Kreis.\nFühle dich getragen\, geborgen und umarmt in unserer Mitte. \nWir widmen uns unserer eigenen Weiblichkeit und unserer lemurischen Akasha. Dazu gehört eine Initiation in den Kreis der Lemurischen Schwesternschaft und Meditationen mit den Lemurischen Aktivierungskarten. Auch der Austausch mit den anderen Frauen ist immer sehr bereichernd. \nWir freuen uns auf dich! \nVoraussetzungen für die Teilnahme \nDieses Seminar ist für alle Frauen\, die sich magisch angezogen fühlen von Lemurien und die eine starke Verbindung zu diesem Ort/dieser Zeit spüren. Vielleicht hast du schon lange nach einem lemurischen Seminar gesucht – hier ist es! \nAber auch wenn du noch nicht viel oder gar nichts von Lemurien\, Kryon\, den Sternenmüttern oder der Lemurischen Schwesternschaft gehört hast\, ist dieses Wochenende genau richtig für dich. Du brauchst keine Vorkenntnisse\, sondern darfst dich ganz auf das Wochenende einlassen. \n\nSeminarleitung\n \nAnne Schmidt-Gahlen \nAls ausgebildete NLP-Trainerin\, Epigenetik-Coach mit verschiedenen Ausbildungen in Quantenheilung\, Hypnose\, EFT (Klopfakkupressur)\, Meditation und Atemtraining\, u.a. bei Dr. Joe Dispenza\, bin ich seit 2021 die Botschafterin der Lemurischen Schwesternschaft im deutschsprachigen Raum. Die Schwesternschaft wurde 2011 von Dr. Amber Mele’ha Wolf in Amerika gegründet. Ich fühle mich sehr geehrt\, die Rituale aus der Zeit von Lemurien in das heutige Bewusstsein und in die heutige Welt bringen zu dürfen. \n  \n\nAnmeldung und Seminarkosten\nSeminargebühr: 349€ \nFrühbucherpreis: 299€ bis 31.03.2024 \nAnmeldung zum Seminar bei: Anne Schmidt-Gahlen // Tel: +491777961333 // Mail. anne@lemurische-schwesternschaft.de \n\nAnmeldung & Preise für Unterkunft & Verpflegung im Seminarhaus\nBitte aktiviere JavaScript in deinem Browser\, um dieses Formular fertigzustellen.Hast du dich bereits beim Veranstalter angemeldet? *JaNeinIch bin einverstanden *Ja\, meine Kontaktdaten dürfen an den Veranstalter weitergegeben werden.Auswahl deines Aufenthaltes *EinzelzimmerPaarbettzimmerDoppelzimmerMehrbettzimmerTagesgast mit VerpflegungWelches Einzelzimmer möchtest du?  *Suite: 412 EUR - großes Apartment mit eigenem Bad\, Wohn-/EssbereichComfort + : 312 EUR - Zimmer mit eig. Bad (1\,40m breitem Bett)Comfort: 292 EUR  - Zimmer mit eigenem BadStandard: 272 EUR  - Zimmer mit geteiltem Bad(Preis für gesamte Zeit pro Person inkl. Verpflegung)Welches Paarbettzimmer möchtest du?  *Comfort: 242 EUR p.P. - Doppelbelegung im kl. Z.\, Kuschelbett (140er)+eigen. BadStandard: 226 EUR p.P. - Doppelbelegung im kl. Z.\, Kuschelbett (140er)+geteilt. Bad(Preis für gesamte Zeit pro Person inkl. Verpflegung)Welches Doppelzimmer möchstes du?  *Suite: 312 EUR p.P. - Doppelbelegung im großen ApartmentDeluxe: 292 EUR p.P. - Doppelbelegung großes Zimmer mit eigenem BadStandard: 252 EUR p.P. - Doppelbelegung im Zimmer mit geteiltes Bad(Preis für gesamte Zeit pro Person inkl. Verpflegung)Welches Mehrbettzimmer möchtest du? *Comfort: 226 EUR - max. 4 Bettzimmer mit eigenem BadZelt-\, Stellplatz: 186 EUR - Kissen & Schlafsack mitbringen (Preis für gesamte Zeit pro Person inkl. Verpflegung)Welche Tagesgast-Variante möchtest wählen?  *166 EUR inkl. Frühstück-\, Mittag- und Abendbuffet142 EUR inkl. Mittag- und Abendbuffet96 EUR inkl. Mittagbuffet(Preis für die gesamte Zeit pro Person)Dein erster alternativer Zimmerwunsch *Bitte unbedingt angeben!Comfort Plus : 312 EUR - Zimmer mit eig. Bad (1\,40m breitem Bett)Einzelzimmer Standard: 272 EUR pro Person - Zimmer mit geteilt. BadPaarbettzimmer Standard: 226 EUR pro Person - Kuschelbett (140er) für 2 mit geteilt. BadDoppelzimmer Standard: 252 EUR pro Person - Doppelbelegung mit geteilt. BadMehrbettzimmer Comfort: 226 EUR pro Person - 4 Bettzimmer mit eigen. BadZelt-/Stellplatz: 186 EUR p.P.- Kissen & Schlafsack mitbringen*Unsere Zimmer sind teilweise sehr schnell ausgebucht. Gib hier bitte eine Alternative an\, falls dein erster Zimmerwunsch schon belegt ist.Dein zweiter alternativer Zimmerwunsch *Bitte unbedingt angeben!Comfort Plus : 312 EUR - Zimmer mit eig. Bad (1\,40m breitem Bett)Doppelzimmer Standard: 252 EUR pro Person- Doppelbelegung mit geteilt. BadMehrbettzimmer Comfort: 226 EUR pro Person- 4 Bettzimmer mit eigen. BadStellplatz: 186 EUR pro Person- Kissen & Schlafsack mitbringenTagesgast mit selbst organisierter Übernachtung in der NäheWenn mein Wunschzimmer nicht frei ist\, komme ich nicht.*Ja\, unsere Zimmer gehen teilweise weg wie warme Semmeln. Ein zweiter Zimmerwunsch ist hier wichtig!Welche Variante möchtest du als Tagesgast wählen? (Preis für die gesamte Zeit pro Person) *166 EUR inkl. Frühstück-\, Mittag- und Abendbuffet142 EUR inkl. Mittag- und Abendbuffet96 EUR inkl. MittagbuffetNachricht ans TeamIch habe eine persönliche Nachricht ans TeamMeine Nachricht ans Team *Vorname *Nachname *Vor- und Nachname deines Partners *Möchtest du mit einer bestimmten Person ins Doppelzimmer? *Straße und Hausnummer *Hausnummer *PLZ *Ort *Telefonnummer *E-Mail *AGB *Ich bestätige die Teilnahme- & Stornobedingungen des Seminars wie o.a.  sowie die AGB des Seminarhauses.Datenschutzbestimmungen *Ich habe die Datenschutzerklärung gelesen und stimme zu.WebsiteBuchungsanfrage abschicken
URL:https://sampurna-seminarhaus.de/event/die-weibliche-kraft-von-lemurien/
LOCATION:Seminarhaus Sampurna\, Am Tiergarten 1\, Schlangenbad-Bärstadt\, Hessen\, 65388\, Deutschland
CATEGORIES:Seminar
ATTACH;FMTTYPE=image/png:https://sampurna-seminarhaus.de/wp-content/uploads/2023/12/Veranstaltungsbild-LS-Sampurna-08.12.2023-eb97d55b46ea53198374a41c1da3423f.png
ORGANIZER;CN="Anne Schmidt-Gahlen":MAILTO:anne@lemurische-schwesternschaft.de
END:VEVENT
END:VCALENDAR