BEGIN:VCALENDAR
VERSION:2.0
PRODID:-//Sampurna Seminarhaus - ECPv6.10.1.1//NONSGML v1.0//EN
CALSCALE:GREGORIAN
METHOD:PUBLISH
X-WR-CALNAME:Sampurna Seminarhaus
X-ORIGINAL-URL:https://sampurna-seminarhaus.de
X-WR-CALDESC:Veranstaltungen für Sampurna Seminarhaus
REFRESH-INTERVAL;VALUE=DURATION:PT1H
X-Robots-Tag:noindex
X-PUBLISHED-TTL:PT1H
BEGIN:VTIMEZONE
TZID:Europe/Berlin
BEGIN:DAYLIGHT
TZOFFSETFROM:+0100
TZOFFSETTO:+0200
TZNAME:CEST
DTSTART:20240331T010000
END:DAYLIGHT
BEGIN:STANDARD
TZOFFSETFROM:+0200
TZOFFSETTO:+0100
TZNAME:CET
DTSTART:20241027T010000
END:STANDARD
END:VTIMEZONE
BEGIN:VEVENT
DTSTART;TZID=Europe/Berlin:20240617T090000
DTEND;TZID=Europe/Berlin:20240621T150000
DTSTAMP:20260420T204526
CREATED:20231020T070033Z
LAST-MODIFIED:20240222T165320Z
UID:10000910-1718614800-1718982000@sampurna-seminarhaus.de
SUMMARY:Yoga und Krebs Weiterbildung/Teacher Training
DESCRIPTION:Die Yoga und Krebs Ausbildung ist für alle geeignet\, die ihre Expertise erweitern möchten\, die selbst weiter lernen und sich weiter entwickeln möchten. Du lernst bei uns\, wie Menschen mit einer Krebserfahrung ganzheitlich begleitet werden können. \nWir betrachten Krebserkrankungen aus medizinischer\, energetischer und spiritueller Sicht und du wirst dich nach der Ausbildung sicher fühlen\, Menschen während ihrer Erkrankung und auch lange Zeit danach kompetent und liebevoll zu begleiten. \nMedizinische Basics und der Umgang mit typischen Nebenwirkungen der Krebstherapie gehört ebenso dazu\, wie die Begleitung auf allen Kosha-Ebenen und die Neuausrichtung auf den weiteren Lebensweg. \nWem ’normale’ Yogastunden und schöne Flows nicht mehr reichen\, der ist bei uns genau richtig. Die Ausbildung geht sehr in die Tiefe und wird den gesamten Yoga-Unterricht bereichern. YogalehrerInnen lernen\, wie sie ihre Leidenschaft für Yoga dafür einsetzen können\, anderen Menschen wirklich zu helfen und sie ins Handeln zu bringen. \n\nTeilnahmevoraussetzungen\nAbgeschlossene Yogalehrer-Ausbildung (mind. 200 h) und nach Möglichkeit mind. 1 Jahr Unterrichtserfahrung. \n\nAblaufplan\nYUK Agenda Teacher Training \n\n \nGaby Nele Kammler war mehr als 20 Jahre im wissenschaftlichen Außendienst tätig\, die letzten Jahre davon in der Onkologie. Sie ist Yogalehrerin\, Referentin der Deutschen Krebshilfe e.V. und Gastdozentin für Yoga und Krebs.\nDas Wissen aus der Schulmedizin und vielen Jahren Erfahrung im Unterrichten von Krebspatienten vereint sie in einem einzigartigen Konzept und gibt es in dieser Weiterbildung zum ‘Zertifizierten Yoga und Krebs Trainer’ an andere Yogalehrer*innen weiter. \nHier geht es zum Video: Yoga & Krebs mit Gaby Nele Kammler \n  \n\nAnmeldung und Seminargebühr\nSeminargebühr: 1.680€  \nAnmeldung \nGaby Nele Kammler \nemail: info@yoga-und-krebs.de \nWebsite: https://www.yoga-und-krebs.de/ \n\nPreise und Anmeldung für Unterkunft und Verpflegung\nBitte aktiviere JavaScript in deinem Browser\, um dieses Formular fertigzustellen.Hast du dich bereits beim Veranstalter angemeldet? *JaNeinIch bin einverstanden *Ja\, meine Kontaktdaten dürfen an den Veranstalter weitergegeben werden.Auswahl deines Aufenthaltes *EinzelzimmerPaarbettzimmerDoppelzimmerMehrbettzimmerTagesgast mit VerpflegungWelches Einzelzimmer möchtest du?  *Suite: 862 EUR - großes Apartment mit eigenem Bad\, Wohn-/EssbereichComfort + : 662 EUR - Zimmer mit eig. Bad (1\,40m breitem Bett)Comfort: 622 EUR  - Zimmer mit eigenem BadStandard: 582 EUR  - Zimmer mit geteiltem Bad(Preis für gesamte Zeit pro Person inkl. Verpflegung)Welches Paarbettzimmer möchtest du?  *Comfort: 542 EUR p.P. - Doppelbelegung im kl. Z.\, Kuschelbett (140er)+eigen. BadStandard: 490 EUR p.P. - Doppelbelegung im kl. Z.\, Kuschelbett (140er)+geteilt. Bad(Preis für gesamte Zeit pro Person inkl. Verpflegung)Welches Doppelzimmer möchstes du?  *Suite: 662 EUR p.P. - Doppelbelegung im großen ApartmentDeluxe: 622 EUR p.P. - Doppelbelegung großes Zimmer mit eigenem BadStandard: 542 EUR p.P. - Doppelbelegung im Zimmer mit geteiltes Bad(Preis für gesamte Zeit pro Person inkl. Verpflegung)Welches Mehrbettzimmer möchtest du? *Comfort: 490 EUR - max. 4 Bettzimmer mit eigenem BadZelt-\, Stellplatz: 410 EUR - inkl. Badnutzung im Haus (Preis für gesamte Zeit pro Person inkl. Verpflegung)Welche Tagesgast-Variante möchtest wählen?  *438 EUR inkl. Frühstück-\, Mittag- und Abendbuffet378  EUR inkl. Mittag- und Abendbuffet263 EUR inkl. Mittagbuffet(Preis für die gesamte Zeit pro Person)Dein erster alternativer Zimmerwunsch *Bitte unbedingt angeben!Comfort Plus : 662 EUR - Zimmer mit eig. Bad (1\,40m breitem Bett)Einzelzimmer Standard: 582 EUR pro Person - Zimmer mit geteilt. BadPaarbettzimmer Standard: 490 EUR pro Person - Kuschelbett (140er) für 2 mit geteilt. BadDoppelzimmer Standard: 542 EUR pro Person - Doppelbelegung mit geteilt. BadMehrbettzimmer Comfort: 490 EUR pro Person - 4 Bettzimmer mit eigen. BadZelt-/Stellplatz: 410 EUR p.P.- inkl. Badnutzung im Haus*Unsere Zimmer sind teilweise sehr schnell ausgebucht. Gib hier bitte eine Alternative an\, falls dein erster Zimmerwunsch schon belegt ist.Dein zweiter alternativer Zimmerwunsch *Bitte unbedingt angeben!Comfort Plus : 662 EUR - Zimmer mit eig. Bad (1\,40m breitem Bett)Doppelzimmer Standard: 542 EUR pro Person- Doppelbelegung mit geteilt. BadMehrbettzimmer Comfort: 490 EUR pro Person- 4 Bettzimmer mit eigen. BadZelt-/Stellplatz: 410 EUR pro Person- Kissen & Schlafsack mitbringenTagesgast mit selbst organisierter Übernachtung in der NäheWenn mein Wunschzimmer nicht frei ist\, komme ich nicht.*Ja\, unsere Zimmer gehen teilweise weg wie warme Semmeln. Ein zweiter Zimmerwunsch ist hier wichtig!Welche Variante möchtest du als Tagesgast wählen? (Preis für die gesamte Zeit pro Person) *438 EUR inkl. Frühstück-\, Mittag- und Abendbuffet378 EUR inkl. Mittag- und Abendbuffet263 EUR inkl. MittagbuffetNachricht ans TeamIch habe eine persönliche Nachricht ans TeamMeine Nachricht ans Team *Vorname *Nachname *Vor- und Nachname deines Partners *Möchtest du mit einer bestimmten Person ins Doppelzimmer? *Straße und Hausnummer *Hausnummer *PLZ *Ort *E-Mail (kopieren) *E-Mail *AGB *Ich bestätige die Teilnahme- & Stornobedingungen des Seminars wie o.a.  sowie die AGB des Seminarhauses.Datenschutzbestimmungen *Ich habe die Datenschutzerklärung gelesen und stimme zu.EmailBuchungsanfrage abschicken
URL:https://sampurna-seminarhaus.de/event/yoga-und-krebs-weiterbildung-teacher-training/
LOCATION:Seminarhaus Sampurna\, Am Tiergarten 1\, Schlangenbad-Bärstadt\, Hessen\, 65388\, Deutschland
CATEGORIES:Ausbildung
ATTACH;FMTTYPE=image/png:https://sampurna-seminarhaus.de/wp-content/uploads/2021/09/YUK-Kathrin-Drehsitz-8e309341103f02117df25d70bcbca8c2.png-VA-Bild-e1631348979728.png
ORGANIZER;CN="Gaby Nele Kammler":MAILTO:info@yoga-und-krebs.de
END:VEVENT
BEGIN:VEVENT
DTSTART;TZID=Europe/Berlin:20240617T160000
DTEND;TZID=Europe/Berlin:20240621T140000
DTSTAMP:20260420T204526
CREATED:20230630T135048Z
LAST-MODIFIED:20240507T060145Z
UID:10000880-1718640000-1718978400@sampurna-seminarhaus.de
SUMMARY:Yogaretreat Katrin Meißner: bereits ausgebucht!
DESCRIPTION:Für Alle\, die Sehnsucht spüren\, dem Ruf ihres Herzens zu folgen. Dieses Seminar bietet Dir Raum\, um mit Gleichgesinnten eine besondere Auszeit\, ein Retreat/einen Rückzug aus dem Alltag zu erleben und in eine Wohlfühlwoche einzutauchen. \nIn diesen Tagen werden wir mit regelmäßiger Meditationspraxis in den Tag starten. Sanfte\, kleine Yogaeinheiten\, wie Gentle- und Yin Yoga werden für Bewegung sorgen und abgerundet mit Yoga Nidra in eine tiefe Entspannung führen. \nBesondere Erfahrungen\, wie die Aufstellungsarbeit bieten Einzelnen die Möglichkeit persönliche Anliegen zu klären und sind auch für die Stellvertreter/innen interessant. \nDu hast zudem die Möglichkeit „The Work“ von Byron Katie kennenzulernen\, oder Deine Erfahrung damit zu vertiefen. So erhältst Du die Möglichkeit negative\, Leid bringende Gedanken und Glaubenssätze zu verändern\, um mehr in inneren Frieden und Gelassenheit zu kommen. \n  \n\nEs erwartet Dich ein abwechslungsreiches und buntes Programm. \nHier nochmal auf einen Blick: \n*Austausch mit Gleichgesinnten \n* Balance für Körper und Seele \n*regelmäßige Meditation \n*Yogapraxiseinheiten \n*Yoga Nidra/Tiefenentspannung \n*Aufstellungsarbeit für die Klärung persönlicher Anliegen \n*Anregung/Ermutigung den ureigenen Weg zu finden oder weiter zu gehen \n*„The Work“ von Byron Katie \nVorkenntnisse sind nicht notwendig\, auch für Yogaanfänger/innen geeignet. \n  \nAlles eingebettet in den Rahmen\, den der Kraftort Sampurna bietet. Mit der wunderschönen Terrasse und den verschiedenen Sitz- und Liegemöglichkeiten\, Nahe am Wald gelegen. Neben den Einheiten kannst Du hier entspannen\, zur Ruhe kommen\, die Natur\, oder hauseigene Sauna genießen und bist u.a. mit leckerem\, bio-vegetarisch/veganen Essen rundum versorgt. \n  \nBitte mitbringen: \n\nEine Yogamatte\, eine Decke\, wenn du möchtest auch ein Kissen\nEine Trinkflasche für den Seminarraum\nSchreibzeug (Stift und Block)\nbequeme Hausschuhe und Kleidung\, auch etwas Warmes\nbei Bedarf ein Meditationskissen oder eine -bank\n\n\nSeminarleitung\n  \n \nKatrin Meißner \n*Systemische Beraterin SG \n*Mitarbeiter- und Führungskräfteberaterin \n*Systemaufstellerin (u.a. von Familien- und Organisationsaufstellungen) \n*Yogalehrerin und -Ausbilderin \nDer Fokus meiner Arbeit liegt für mich neben dem Konzept\, im intuitiven Arbeiten und spüren\, was die Gruppe oder ein einzelner Teilnehmer/eine Teilnehmerin braucht. In diesem Seminar möchte ich Raum für echten Austausch und tiefgehende Erfahrungen bieten. Durch Bewegung und andere Methoden unterstütze ich die Teilnehmer/innen auf ihrem persönlichen Weg. \n  \n\n Seminargebühr\nSeminarpreis: 299€ zzgl. Unterkunft und Verpflegung \nFrühbucherpreis bis zum 15.07.23: 249€ zzgl. Unterkunft und Verpflegung \nAnmeldung für das Seminar bitte per E-Mail  an Katrin-Meissner@gmx.de \nDie Buchung von Unterkunft und Verpflegung bitte hier: \n\nPreise für Unterkunft und Verpflegung:\nBitte aktiviere JavaScript in deinem Browser\, um dieses Formular fertigzustellen.Hast du dich bereits beim Veranstalter angemeldet? *JaNeinIch bin einverstanden *Ja\, meine Kontaktdaten dürfen an den Veranstalter weitergegeben werden.Auswahl deines Aufenthaltes *EinzelzimmerPaarbettzimmerDoppelzimmerMehrbettzimmerTagesgast mit VerpflegungWelches Einzelzimmer möchtest du?  *Suite: 824 EUR - großes Apartment mit eigenem Bad\, Wohn-/EssbereichComfort Plus : 624 EUR - Zimmer mit eig. Bad (1\,40m breitem Bett)Comfort: 584 EUR  - Zimmer mit eigenem BadStandard: 544 EUR  - Zimmer mit geteiltem Bad(Preis für gesamte Zeit pro Person inkl. Verpflegung)Welches Paarbettzimmer möchtest du?  *Comfort: 6504 EUR p.P. - Doppelbelegung im kl. Z.\, Kuschelbett (140er)+eigen. BadStandard: 452 EUR p.P - Doppelbelegung im kl. Z.\, Kuschelbett (140er) mit geteiltem Bad(Preis für gesamte Zeit pro Person inkl. Verpflegung)Welches Doppelzimmer möchstes du?  *Deluxe: 584 EUR p.P. - Doppelbelegung großes Zimmer mit eigenem BadStandard: 504 EUR p.P. - Doppelbelegung im Zimmer mit geteiltes Bad(Preis für gesamte Zeit pro Person inkl. Verpflegung)Welches Mehrbettzimmer möchtest du? *Comfort: 452 EUR - max. 4 Bettzimmer mit eigenem BadZelt-\, Stellplatz: 372 EUR - Kissen & Schlafsack mitbringen (Preis für gesamte Zeit pro Person inkl. Verpflegung)Welche Tagesgast-Variante möchtest wählen?  *332 EUR inkl. Frühstück-\, Mittag- und Abendbuffet284 EUR inkl. Mittag- und Abendbuffet192 EUR inkl. Mittagbuffet(Preis für die gesamte Zeit pro Person)Dein erster alternativer Zimmerwunsch *Bitte unbedingt angeben!Comfort + : 624 EUR - Zimmer mit eig. Bad (1\,40m breitem Bett)Einzelzimmer Standard: 544 EUR pro Person - Zimmer mit geteilt. BadPaarbettzimmer Standard: 452 EUR pro Person - Kuschelbett (140er) für 2 mit geteilt. BadDoppelzimmer Standard: 504 EUR pro Person - Doppelbelegung mit geteilt. BadMehrbettzimmer Comfort: 452 EUR pro Person - 4 Bettzimmer mit eigen. BadZelt-/Stellplatz: 372 EUR p.P.- Kissen & Schlafsack mitbringen*Unsere Zimmer sind teilweise sehr schnell ausgebucht. Gib hier bitte eine Alternative an\, falls dein erster Zimmerwunsch schon belegt ist.Dein zweiter alternativer Zimmerwunsch *Bitte unbedingt angeben!Comfort + : 624 EUR - Zimmer mit eig. Bad (1\,40m breitem Bett)Doppelzimmer Standard: 504 EUR pro Person- Doppelbelegung mit geteilt. BadMehrbettzimmer Comfort: 452 EUR pro Person- 4 Bettzimmer mit eigen. BadTagesgast mit selbst organisierter Übernachtung in der NäheWenn mein Wunschzimmer nicht frei ist\, komme ich nicht.*Ja\, unsere Zimmer gehen teilweise weg wie warme Semmeln. Ein zweiter Zimmerwunsch ist hier wichtig!Welche Variante möchtest du als Tagesgast wählen? (Preis für die gesamte Zeit pro Person) *332 EUR inkl. Frühstück-\, Mittag- und Abendbuffet284 EUR inkl. Mittag- und Abendbuffet192 EUR inkl. MittagbuffetNachricht ans TeamIch habe eine persönliche Nachricht ans TeamMeine Nachricht ans Team *Vorname *Nachname *Vor- und Nachname deines Partners *Möchtest du mit einer bestimmten Person ins Doppelzimmer? *Straße und Hausnummer *Hausnummer *PLZ *Ort *TelefonE-Mail *AGB *Ich bestätige die Teilnahme- & Stornobedingungen des Seminars wie o.a.  sowie die AGB des Seminarhauses.Datenschutzbestimmungen *Ich habe die Datenschutzerklärung gelesen und stimme zu.NameBuchungsanfrage abschicken
URL:https://sampurna-seminarhaus.de/event/yogaretreat-katrin-meissner/
LOCATION:Hessen
CATEGORIES:Seminar
ATTACH;FMTTYPE=image/jpeg:https://sampurna-seminarhaus.de/wp-content/uploads/2023/06/katrin_retusche-e1712135427533.jpg
ORGANIZER;CN="Katrin Mei%C3%9Fner":MAILTO:katrin-meissner@gmx.de
END:VEVENT
END:VCALENDAR