BEGIN:VCALENDAR
VERSION:2.0
PRODID:-//Sampurna Seminarhaus - ECPv6.10.1.1//NONSGML v1.0//EN
CALSCALE:GREGORIAN
METHOD:PUBLISH
X-WR-CALNAME:Sampurna Seminarhaus
X-ORIGINAL-URL:https://sampurna-seminarhaus.de
X-WR-CALDESC:Veranstaltungen für Sampurna Seminarhaus
REFRESH-INTERVAL;VALUE=DURATION:PT1H
X-Robots-Tag:noindex
X-PUBLISHED-TTL:PT1H
BEGIN:VTIMEZONE
TZID:Europe/Berlin
BEGIN:DAYLIGHT
TZOFFSETFROM:+0100
TZOFFSETTO:+0200
TZNAME:CEST
DTSTART:20240331T010000
END:DAYLIGHT
BEGIN:STANDARD
TZOFFSETFROM:+0200
TZOFFSETTO:+0100
TZNAME:CET
DTSTART:20241027T010000
END:STANDARD
END:VTIMEZONE
BEGIN:VEVENT
DTSTART;TZID=Europe/Berlin:20240530T170000
DTEND;TZID=Europe/Berlin:20240601T200000
DTSTAMP:20260420T222804
CREATED:20240223T094439Z
LAST-MODIFIED:20240507T055849Z
UID:10000959-1717088400-1717272000@sampurna-seminarhaus.de
SUMMARY:Finde die Balance für Körper\, Geist und Seele
DESCRIPTION:Vielleicht kennst du das\, wenn der Körper dir alle erdenklichen Signale sendet und du aber keine Zeit hast\, dich darum zu kümmern. Wenn du Schocks oder Traumata erlebst und auch dein Körper darunter leidet. Du erschöpft oder gestresst bist und manchmal nicht weißt\, wie du alles noch schaffen sollst. Unser Körper\, unsere Seele und unser Geist\, sind eine Einheit. Im Alltag findet jedoch viel Trennung statt. Ich habe mir als Ziel gesetzt\, dass andere Menschen nicht so leiden müssen\, wie ich es getan habe und möchte einen Werkzeugkoffer mit Informationen\, Übungen und dem Gefühl der Gemeinschaft mitgeben. Du bist nicht alleine und es gibt mehr\, als du dir gerade\, auf deinem Radar\, vorstellen kannst. Wenn dir Zusammenhänge bewusst werden\, kann Wandlung entstehen. Bist du offen dafür\, dich intensiver kennenzulernen und hinter die Kulissen des Körpers zu schauen\, dich mehr angebunden zu fühlen und mehr in deine Kraft zu kommen\, damit du dich endlich in deiner vollen Größe zeigen kannst? Bist du bereit aus deiner Komfortzone herauszutreten und gemeinsam neue Erfahrungen zu kreieren? Du wirst dich aktiv bewegen\, Meditationen kennenlernen und Emotionen fließen lassen. Komm ganz bei dir an! \nAblaufplan \nVoraussetzung für die Teilnahme \nDu solltest körperlich soweit fit sein\, dass du die aktiven Übungen mitmachen kannst. Wir werden auch raus gehen. Falls Du hier noch Fragen hast\, melde Dich gerne bei mir.\nDu solltest offen für Neues und Dich sein.\nEs sind keinerlei Vorkenntnisse notwendig.\nFreude\, Neugier und Offenheit sind super Voraussetzungen 🙂 \n  \n\nhttps://einssein-im-meersein.de/wp-content/uploads/2024/03/Seminar_EinsSein-im-MeerSein.mp4\n\nSeminarleitung\n \nAnja-Kristina Pfaff \nWas habe ich alles gemacht?\nFSJ in der Pflege\nPhysiotherapieausbildung\nEuopean Sports Physiotherapist in der Schweiz\nGesundheitskauffrau und Qualitätsmanagement\nHeilpraktikerin bei Dr. Jung\nAlternativen Therapiemethoden\nSpirituelle Familienstellerin\, energetischer Arbeit auch im Quantenfeld\nAusbildung für Kinder- und Jugendliche\nIch habe seit 2003 in Praxen und im Schmerzzentrum gearbeitet\n2018 Nahtoderfahrung\nseit 2019 selbständig mit Physio Holistik Gesundheitskonzept\nEinsSein im MeerSein \n\nAnmeldung und Seminargebühr\n\nTicktet FUN: Seminarteilnahme\, um die Erfahrung zu machen 310 Euro\nTickte FLOW: Seminar\, Workbook und vorab ein Zoom 480 Euro\nTicktet GROW: Seminar\, Workbook\, vorab Zoom\, Telegram Gruppe\, Nach dem Seminar ein Zoom mit der Gruppe und noch ein 1:1 Gespräch innerhalb vom 4 Wochen nach dem Seminar und bei Bedarf noch am 2.6. 1:1 Nachgespräch. 620 Euro\n\nAnmeldung: Anja-Kristina Pfaff // Mobil:  +491793407385 // kontakt@einssein-im-meersein.de \n\nAnmeldung und Preise für Unterkunft und Verpflegung im Seminarhaus\nBitte aktiviere JavaScript in deinem Browser\, um dieses Formular fertigzustellen.Hast du dich bereits beim Veranstalter angemeldet? *JaNeinIch bin einverstanden *Ja\, meine Kontaktdaten dürfen an den Veranstalter weitergegeben werden.Auswahl deines Aufenthaltes *EinzelzimmerPaarbettzimmerDoppelzimmerMehrbettzimmerTagesgast mit VerpflegungWelches Einzelzimmer möchtest du?  *Suite: 618 EUR - großes Apartment mit eigenem Bad\, Wohn-/EssbereichComfort + : 468 EUR - Zimmer mit eig. Bad (1\,40m breitem Bett)Comfort: 438 EUR  - Zimmer mit eigenem BadStandard: 408 EUR  - Zimmer mit geteiltem Bad(Preis für gesamte Zeit pro Person inkl. Verpflegung)Welches Paarbettzimmer möchtest du?  *Comfort: 378 EUR p.P. - Doppelbelegung im kl. Z.\, Kuschelbett (140er)+eigen. BadStandard: 339 EUR p.P. - Doppelbelegung im kl. Z.\, Kuschelbett (140er)+geteilt. Bad(Preis für gesamte Zeit pro Person inkl. Verpflegung)Welches Doppelzimmer möchstes du?  *Suite: 468 EUR p.P. - Doppelbelegung im großen ApartmentDeluxe: 438 EUR p.P. - Doppelbelegung großes Zimmer mit eigenem BadStandard: 378 EUR p.P. - Doppelbelegung im Zimmer mit geteiltes Bad(Preis für gesamte Zeit pro Person inkl. Verpflegung)Welches Mehrbettzimmer möchtest du? *Comfort: 339 EUR - max. 4 Bettzimmer mit eigenem BadZelt-\, Stellplatz: 279 EUR - Kissen & Schlafsack mitbringen (Preis für gesamte Zeit pro Person inkl. Verpflegung)Welche Tagesgast-Variante möchtest wählen?  *249 EUR inkl. Frühstück-\, Mittag- und Abendbuffet213 EUR inkl. Mittag- und Abendbuffet144 EUR inkl. Mittagbuffet(Preis für die gesamte Zeit pro Person)Dein erster alternativer Zimmerwunsch *Bitte unbedingt angeben!Comfort Plus : 468 EUR - Zimmer mit eig. Bad (1\,40m breitem Bett)Einzelzimmer Standard: 408 EUR pro Person - Zimmer mit geteilt. BadPaarbettzimmer Standard: 339 EUR pro Person - Kuschelbett (140er) für 2 mit geteilt. BadDoppelzimmer Standard: 378 EUR pro Person - Doppelbelegung mit geteilt. BadMehrbettzimmer Comfort: 339 EUR pro Person - 4 Bettzimmer mit eigen. BadZelt-/Stellplatz: 279 EUR p.P.- Kissen & Schlafsack mitbringen*Unsere Zimmer sind teilweise sehr schnell ausgebucht. Gib hier bitte eine Alternative an\, falls dein erster Zimmerwunsch schon belegt ist.Dein zweiter alternativer Zimmerwunsch *Bitte unbedingt angeben!Comfort Plus : 468 EUR - Zimmer mit eig. Bad (1\,40m breitem Bett)Doppelzimmer Standard: 378 EUR pro Person- Doppelbelegung mit geteilt. BadMehrbettzimmer Comfort: 339 EUR pro Person- 4 Bettzimmer mit eigen. BadStellplatz: 279 EUR pro Person- Kissen & Schlafsack mitbringenTagesgast mit selbst organisierter Übernachtung in der NäheWenn mein Wunschzimmer nicht frei ist\, komme ich nicht.*Ja\, unsere Zimmer gehen teilweise weg wie warme Semmeln. Ein zweiter Zimmerwunsch ist hier wichtig!Welche Variante möchtest du als Tagesgast wählen? (Preis für die gesamte Zeit pro Person) *249 EUR inkl. Frühstück-\, Mittag- und Abendbuffet213 EUR inkl. Mittag- und Abendbuffet144 EUR inkl. MittagbuffetNachricht ans TeamIch habe eine persönliche Nachricht ans TeamMeine Nachricht ans Team *Vorname *Nachname *Vor- und Nachname deines Partners *Möchtest du mit einer bestimmten Person ins Doppelzimmer? *Straße und Hausnummer *Hausnummer *PLZ *Ort *TelefonnummerE-Mail *AGB *Ich bestätige die Teilnahme- & Stornobedingungen des Seminars wie o.a.  sowie die AGB des Seminarhauses.Datenschutzbestimmungen *Ich habe die Datenschutzerklärung gelesen und stimme zu.Datum/ZeitDatumZeitPhoneBuchungsanfrage abschicken
URL:https://sampurna-seminarhaus.de/event/finde-die-balance-fuer-koerper-geist-und-seele/
LOCATION:Seminarhaus Sampurna\, Am Tiergarten 1\, Schlangenbad-Bärstadt\, Hessen\, 65388\, Deutschland
CATEGORIES:Seminar
ATTACH;FMTTYPE=image/png:https://sampurna-seminarhaus.de/wp-content/uploads/2024/02/NEU-Veranstaltungsbild_Finde-Balance-Seminar_Anja-Kristina_Pfaff-d6bcfa49a14c41aa0710feb3e20105f8.png
ORGANIZER;CN="Anja-Kristina Pfaff":MAILTO:kontakt@einssein-im-meersein.de
END:VEVENT
BEGIN:VEVENT
DTSTART;TZID=Europe/Berlin:20240531T170000
DTEND;TZID=Europe/Berlin:20240602T140000
DTSTAMP:20260420T222804
CREATED:20240112T110848Z
LAST-MODIFIED:20240113T104709Z
UID:10000933-1717174800-1717336800@sampurna-seminarhaus.de
SUMMARY:ZEIT FÜR DICH – Yoga Sommer Retreat
DESCRIPTION:Passend zum Sommer – Zeit\, in der alles blüht und sich am Leben erfreut – feiern wir die Lebendigkeit und Leichtigkeit unseren Körpers und des Seins. Mit Meditation\, energetisierender Atempraxis und inspirierenden Flows kommen wir wieder in die natürliche Schwingung der Lebensfreude und erinnern uns an unseren Ur-zustand\, den Yogis Sat-Chid-Ananda (Sein – Wissen – Glückseligkeit) nennen. \nDich erwartet erfahrene Begleitung und umfangreiche vielseitige Yogapraxis. In den Vorträgen und Austauschrunden widmen wir uns dem Thema Stress und was uns beschwert: wie mache ich das? und wie bringe ich in Zukunft mehr Leichtigkeit in meinen Alltag? \nRetreatprogramm \nBeginn am Freitag um 17.00 Uhr (Anreise bereits ab 15.00 Uhr möglich)\nvormittags Meditation\, Pranayama\, Yogastunde\, Vortrag\nnachmittags Yogastunde\nabends Gute-Nacht-Meditation \nLeistungen \n\nYogastunden\, Sharingrunden\, Meditationen\, Tiefenentspannung\, Pranayama\, inspirierende Yogavorträge\nBereitstellung von Yogaequipment\nBenutzung von Sauna und Ruheraum\nkostenloses W-LAN\nbio-vegetarische Vollpension (auch Allergien werden berücksichtigt)\nAnreise & Abreise sind nicht im Preis enthalten\n\nVoraussetzung der Teilnahme \nSowohl für Anfänger wie bereits erfahrene Yogi*nis geeignet. \n* wird von den meisten gesetzlichen Krankenkassen als Präventionskurs bezuschusst \n\nSeminarleitung\n \nMilla Ganz \nMilla ist Yogalehrerin (BYV)\, Yoga Personal Trainerin (AYA) und Ausbilderin (Inner Flow Yoga Ausbildung) mit weitreichender Erfahrung. Vielseitig in Yoga und Psychotherapie ausgebildet\, verbindet sie geschickt alte Tradition mit modernen Erkenntnissen des Westens und vermittelt Yoga verständlich und einfühlsam. \nSie ist auf Business Yoga\, Hatha und Vinyasa Yoga\, Meditation und ganzheitliches Stressmanagement spezialisiert. Die anatomisch korrekte Ausrichtung der Asanas\, bewusster Atem und achtsame Innenschau sind Kernelemente ihres Unterrichts. \nMit ihrer klarer und empathischer Art schafft sie eine Atmosphäre des Vertrauens und sich Wohlfühlens und führt ihre Teilnehmer in die Tiefe\, zu der Erkenntnis: Es ist alles bereits in Dir. \n\nPreise & Anmeldung zum Seminar\nKosten 249\,00€ Kursgebühr* \n*zzgl. Unterkunft und Verpflegung siehe unten \n*wird von den gesetzlichen Krankenkassen bezuschusst \nAnmeldung \n\nPreise und Anmeldung für Tagesgäste und Unterkunft und Verpflegung\nBitte aktiviere JavaScript in deinem Browser\, um dieses Formular fertigzustellen.Hast du dich bereits beim Veranstalter angemeldet? *JaNeinIch bin einverstanden *Ja\, meine Kontaktdaten dürfen an den Veranstalter weitergegeben werden.Auswahl deines Aufenthaltes *EinzelzimmerPaarbettzimmerDoppelzimmerMehrbettzimmerTagesgast mit VerpflegungWelches Einzelzimmer möchtest du?  *Suite: 412 EUR - großes Apartment mit eigenem Bad\, Wohn-/EssbereichComfort + : 312 EUR - Zimmer mit eig. Bad (1\,40m breitem Bett)Comfort: 292 EUR  - Zimmer mit eigenem BadStandard: 272 EUR  - Zimmer mit geteiltem Bad(Preis für gesamte Zeit pro Person inkl. Verpflegung)Welches Paarbettzimmer möchtest du?  *Comfort: 242 EUR p.P. - Doppelbelegung im kl. Z.\, Kuschelbett (140er)+eigen. BadStandard: 226 EUR p.P. - Doppelbelegung im kl. Z.\, Kuschelbett (140er)+geteilt. Bad(Preis für gesamte Zeit pro Person inkl. Verpflegung)Welches Doppelzimmer möchstes du?  *Suite: 312 EUR p.P. - Doppelbelegung im großen ApartmentDeluxe: 292 EUR p.P. - Doppelbelegung großes Zimmer mit eigenem BadStandard: 252 EUR p.P. - Doppelbelegung im Zimmer mit geteiltes Bad(Preis für gesamte Zeit pro Person inkl. Verpflegung)Welches Mehrbettzimmer möchtest du? *Comfort: 226 EUR - max. 4 Bettzimmer mit eigenem BadZelt-\, Stellplatz: 186 EUR - Kissen & Schlafsack mitbringen (Preis für gesamte Zeit pro Person inkl. Verpflegung)Welche Tagesgast-Variante möchtest wählen?  *166 EUR inkl. Frühstück-\, Mittag- und Abendbuffet142 EUR inkl. Mittag- und Abendbuffet96 EUR inkl. Mittagbuffet(Preis für die gesamte Zeit pro Person)Dein erster alternativer Zimmerwunsch *Bitte unbedingt angeben!Comfort Plus : 312 EUR - Zimmer mit eig. Bad (1\,40m breitem Bett)Einzelzimmer Standard: 272 EUR pro Person - Zimmer mit geteilt. BadPaarbettzimmer Standard: 226 EUR pro Person - Kuschelbett (140er) für 2 mit geteilt. BadDoppelzimmer Standard: 252 EUR pro Person - Doppelbelegung mit geteilt. BadMehrbettzimmer Comfort: 226 EUR pro Person - 4 Bettzimmer mit eigen. BadZelt-/Stellplatz: 186 EUR p.P.- Kissen & Schlafsack mitbringen*Unsere Zimmer sind teilweise sehr schnell ausgebucht. Gib hier bitte eine Alternative an\, falls dein erster Zimmerwunsch schon belegt ist.Dein zweiter alternativer Zimmerwunsch *Bitte unbedingt angeben!Comfort Plus : 7312 EUR - Zimmer mit eig. Bad (1\,40m breitem Bett)Doppelzimmer Standard: 252 EUR pro Person- Doppelbelegung mit geteilt. BadMehrbettzimmer Comfort: 226 EUR pro Person- 4 Bettzimmer mit eigen. BadStellplatz: 186 EUR pro Person- Kissen & Schlafsack mitbringenTagesgast mit selbst organisierter Übernachtung in der NäheWenn mein Wunschzimmer nicht frei ist\, komme ich nicht.*Ja\, unsere Zimmer gehen teilweise weg wie warme Semmeln. Ein zweiter Zimmerwunsch ist hier wichtig!Welche Variante möchtest du als Tagesgast wählen? (Preis für die gesamte Zeit pro Person) *166 EUR inkl. Frühstück-\, Mittag- und Abendbuffet142 EUR inkl. Mittag- und Abendbuffet96 EUR inkl. MittagbuffetNachricht ans TeamIch habe eine persönliche Nachricht ans TeamMeine Nachricht ans Team *Vorname *Nachname *Vor- und Nachname deines Partners *Möchtest du mit einer bestimmten Person ins Doppelzimmer? *Straße und Hausnummer *Hausnummer *PLZ *Ort *Telefonnummer *E-Mail *AGB *Ich bestätige die Teilnahme- & Stornobedingungen des Seminars wie o.a.  sowie die AGB des Seminarhauses.Datenschutzbestimmungen *Ich habe die Datenschutzerklärung gelesen und stimme zu.EmailBuchungsanfrage abschicken
URL:https://sampurna-seminarhaus.de/event/yoga-sommer-retreat/
LOCATION:Seminarhaus Sampurna\, Am Tiergarten 1\, Schlangenbad-Bärstadt\, Hessen\, 65388\, Deutschland
CATEGORIES:Seminar
ATTACH;FMTTYPE=image/jpeg:https://sampurna-seminarhaus.de/wp-content/uploads/2024/01/Sommer-leichtigkeit-375x1000-7c59e3a8f73757fe1b7e569ac2338009.jpeg
ORGANIZER;CN="Milla Ganz":MAILTO:info@milla-ganz.de
END:VEVENT
END:VCALENDAR