BEGIN:VCALENDAR
VERSION:2.0
PRODID:-//Sampurna Seminarhaus - ECPv6.10.1.1//NONSGML v1.0//EN
CALSCALE:GREGORIAN
METHOD:PUBLISH
X-WR-CALNAME:Sampurna Seminarhaus
X-ORIGINAL-URL:https://sampurna-seminarhaus.de
X-WR-CALDESC:Veranstaltungen für Sampurna Seminarhaus
REFRESH-INTERVAL;VALUE=DURATION:PT1H
X-Robots-Tag:noindex
X-PUBLISHED-TTL:PT1H
BEGIN:VTIMEZONE
TZID:Europe/Berlin
BEGIN:DAYLIGHT
TZOFFSETFROM:+0100
TZOFFSETTO:+0200
TZNAME:CEST
DTSTART:20240331T010000
END:DAYLIGHT
BEGIN:STANDARD
TZOFFSETFROM:+0200
TZOFFSETTO:+0100
TZNAME:CET
DTSTART:20241027T010000
END:STANDARD
END:VTIMEZONE
BEGIN:VEVENT
DTSTART;TZID=Europe/Berlin:20240516T140000
DTEND;TZID=Europe/Berlin:20240520T150000
DTSTAMP:20260421T005556
CREATED:20240214T094404Z
LAST-MODIFIED:20240305T073021Z
UID:10000954-1715868000-1716217200@sampurna-seminarhaus.de
SUMMARY:Basics for Life - Kompass
DESCRIPTION:Wo geht es hin?\nDer „Basics for Life“-Kompass ist der Kurs\, in dem Du weitere energetische Methoden lernen kannst: \n\nDeinen eigenen Kompass und den anderer sichtbar zu machen\nFamilienverstrickungen energetisch zu lösen\n\nDie Aufstellungen\, verknüpft mit der „Basics for Life“-Technik ist eine unglaublich kraftvolle Methode\, um Verstrickungen aufzuspüren\, sichtbar zu machen und energetisch zu verändern. Die Lösungen werden intuitiv und wirkungsvoll erarbeitet.  \nDiese Methode wurde insbesondere entwickelt\, um Beziehungsmuster und zwischenmenschliche Verstrickungen aber natürlich auch\, um körperliche Symptomatiken zu lösen. Jeder hat die Möglichkeit\, in dem Kurs genau die Thematiken zu lösen\, die momentan anstehen und am wichtigsten erscheinen. Sollte für die betreffende Person etwas anderes gelöst werden müssen\, zeigt sich dies in der Dynamik der Aufstellung und der Lösung. Das Energiefeld ist stärker als der Kopf. \nVon daher liebe ich diese Technik\, sie nimmt alle mit ins Boot und alle Personen die aufgestellt werden\, sehen in der darauffolgenden energetischen Behandlung\, den eigenen Anteil\, d.h. warum sie genau für diese Person standen und was es mit ihnen selbst zu tun hat. Somit erfolgt eine Lösung für  ALLE (für das System des Aufstellenden\, für den Aufstellenden und für alle\, die stellvertretend für andere gestanden haben). Wie weit es darüber hinaus wirkt\, kann ich momentan nicht fassen\, aber ich bin mir sehr sicher\, dass es sogar darüber hinaus wirkt. \nWarum wirkt diese Methode so gut?  \nDurch die Aufstellung wird ein eigenes Feld erzeugt\, an dem alle energetisch beteiligt sind. Das heißt: Jeder ist Teil des Feldes. \nDas Feld der Familien wirkt über den Körper hinaus. Von daher ist es so wichtig\, an sich und den erscheinenden Thematiken zu arbeiten\, damit unsere Kinder und Kindeskinder freier und dadurch auch glücklicher und gesunder werden können.  \nNach Reinigung Deines energetischen Feldes lernst Du eine energetische Methode\, um in Deinen Kompass zu schauen: \n\nWohin geht es in meinem Leben? \nWas ist meine Berufung?\nWie kann ich meine Berufung in mein Leben holen?\n\nWenn Du Deine eigentliche Berufung gefunden hast\, sind viele Dinge mit einem Mal nicht mehr so wichtig.  \nDie Seminarleitung empfiehlt die Buchung von Doppelzimmern\, da es für den Prozess förderlich ist\, sich gegenseitig zu unterstützen.  \nVideo \n\n\n   \n\nMit dem Laden des Videos akzeptieren Sie die Datenschutzerklärung von YouTube.Mehr erfahren \nVideo laden \n YouTube immer entsperren \n \n \n \n\n\nVoraussetzung der Teilnahme \nDer Kurs ist richtig für Dich\, wenn…\n… Du Dich für das Leben neu öffnen möchtest.\n… Du bereit bist\, aus alten Mustern auszusteigen.\n… Du Dich selbst besser kennenlernen möchtest.\n… Du Dich danach sehnst\, den Raum in Dir\, auch im Alltag\, wahrzunehmen.\n… Du bereit bist\, Dir selbst zu begegnen.\n… Du lernen möchtest\, Dich wirklich einzulassen.\n… Du erleben möchtest\, was es bedeutet\, sich verbunden zu fühlen.\n… Du endlich mal wieder spüren möchtest\, was es bedeutet\, glücklich zu sein. \n\nSeminarleitung\n \nAlexandra Höf \nAlexandra führt seit 2003 eine Heilpraktikerpraxis für energetische Medizin in Hofheim am Taunus. Durch unzählige eigene energetische Prozesse und Erfahrungen\, versteht sie es\, Menschen in tiefgreifenden Prozessen auf ihrem Weg zu sich selbst zu begleiten. In über 12.000 Sitzungen und Kursen durfte sie enorm viele Erfahrungen sammeln\, die es ihr ermöglichen\, aus dem JETZT situationsbezogen und lösungsorientiert auf die aktuellen Bedürfnisse der Teilnehmer einzugehen. \n\nAnmeldung zum Seminar und Seminargebühr\nSeminargebühr regulär: 1.380 € \nAnmeldung bei: Alexandra Höf // +491703829975 // kontakt@basicsforlife.de \nOder melde Dich hier direkt zum Kompass Kurs an: \n\nAnmeldung und Preise für Unterkunft und Verpflegung\nBitte aktiviere JavaScript in deinem Browser\, um dieses Formular fertigzustellen.Auswahl deines Aufenthaltes *EinzelzimmerDoppelzimmerMehrbettzimmerTagesgast mit VerpflegungWelches Einzelzimmer möchtest du?  *Comfort Plus : 687 EUR - Zimmer mit eig. Bad (1\,40m breitem Bett)Comfort: 647 EUR - Zimmer mit eigenem BadStandard: 607 EUR  - Zimmer mit geteiltem Bad(Preis für gesamte Zeit pro Person inkl. Verpflegung)Welches Doppelzimmer möchstes du? *Deluxe: 647 EUR p.P -großes Z. in Doppelbelegung mit eigenem BadStandard: 567 EUR p.P. - Doppelbelegung mit geteiltes Bad(Preis für gesamte Zeit pro Person inkl. Verpflegung)Welches Mehrbettzimmer möchtest du? *Comfort: 515 EUR - 4 Bettzimmer mit eigenem BadMatratzenplatz: 435 EUR - Kissen & Schlafsack mitbringen(Preis für gesamte Zeit pro Person inkl. Verpflegung)Welche Variante möchtest du als Tagesgast wählen? *352 EUR inkl. Frühstück-\, Mittag- und Abendbuffet260 EUR inkl. Mittag- und Abendbuffet215 EUR inkl. Mittagbuffet(Preis für die gesamte Zeit pro Person)Dein erster alternativer Zimmerwunsch *Bitte unbedingt angeben!Comfort Plus : 687 EUR - Zimmer mit eig. Bad (1\,40m breitem Bett)Einzelzimmer Standard: 607 EUR pro Person - Zimmer mit geteilt. BadDoppelzimmer Standard: 567 EUR pro Person - Doppelbelegung mit geteilt. BadMehrbettzimmer Comfort: 515 EUR pro Person - 4 Bettzimmer mit eigen. BadZelt-\, Stellplatz: 435 EUR pro Person- Kissen & Schlafsack mitbringen*Unsere Zimmer sind teilweise sehr schnell ausgebucht. Gib hier bitte eine Alternative an\, falls dein erster Zimmerwunsch schon belegt ist.Dein zweiter alternativer Zimmerwunsch *Bitte unbedingt angeben!Comfort Plus : 687 EUR - Zimmer mit eig. Bad (1\,40m breitem Bett)Doppelzimmer Standard: 567 EUR pro Person- Doppelbelegung mit geteilt. BadMehrbettzimmer Comfort: 515 EUR pro Person- 4 Bettzimmer mit eigen. BadZelt-\,Stellplatz: 435 EUR pro Person- Kissen & Schlafsack mitbringenTagesgast mit selbst organisierter Übernachtung in der NäheWenn mein Wunsch nicht erfüllt werden kann\, komme ich nicht.*Ja\, unsere Zimmer gehen teilweise weg wie warme Semmeln. Ein zweiter Zimmerwunsch ist hier wichtig!Nachricht ans TeamIch habe eine persönliche Nachricht ans TeamMeine Nachricht ans Team *Vorname *Nachname *Vor- und Nachname deines Partners *Möchtest du mit einer bestimmten Person ins Doppelzimmer? *Straße und Hausnummer *Hausnummer *PLZ *Ort *TelefonE-Mail *GutscheincodeAGB *Ich bestätige die Teilnahme- & Stornobedingungen des Seminars wie o.a.  sowie die AGB des Seminarhauses.Datenschutzbestimmungen *Ich habe die Datenschutzerklärung gelesen und stimme zu.CommentBuchungsanfrage abschicken
URL:https://sampurna-seminarhaus.de/event/basics-for-life-kompass/
LOCATION:Seminarhaus Sampurna\, Am Tiergarten 1\, Schlangenbad-Bärstadt\, Hessen\, 65388\, Deutschland
CATEGORIES:Ausbildung
ATTACH;FMTTYPE=image/png:https://sampurna-seminarhaus.de/wp-content/uploads/2022/04/Basics-for-Life-Banner-59818077242f3cdd43d197b2ae053a93-e1652777407403.png
ORGANIZER;CN="Alexandra H%C3%B6f":MAILTO:kontakt@basicsforlife.de
END:VEVENT
BEGIN:VEVENT
DTSTART;TZID=Europe/Berlin:20240516T160000
DTEND;TZID=Europe/Berlin:20240519T160000
DTSTAMP:20260421T005556
CREATED:20231119T160250Z
LAST-MODIFIED:20231119T160250Z
UID:10000917-1715875200-1716134400@sampurna-seminarhaus.de
SUMMARY:Embodied Breathwork® Ausbildung mit Theresa Blüder (On- und offline)
DESCRIPTION:Die ganzheitliche Breathwork Ausbildung für holistische Coaches\, Yoga- & MeditationstrainerInnen\, Ernährungs- und GesundheitsberaterInnen\, BodyworkerInnen\, TherapeutInnen und PsychologInnen und allen Menschen die sich intensiv mit Atemtechniken beschäftigen möchten Breathwork ganzheitlich erleben. \nDas 3 Säulen Prinzip von Embodied Breahtwork®: \nDie Ausbildung basiert auf einem ganzheitlichen Prinzip aus der täglichen Regulation des Nervensystem und Atempraxis als Anker und Basis der Atemarbeit plus die transformative Embodied Breathwork® Methode aus der bewussten verbundenen Atmung (Conscious Connected Breathing)\, Emotional Release und Bewegung. \nBREATHE iT.\nDu nutzt wissenschaftliche Erkenntnisse und spirituelle Methoden\, um Breathwork zu verstehen und ganzheitlich anwenden zu können. \nFEEL iT.\nIn der zweiten Phase der Ausbildung tauchst du tief in die Selbsterkenntnis ein. In diversen Live Sessions nehmen wir dich mit auf tiefe Reisen unseres Körpers & Unterbewusstseins. \nTEACH iT.\nIn der letzten Phase der Ausbildung legen wie den Schwerpunkt darauf\, kraftvolle und tiefe Räume zu kreieren und sicher zu halten. \nVoraussetzung für die Teilnahme \nTransformatives Breathwork ist eine sehr sichere Praxis und wir halten für dich einen sicheren Raum. Trotzdem ist diese Atemtechnik unter bestimmten Voraussetzungen nicht zu empfehlen: Dies trifft insbesondere zu bei Schwangerschaft\, Bluthochdruck\, Herz-Kreislauf Erkrankungen\, Angst-/oder Panikattacken\, Epilepsie\, bipolare Störung\, psychischen und/oder physischen Krankheitsbildern. Du musst Dich mental\, emotional\, physisch und psychisch gesund fühlen. Bitte beachte dazu zusätzlich unsere AGB als Rahmen für eine sichere und kraftvolle Zusammenarbeit. \n\nSeminarleitung\n \nTheresa Blüder \nIch bin Theresa – Breathwork Teacher\, Facilitator und Gründerin von Embodied Breathwork® \nIch habe es mir zur Aufgabe gemacht\, so vielen Menschen wie möglich die Kraft von Breathwork näher zu bringen. Dabei durfte ich bereits über 2000 Menschen mit Breathwork begleiten.\nSeit 2021 gebe ich mein Wissen an Menschen weiter\, damit sie selbst als Breathwork Coach andere unterstützen können. In meiner Ausbildung geht es darum\, eine tiefe Transformation auf Zellebene und im Unterbewusstsein zu schaffen. \n\nSeminargebühr und Anmeldung zum Seminar:\nSeminargebühr:  3.999€ \nAnmeldung bei: Theresa Blüder //  +4915128447135 // hallo@theresablueder.com \n\nAnmeldung & Preise für Unterkunft & Verpflegung:\nBitte aktiviere JavaScript in deinem Browser\, um dieses Formular fertigzustellen.Hast du dich bereits beim Veranstalter angemeldet? *JaNeinIch bin einverstanden *Ja\, meine Kontaktdaten dürfen an den Veranstalter weitergegeben werden.Welchen Termin möchtest du gerne buchen? *11.-14.Januar.202416-19.Mai.202405.-08.September.2024Auswahl deines Aufenthaltes *EinzelzimmerPaarbettzimmerDoppelzimmerMehrbettzimmerTagesgast mit VerpflegungWelches Einzelzimmer möchtest du?  *Suite: 618 EUR - großes Apartment mit eigenem Bad\, Wohn-/EssbereichComfort + : 468 EUR - Zimmer mit eig. Bad (1\,40m breitem Bett)Comfort: 438 EUR  - Zimmer mit eigenem BadStandard: 408 EUR  - Zimmer mit geteiltem Bad(Preis für gesamte Zeit pro Person inkl. Verpflegung)Welches Paarbettzimmer möchtest du?  *Comfort: 379 EUR p.P. - Doppelbelegung im kl. Z.\, Kuschelbett (140er)+eigen. BadStandard: 339 EUR p.P. - Doppelbelegung im kl. Z.\, Kuschelbett (140er)+geteilt. Bad(Preis für gesamte Zeit pro Person inkl. Verpflegung)Welches Doppelzimmer möchstes du?  *Suite: 468 EUR p.P. - Doppelbelegung im großen ApartmentDeluxe: 439 EUR p.P. - Doppelbelegung großes Zimmer mit eigenem BadStandard: 378 EUR p.P. - Doppelbelegung im Zimmer mit geteiltes Bad(Preis für gesamte Zeit pro Person inkl. Verpflegung)Welches Mehrbettzimmer möchtest du? *Comfort: 339 EUR - max. 4 Bettzimmer mit eigenem BadZelt-\, Stellplatz: 279 EUR - Kissen & Schlafsack mitbringen (Preis für gesamte Zeit pro Person inkl. Verpflegung)Welche Tagesgast-Variante möchtest wählen?  *249 EUR inkl. Frühstück-\, Mittag- und Abendbuffet213 EUR inkl. Mittag- und Abendbuffet144 EUR inkl. Mittagbuffet(Preis für die gesamte Zeit pro Person)Dein erster alternativer Zimmerwunsch *Bitte unbedingt angeben!Comfort Plus : 468 EUR - Zimmer mit eig. Bad (1\,40m breitem Bett)Einzelzimmer Standard: 408 EUR pro Person - Zimmer mit geteilt. BadPaarbettzimmer Standard: 339 EUR pro Person - Kuschelbett (140er) für 2 mit geteilt. BadDoppelzimmer Standard: 378 EUR pro Person - Doppelbelegung mit geteilt. BadMehrbettzimmer Comfort: 339 EUR pro Person - 4 Bettzimmer mit eigen. BadZelt-/Stellplatz: 279 EUR p.P.- Kissen & Schlafsack mitbringen*Unsere Zimmer sind teilweise sehr schnell ausgebucht. Gib hier bitte eine Alternative an\, falls dein erster Zimmerwunsch schon belegt ist.Dein zweiter alternativer Zimmerwunsch *Bitte unbedingt angeben!Comfort Plus : 3468 EUR - Zimmer mit eig. Bad (1\,40m breitem Bett)Doppelzimmer Standard: 378 EUR pro Person- Doppelbelegung mit geteilt. BadMehrbettzimmer Comfort: 339 EUR pro Person- 4 Bettzimmer mit eigen. BadStellplatz: 279 EUR pro Person- Kissen & Schlafsack mitbringenTagesgast mit selbst organisierter Übernachtung in der NäheWenn mein Wunschzimmer nicht frei ist\, komme ich nicht.*Ja\, unsere Zimmer gehen teilweise weg wie warme Semmeln. Ein zweiter Zimmerwunsch ist hier wichtig!Welche Variante möchtest du als Tagesgast wählen? (Preis für die gesamte Zeit pro Person) *249 EUR inkl. Frühstück-\, Mittag- und Abendbuffet213 EUR inkl. Mittag- und Abendbuffet144 EUR inkl. MittagbuffetNachricht ans TeamIch habe eine persönliche Nachricht ans TeamMeine Nachricht ans Team *Vorname *Nachname *Vor- und Nachname deines Partners *Möchtest du mit einer bestimmten Person ins Doppelzimmer? *Straße und Hausnummer *Hausnummer *PLZ *Ort *TelefonnummerE-Mail *AGB *Ich bestätige die Teilnahme- & Stornobedingungen des Seminars wie o.a.  sowie die AGB des Seminarhauses.Datenschutzbestimmungen *Ich habe die Datenschutzerklärung gelesen und stimme zu.Datum/ZeitDatumZeitNameBuchungsanfrage abschicken
URL:https://sampurna-seminarhaus.de/event/embodied-breathwork-ausbildung-mit-theresa-blueder-on-und-offline-4/
LOCATION:Seminarhaus Sampurna\, Am Tiergarten 1\, Schlangenbad-Bärstadt\, Hessen\, 65388\, Deutschland
CATEGORIES:Ausbildung
ATTACH;FMTTYPE=image/png:https://sampurna-seminarhaus.de/wp-content/uploads/2023/03/Seminarbild-Sampurna-Breathwork-Ausbildung-mit-Theresa-Blueder-b73bd810b233e7b84fd6c687e202374e.png
ORGANIZER;CN="Theresa Bl%C3%BCder":MAILTO:hallo@theresablueder.com
END:VEVENT
END:VCALENDAR