BEGIN:VCALENDAR
VERSION:2.0
PRODID:-//Sampurna Seminarhaus - ECPv6.10.1.1//NONSGML v1.0//EN
CALSCALE:GREGORIAN
METHOD:PUBLISH
X-WR-CALNAME:Sampurna Seminarhaus
X-ORIGINAL-URL:https://sampurna-seminarhaus.de
X-WR-CALDESC:Veranstaltungen für Sampurna Seminarhaus
REFRESH-INTERVAL;VALUE=DURATION:PT1H
X-Robots-Tag:noindex
X-PUBLISHED-TTL:PT1H
BEGIN:VTIMEZONE
TZID:Europe/Berlin
BEGIN:DAYLIGHT
TZOFFSETFROM:+0100
TZOFFSETTO:+0200
TZNAME:CEST
DTSTART:20220327T010000
END:DAYLIGHT
BEGIN:STANDARD
TZOFFSETFROM:+0200
TZOFFSETTO:+0100
TZNAME:CET
DTSTART:20221030T010000
END:STANDARD
END:VTIMEZONE
BEGIN:VEVENT
DTSTART;TZID=Europe/Berlin:20220603T170000
DTEND;TZID=Europe/Berlin:20220606T150000
DTSTAMP:20260421T180653
CREATED:20210522T104243Z
LAST-MODIFIED:20220430T170031Z
UID:13935-1654275600-1654527600@sampurna-seminarhaus.de
SUMMARY:Weg nach Innen 2 - Welt der Chakren mit Sven-Oliver Engel
DESCRIPTION:Innere Entwicklung kann nur bis zu einem gewissen Grad auf Ebene des Verstandes geschehen. Möchtest du weitergehen und verspürst einen starken Wunsch nach echter innerer Freiheit\, bleibt dir nichts anderes übrig\, irgendwann den Raum des Verstandes zu verlassen und in deinen fühlbar energetischen Raum\, jenseits von Worten\, einzutreten. \nBeginnst du diesen Raum in dir wahrzunehmen\, ist es möglich auf Ebene der Chakren (Energiezentren) innere Balance und Heilung zu finden. \nDieses Meditations-Seminar ermöglicht dir den Zugang zu deinem Chakra-System. \n  \n\nDu lernst… \n\nwo du welches Chakra im Energiekörper lokalisierst (21 Hauptchakren).\ndie Bedeutung und Deutung der Chakren.\nwie du deine Reflexionszonen auf Händen & Füßen als Wahrnehmungsinstrument nutzen kannst.\nwelches Chakra du mit welchen Techniken in Balance bringst.\n\nIm Seminar hast du die Möglichkeit eigene Erfahrungen zu machen und zu fühlen\, was in deinem Energiesystem los ist und wie es sich anfühlen kann\, wenn sich deine Chakren harmonisieren und du in den stillen Moment\, jenseits des Verstandes\, eintauchst. Liebevoll werden wir dich begleiten. \n  \n\nVoraussetzung\nUm an diesem Seminar teilnehmen zu können\, ist es wichtig die Grundtechniken von Nirmala Yoga zu kennen. Entweder hast du bereits den Online-Einsteigerkurs abgeschlossen oder am Weg nach Innen 1 teilgenommen. \n  \n\nSeminarleiter\n \nSven Oliver Engel\, geb. 21.09.1966 in Hamburg\, hatte durch eine Nahtoderfahrung 1986 die Gelegenheit auf „die andere Seite“ zu schauen. Die spirituellen Impulse\, die er von dort bekam\, hat er in jahrelangen Selbstversuchen und Studien  sortiert und verarbeitet. Von 1990 bis 1994 studierte er Philosophie an der Gutenberg Universität in Mainz\, mit Schwerpunkte Buddhismus und indische Philosophie und Theologie. Bereits 1991 lernte er die indische Großmeisterin und Heilige Sri Mataji Nirmala Devi persönlich kennen\, die mit Ihrer Lehre von „Sahaja Samadi“ seinen spirituellen Weg wesentlich beeinflusste.  Seit 25 Jahren hält er Vorträge und Seminare zum Thema Yoga und Meditation\, Stressmanagement und Stressbewältigung durch Meditation. \n  \n\nSeminargebühr\n\nSeminargebühr: keine\, Spenden sind Willkommen\nKosten Aufenthalt als Tagesgast inkl. Vollpension 222 EUR / alternativ Mittag- und Abendessen 192 EUR\nKosten Aufenthalt als Übernachtungsgast inkl. Vollpension: 312 EUR – 396 EUR je nach Zimmerkategorie\n\n\nJetzt anmelden und Aufenthalt buchen\nBitte aktiviere JavaScript in deinem Browser\, um dieses Formular fertigzustellen.Auswahl deines Aufenthaltes *EinzelzimmerPaarbettzimmerDoppelzimmerMehrbettzimmerTagesgast mit VerpflegungWelches Einzelzimmer möchtest du?  *Suite: 582 EUR - großes Apartment mit eigenem Bad\, Wohn-/EssbereichComfort: 396 EUR  - Zimmer mit eigenem BadStandard: 372 EUR  - Zimmer mit geteiltem Bad(Preis für gesamte Zeit pro Person inkl. Verpflegung)Welches Paarbettzimmer möchtest du?  *Comfort: 327 EUR p.P. - Doppelbelegung kl. Z.\, Kuschelbett(140er)+eig. BadStandard: 312 EUR p-P. - Doppelbelegung kl. Z.\, Kuschelbett(140er)+geteilt. Bad(Preis für gesamte Zeit pro Person inkl. Verpflegung)Welches Doppelzimmer möchstes du?  *Suite: 432 EUR p.P. - Doppelbelegung im großen ApartmentDeluxe: 402 EUR p.P. - Doppelbelegung großes Zimmer mit eigenem BadStandard: 342 EUR p.P. - Doppelbelegung im Zimmer mit geteiltes Bad(Preis für gesamte Zeit pro Person inkl. Verpflegung)Welches Mehrbettzimmer möchtest du? *Comfort: 327 EUR - max. 4 Bettzimmer mit eigenem BadStandard: 312 EUR - max. 6 Bettzimmer mit eigenem BadZelt-\, Stellplatz: 252 EUR (Preis für gesamte Zeit pro Person inkl. Verpflegung)Welche Tagesgast-Variante möchtest du wählen?  *222 EUR inkl. Frühstück-\, Mittag- und Abendbuffet192 EUR inkl. Mittag- und Abendbuffet147 EUR inkl. Mittagbuffet(Preis für die gesamte Zeit pro Person)Dein erster alternativer Zimmerwunsch *Bitte unbedingt angeben!Einzelzimmer Standard: 342 EUR pro Person - Zimmer mit geteilt. BadPaarbettzimmer Standard: 282 EUR pro Person - Kuschelbett (140er) für 2 mit geteilt. BadDoppelzimmer Standard: 312 EUR pro Person - Doppelbelegung mit geteilt. BadMehrbettzimmer Comfort: 297 EUR pro Person - 4 Bettzimmer mit eigen. BadMehrbettzimmer Standard: 282 EUR pro Person - 6 Bettzimmer mit eigen. BadZelt-/Womoplatz: 222 EUR pro Person-*Unsere Zimmer sind teilweise sehr schnell ausgebucht. Gib hier bitte eine Alternative an\, falls dein erster Zimmerwunsch schon belegt ist.Dein zweiter alternativer Zimmerwunsch *Bitte unbedingt angeben!Doppelzimmer Standard: 342 EUR pro Person- Doppelbelegung mit geteilt. BadMehrbettzimmer Comfort: 327 EUR pro Person- 4 Bettzimmer mit eigen. BadMehrbettzimmer Standard: 312 EUR pro Person- 6 Bettzimmer mit eigen. BadZelt-/Womoplatz: 252 EUR pro PersonTagesgast mit selbst organisierter Übernachtung in der NäheWenn mein Wunschzimmer nicht frei ist\, komme ich nicht.*Ja\, unsere Zimmer gehen teilweise weg wie warme Semmeln. Ein zweiter Zimmerwunsch ist hier wichtig!Welche Tagesgast-Variante möchtest du wählen?  *222 EUR inkl. Frühstück-\, Mittag- und Abendbuffet192 EUR inkl. Mittag- und Abendbuffet147 EUR inkl. Mittagbuffet(Preis für die gesamte Zeit pro Person)Deine Essenswünsche: *Bio-vegetarischBio-veganGlutenfrei zzgl. 10€ am TagAuf meine Allergie angepasstes Essen zzgl. 10€ am Tag*Wähle JETZT. Sonderwünsche können vor Ort nicht mehr berücksichtigen werden.Hinweise zu deiner AllergieNachricht ans TeamIch habe eine persönliche Nachricht ans TeamMeine Nachricht ans Team *Vorname *Nachname *Vor- und Nachname deines Partners *Möchtest du mit einer bestimmten Person ins Doppelzimmer? *Straße und Hausnummer *Hausnummer *PLZ *Ort *E-Mail (kopieren) *E-Mail *GutscheincodeAGB *Ich bestätige die Teilnahme- & Stornobedingungen des Seminars wie o.a.  sowie die AGB des Seminarhauses.Datenschutzbestimmungen *Ich habe die Datenschutzerklärung gelesen und stimme zu.MessageBuchungsanfrage abschicken
URL:https://sampurna-seminarhaus.de/event/weg-nach-innen-2-welt-der-chakren/
LOCATION:Seminarhaus Sampurna\, Am Tiergarten 1\, Schlangenbad-Bärstadt\, Hessen\, 65388\, Deutschland
CATEGORIES:Seminar
ATTACH;FMTTYPE=image/jpeg:https://sampurna-seminarhaus.de/wp-content/uploads/2021/05/weg_nach_innen_2c100x375.jpeg
ORGANIZER;CN="Sven-Oliver Engel":MAILTO:sven-oliver@nirmalayoga.de
END:VEVENT
END:VCALENDAR