BEGIN:VCALENDAR
VERSION:2.0
PRODID:-//Sampurna Seminarhaus - ECPv6.10.1.1//NONSGML v1.0//EN
CALSCALE:GREGORIAN
METHOD:PUBLISH
X-WR-CALNAME:Sampurna Seminarhaus
X-ORIGINAL-URL:https://sampurna-seminarhaus.de
X-WR-CALDESC:Veranstaltungen für Sampurna Seminarhaus
REFRESH-INTERVAL;VALUE=DURATION:PT1H
X-Robots-Tag:noindex
X-PUBLISHED-TTL:PT1H
BEGIN:VTIMEZONE
TZID:Europe/Berlin
BEGIN:DAYLIGHT
TZOFFSETFROM:+0100
TZOFFSETTO:+0200
TZNAME:CEST
DTSTART:20220327T010000
END:DAYLIGHT
BEGIN:STANDARD
TZOFFSETFROM:+0200
TZOFFSETTO:+0100
TZNAME:CET
DTSTART:20221030T010000
END:STANDARD
END:VTIMEZONE
BEGIN:VEVENT
DTSTART;TZID=Europe/Berlin:20220303T120000
DTEND;TZID=Europe/Berlin:20220306T130000
DTSTAMP:20260420T134917
CREATED:20220203T151459Z
LAST-MODIFIED:20220217T112643Z
UID:16392-1646308800-1646571600@sampurna-seminarhaus.de
SUMMARY:Retreat - Lebe Deine Seelenbestimmung
DESCRIPTION:Erfahre\, wie Du Deine Seelenbestimmung leben kannst. Bringe Dein inneres Licht zum Leuchten und strahle in die Welt! \nDas besondere Retreat „Lebe Deine Seelenbestimmung“ lädt Dich ein aufzutanken und Dich Aufzurichten – sowohl im Inneren als auch im Äußeren! \nWir werden anhand von Übungen und Meditationen die Verbindung von Körper\, Geist und Seele stärken. Im Mittelpunkt steht die Ausrichtung auf Deine Seelenbestimmung. Du erfährst durch verschiedene Übungen Deine persönliche Umsetzung Deiner Seelenbestimmung im Alltag. \nDich auszurichten auf das\, was Deine Seele sich für Dich in diesem Leben hier auf Erden ausgesucht hat und was sie durch Dich leben möchte – das ist das Ziel des Retreats! \nDabei lösen und heilen wir Altes\, so dass Dein inneres Licht wieder komplett strahlen kann! \nVorkenntnisse nicht notwendig. Seelenplan-Lesung im Vorfeld empfohlen. \n\nSeminarleitung\nCathrin Hauk \n \n  \nWie bin Coach\, Seelenplan-Leserin und Channel-Medium geworden? Ich habe nach Antworten gesucht und mich von Gott\, meiner Intuition und dem Ruf meiner Seele leiten lassen.\nSeit meiner Kindheit verspüre ich eine tiefe Verbindung zum Göttlichen. Ich habe zunächst BWL studiert\, weil ich damit einer Arbeit in einem Kloster nachgehen wollte. Als ich in Paris am Sacré Coeur stand und auf das wunderbare Treiben der Stadt schaute\, wusste ich\, dass Gott mich genau dort haben wollte: inmitten der Menschen! \n\nAnmeldung und Preise fürs Seminar\nSeminargebühr: 490€ \nAnmeldung bei: Cathrin Hauk// Tel: +4915146734716 // Mail: kontakt@cathrin-hauk.de \n\nAnmeldung  und Preise im Seminarhaus für Unterkunft und Verpflegung\nBitte aktiviere JavaScript in deinem Browser\, um dieses Formular fertigzustellen.Hast du dich bereits beim Veranstalter angemeldet? *JaNeinIch bin einverstanden *Ja\, meine Kontaktdaten dürfen an den Veranstalter weitergegeben werden.Auswahl deines Aufenthaltes *EinzelzimmerPaarbettzimmerDoppelzimmerMehrbettzimmerTagesgast mit VerpflegungWelches Einzelzimmer möchtest du?  *Suite: 591 EUR - großes Apartment mit eigenem Bad\, Wohn-/EssbereichComfort: 405 EUR  - Zimmer mit eigenem BadStandard: 381 EUR  - Zimmer mit geteiltem Bad(Preis für gesamte Zeit pro Person inkl. Verpflegung)Welches Paarbettzimmer möchtest du?  *Comfort: 336 EUR p.P. - Doppelbelegung im kl. Z.\, Kuschelbett (140er)+eigen. BadStandard: 321 EUR p.P. - Doppelbelegung im kl. Z.\, Kuschelbett (140er)+geteilt. Bad(Preis für gesamte Zeit pro Person inkl. Verpflegung)Welches Doppelzimmer möchstes du?  *Suite: 441 EUR p.P. - Doppelbelegung im großen ApartmentDeluxe: 411 EUR p.P. - Doppelbelegung großes Zimmer mit eigenem BadStandard: 351 EUR p.P. - Doppelbelegung im Zimmer mit geteiltes Bad(Preis für gesamte Zeit pro Person inkl. Verpflegung)Welches Mehrbettzimmer möchtest du? *Comfort: 336  EUR - max. 4 Bettzimmer mit eigenem BadStandard: 321 EUR - max. 6 Bettzimmer mit eigenem BadZelt-\, Stellplatz: 261 EUR - inkl. Badnutzung im Haus (Preis für gesamte Zeit pro Person inkl. Verpflegung)Welche Tagesgast-Variante möchtest wählen?  *231 EUR inkl. Frühstück-\, Mittag- und Abendbuffet201 EUR inkl. Mittag- und Abendbuffet156 EUR inkl. Mittagbuffet(Preis für die gesamte Zeit pro Person)Dein erster alternativer Zimmerwunsch *Bitte unbedingt angeben!Einzelzimmer Standard: 381 EUR pro Person - Zimmer mit geteilt. BadPaarbettzimmer Standard: 321  EUR pro Person - Kuschelbett (140er) für 2 mit geteilt. BadDoppelzimmer Standard: 351 EUR pro Person - Doppelbelegung mit geteilt. BadMehrbettzimmer Comfort: 336 EUR pro Person - 4 Bettzimmer mit eigen. BadMehrbettzimmer Standard: 321 EUR pro Person - 6 Bettzimmer mit eigen. BadZelt-/Stellplatz: 261 EUR p.P.- inkl. Badnutzung im Haus*Unsere Zimmer sind teilweise sehr schnell ausgebucht. Gib hier bitte eine Alternative an\, falls dein erster Zimmerwunsch schon belegt ist.Dein zweiter alternativer Zimmerwunsch *Bitte unbedingt angeben!Doppelzimmer Standard: 351 EUR pro Person- Doppelbelegung mit geteilt. BadMehrbettzimmer Comfort: 336 EUR pro Person- 4 Bettzimmer mit eigen. BadMehrbettzimmer Standard: 321 EUR pro Person- 6 Bettzimmer mit eigen. BadZelt-/Stellplatz: 261 EUR pro Person- Kissen & Schlafsack mitbringenTagesgast mit selbst organisierter Übernachtung in der NäheWenn mein Wunschzimmer nicht frei ist\, komme ich nicht.*Ja\, unsere Zimmer gehen teilweise weg wie warme Semmeln. Ein zweiter Zimmerwunsch ist hier wichtig!Welche Variante möchtest du als Tagesgast wählen? (Preis für die gesamte Zeit pro Person) *231 EUR inkl. Frühstück-\, Mittag- und Abendbuffet201  EUR inkl. Mittag- und Abendbuffet156 EUR inkl. MittagbuffetDeine Essenswünsche: *Bio-vegetarischBio-veganGlutenfrei zzgl. 10€ am TagAuf meine Allergie angepasstes Essen zzgl. 10€ am Tag*Wähle JETZT. Sonderwünsche können vor Ort nicht mehr berücksichtigen werden.Hinweise zu deiner AllergieNachricht ans TeamIch habe eine persönliche Nachricht ans TeamMeine Nachricht ans Team *Vorname *Nachname *Vor- und Nachname deines Partners *Möchtest du mit einer bestimmten Person ins Doppelzimmer? *Straße und Hausnummer *Hausnummer *PLZ *Ort *E-Mail (kopieren) *E-Mail *AGB *Ich bestätige die Teilnahme- & Stornobedingungen des Seminars wie o.a.  sowie die AGB des Seminarhauses.Datenschutzbestimmungen *Ich habe die Datenschutzerklärung gelesen und stimme zu.CommentBuchungsanfrage abschicken
URL:https://sampurna-seminarhaus.de/event/retreat-lebe-deine-seelenbestimmung/
LOCATION:Seminarhaus Sampurna\, Am Tiergarten 1\, Schlangenbad-Bärstadt\, Hessen\, 65388\, Deutschland
CATEGORIES:Seminar
ATTACH;FMTTYPE=image/jpeg:https://sampurna-seminarhaus.de/wp-content/uploads/2022/02/banner_sampurna.jpg
ORGANIZER;CN="Cathrin Hauk":MAILTO:kontakt@cathrin-hauk.de
END:VEVENT
END:VCALENDAR