BEGIN:VCALENDAR
VERSION:2.0
PRODID:-//Sampurna Seminarhaus - ECPv6.10.1.1//NONSGML v1.0//EN
CALSCALE:GREGORIAN
METHOD:PUBLISH
X-WR-CALNAME:Sampurna Seminarhaus
X-ORIGINAL-URL:https://sampurna-seminarhaus.de
X-WR-CALDESC:Veranstaltungen für Sampurna Seminarhaus
REFRESH-INTERVAL;VALUE=DURATION:PT1H
X-Robots-Tag:noindex
X-PUBLISHED-TTL:PT1H
BEGIN:VTIMEZONE
TZID:Europe/Berlin
BEGIN:DAYLIGHT
TZOFFSETFROM:+0100
TZOFFSETTO:+0200
TZNAME:CEST
DTSTART:20240331T010000
END:DAYLIGHT
BEGIN:STANDARD
TZOFFSETFROM:+0200
TZOFFSETTO:+0100
TZNAME:CET
DTSTART:20241027T010000
END:STANDARD
END:VTIMEZONE
BEGIN:VEVENT
DTSTART;TZID=Europe/Berlin:20241108T160000
DTEND;TZID=Europe/Berlin:20241110T160000
DTSTAMP:20260421T145134
CREATED:20240530T112444Z
LAST-MODIFIED:20241004T074602Z
UID:24339-1731081600-1731254400@sampurna-seminarhaus.de
SUMMARY:Relax - Charge up - Glow - Deine Winter-Yoga-Auszeit
DESCRIPTION:Das Jahr neigt sich dem Ende zu\, es wird jeden Tag dunkler\, die Tage kürzer…Wenn es draußen grau wird\, die Natur sich zurück zieht\, ist der beste Moment um sich für ein Wochenende rauszunehmen. Das wunderschönen Sampurna Seminarhaus hält diesen Ort des Rückzugs für dich bereit. \nDein Yoga-Wellness-Winter-Wochenende ist bereit für dich. Ich möchte dich einladen\, einladen zu 2 Tagen mit entspannten und aufladenden Yogastunden\, rund um Maitri\, die liebende Güte! \nRelax-Time\, Zeit zum Reflektieren. Spanne aus\, lade auf und lass dein inneres Licht erstrahlen. \nUnd wo geht das besser als auf deiner Yogamatte\, im Wellnessbereich oder einfach am Kamin. \nDein Yoga Paket enthält: \n4 Yogaeinheiten á 60 Minuten\n2x Pranayama & Meditation (freiwillig)\n1x Dharmatalk\nCommunitytime \nTagesablauf Retreat-4 \nVoraussetzung für die Teilnahme \nDas Yoga-Wochenende ist für alle Level geeignet. Es ist allerdings zu empfehlen\, dass man schon erste Yoga Erfahrungen gesammelt hat. \n\nSeminarleitung\n \nAlexandra Walker \nYoga und Entspannung gehören für Alexandra untrennbar zusammen. Yoga ist ihr Antrieb\, die Ruheoase\, der Anker. \n“Durch Yoga verbessere ich meine Beweglichkeit\, Fokussierung\, Gelassenheit und erkenne\, dass alles so gut ist\, wie es ist.” (Alexandra Walker) \nSeit etwa 20 Jahren praktiziert Alexandra Yoga. Im Jahr 2014 hat sie beschlossen\, ihrer inneren Stimme zu folgen und aus dem Hobby und ihrer Leidenschaft einen Beruf zu machen. Seit 2014 unterrichtet sie kontinuierlich mit Hingabe und Freude. \n\nAnmeldung und Seminargebühr\nSeminargebühr: 289€ \nAnmeldung: Alexandra Walker// Mobil:  +491777526535 // hallo@alexandrawalker.de \n\nAnmeldung und Preise für Unterkunft und Verpflegung im Seminarhaus\nBitte aktiviere JavaScript in deinem Browser\, um dieses Formular fertigzustellen.Hast du dich bereits beim Veranstalter angemeldet? *JaNeinIch bin einverstanden *Ja\, meine Kontaktdaten dürfen an den Veranstalter weitergegeben werden.Auswahl deines Aufenthaltes *EinzelzimmerPaarbettzimmerDoppelzimmerMehrbettzimmerTagesgast mit VerpflegungWelches Einzelzimmer möchtest du?  *Suite: 412 EUR - großes Apartment mit eigenem Bad\, Wohn-/EssbereichComfort +: 312 EUR - Zimmer mit eigenem Bad und 140er BettComfort: 292 EUR  - Zimmer mit eigenem BadStandard: 272 EUR  - Zimmer mit geteiltem Bad(Preis für gesamte Zeit pro Person inkl. Verpflegung)Welches Paarbettzimmer möchtest du?  *Comfort: 242 EUR p.P. - Doppelbelegung im kl. Z.\, Kuschelbett (140er)+eigen. BadStandard: 226 EUR p.P. - Doppelbelegung im kl. Z.\, Kuschelbett (140er)+geteilt. Bad(Preis für gesamte Zeit pro Person inkl. Verpflegung)Welches Doppelzimmer möchstes du?  *Suite: 312 EUR p.P. - Doppelbelegung im großen ApartmentDeluxe: 292 EUR p.P. - Doppelbelegung großes Zimmer mit eigenem BadStandard: 252 EUR p.P. - Doppelbelegung im Zimmer mit geteiltes Bad(Preis für gesamte Zeit pro Person inkl. Verpflegung)Welches Mehrbettzimmer möchtest du? *Comfort: 226 EUR - max. 4 Bettzimmer mit eigenem BadZelt-\, Stellplatz: 186 EUR - Kissen & Schlafsack mitbringen (Preis für gesamte Zeit pro Person inkl. Verpflegung)Welche Tagesgast-Variante möchtest wählen?  *166 EUR inkl. Frühstück-\, Mittag- und Abendbuffet142 EUR inkl. Mittag- und Abendbuffet96 EUR inkl. Mittagbuffet(Preis für die gesamte Zeit pro Person)Dein alternativer Zimmerwunsch *Bitte unbedingt angeben!Einzelzimmer Standard: 272 EUR pro Person - Zimmer mit geteilt. BadComfort +: 312 EUR - Zimmer mit eigenem Bad und 140er BettWahlmöglichkeit 14Paarbettzimmer Standard: 226 EUR pro Person - Kuschelbett (140er) für 2 mit geteilt. BadDoppelzimmer Standard: 252 EUR pro Person - Doppelbelegung mit geteilt. BadMehrbettzimmer Comfort: 226 EUR pro Person - 4 Bettzimmer mit eigen. BadZelt-/Stellplatz: 186 EUR p.P.- Kissen & Schlafsack mitbringen*Unsere Zimmer sind teilweise sehr schnell ausgebucht. Gib hier bitte eine Alternative an\, falls dein erster Zimmerwunsch schon belegt ist.Nachricht ans TeamIch habe eine persönliche Nachricht ans TeamMeine Nachricht ans Team *Vorname *Nachname *Vor- und Nachname deines Partners *Möchtest du mit einer bestimmten Person ins Doppelzimmer? *Straße und Hausnummer *Hausnummer *PLZ *Ort *TelefonnummerE-Mail *AGB *Ich bestätige die Teilnahme- & Stornobedingungen des Seminars wie o.a.  sowie die AGB des Seminarhauses.Datenschutzbestimmungen *Ich habe die Datenschutzerklärung gelesen und stimme zu.NameBuchungsanfrage abschicken
URL:https://sampurna-seminarhaus.de/event/relax-charge-up-glow-deine-winter-yoga-auszeit/
LOCATION:Seminarhaus Sampurna\, Am Tiergarten 1\, Schlangenbad-Bärstadt\, Hessen\, 65388\, Deutschland
CATEGORIES:Seminar
ATTACH;FMTTYPE=image/png:https://sampurna-seminarhaus.de/wp-content/uploads/2024/05/3.png
ORGANIZER;CN="Alexandra Walker":MAILTO:hallo@alexandrawalker.de
END:VEVENT
END:VCALENDAR