BEGIN:VCALENDAR
VERSION:2.0
PRODID:-//Sampurna Seminarhaus - ECPv6.10.1.1//NONSGML v1.0//EN
CALSCALE:GREGORIAN
METHOD:PUBLISH
X-WR-CALNAME:Sampurna Seminarhaus
X-ORIGINAL-URL:https://sampurna-seminarhaus.de
X-WR-CALDESC:Veranstaltungen für Sampurna Seminarhaus
REFRESH-INTERVAL;VALUE=DURATION:PT1H
X-Robots-Tag:noindex
X-PUBLISHED-TTL:PT1H
BEGIN:VTIMEZONE
TZID:Europe/Berlin
BEGIN:DAYLIGHT
TZOFFSETFROM:+0100
TZOFFSETTO:+0200
TZNAME:CEST
DTSTART:20250330T010000
END:DAYLIGHT
BEGIN:STANDARD
TZOFFSETFROM:+0200
TZOFFSETTO:+0100
TZNAME:CET
DTSTART:20251026T010000
END:STANDARD
END:VTIMEZONE
BEGIN:VEVENT
DTSTART;TZID=Europe/Berlin:20250711T163000
DTEND;TZID=Europe/Berlin:20250713T160000
DTSTAMP:20260421T031101
CREATED:20241020T131608Z
LAST-MODIFIED:20241101T135753Z
UID:25633-1752251400-1752422400@sampurna-seminarhaus.de
SUMMARY:Recharge & Relax
DESCRIPTION:„Recharge & Relax“ Sommer-Yoga-Retreat \nDer Sommer ist eine energievolle Zeit\, geprägt von Wärme\, Licht und viel Aktivität. Es lohnt sich jedoch gerade dann mal inne zu halten\, still zu werden\, sich mal aus dem Alltag rauszuziehen (to retreat). Wenn Du das gerne für Dich möchtest\, dann bist Du hier genau richtig. Ich möchte Dich herzlich einladen\, Dir eine kleine Sommer-Auszeit zu schenken.\nEgal\, ob Einsteiger*in\, geübt oder ungeübt\, beweglich oder unbeweglich. Es geht einfach darum eine genussvolle Zeit zu haben\, allein oder in entspannte Gespräche vertieft\, in das eigene Yoga einzutauchen\, durch die Natur zu spazieren\, in der Natur zu sitzen und mal Nichts zu tun. Es sind Yoga-Retreat-Tage nur für Dich\, für die eigene Seele – alles kann\, nichts muss! \nEs erwarten Dich 3 Tage voller Yoga und dennoch ausreichend Zeit für Dich selbst. Wir werden durch kraftvolle\, energiegeladene Vinyasa-Flows fließen\, aber auch mal ganz sanft praktizieren. Unsere Faszien dürfen mal im Mittelpunkt der Yogapraxis stehen und bei ruhigem Yin Yoga am Abend ist Zeit für Entspannung\, Abschalten und Innenschau. \nWir treffen uns am Freitag um 17 Uhr im Raum Bhakti. \n\nVoraussetzungen der Teilnahme  \nEs gibt keine besonderen Voraussetzungen: Egal\, ob Einsteiger*in\, geübt oder ungeübt\, beweglich oder unbeweglich\, alle Yogainteressierten sind herzlich eingeladen. \n\nYoga-Programm \n\nSeminarleitung:\nSilke Herbst \n \nMein Name ist Silke Herbst und ich bin Yogalehrerin aus purer Leidenschaft.\nUngefähr im Jahr 2011 habe ich angefangen Yoga intensiver zu praktizieren und meine Leidenschaft zu Yoga gefunden. Für den Weg Yogalehrerin zu werden\, habe ich mich 2016 entschieden und mit meiner Ausbildung begonnen. \nMeine Zertifizierung nach 500 RYS\, habe ich durch die Ausbildung in der „Vinyasa Yoga Akademie Deutschland“ im Januar 2021 erworben (weitere Ausbildungen in Aerial Yoga und Inside Flow). \n  \n\nSeminargebühr\nFrühbucher (bis 31.03.2025): 180€\nRegulär: 200€ \nAnmeldung bei: Silke Herbst // +491733175741 //  yogatraum-waechtersbach@gmx.de \n\nPreise und Anmeldung für Unterkunft und Verpflegung\nBitte aktiviere JavaScript in deinem Browser\, um dieses Formular fertigzustellen.Hast du dich bereits beim Veranstalter angemeldet? *JaNeinIch bin einverstanden *Ja\, meine Kontaktdaten dürfen an den Veranstalter weitergegeben werden.Auswahl deines Aufenthaltes *EinzelzimmerPaarbettzimmerDoppelzimmerMehrbettzimmerTagesgast mit VerpflegungWelches Einzelzimmer möchtest du?  *Comfort +: 330 EUR - Zimmer mit eigenem Bad und 140er BettComfort: 310 EUR  - Zimmer mit eigenem BadStandard: 290 EUR  - Zimmer mit geteiltem Bad(Preis für gesamte Zeit pro Person inkl. Verpflegung)Welches Paarbettzimmer möchtest du?  *Comfort: 260 EUR p.P. - Doppelbelegung im kl. Z.\, Kuschelbett (140er)+eigen. BadStandard: 240 EUR p.P. - Doppelbelegung im kl. Z.\, Kuschelbett (140er)+geteilt. Bad(Preis für gesamte Zeit pro Person inkl. Verpflegung)Welches Doppelzimmer möchstes du?  *Suite: 330 EUR p.P. - Doppelbelegung im großen ApartmentDeluxe: 310 EUR p.P. - Doppelbelegung großes Zimmer mit eigenem BadStandard: 270 EUR p.P. - Doppelbelegung im Zimmer mit geteiltes Bad(Preis für gesamte Zeit pro Person inkl. Verpflegung)Welches Mehrbettzimmer möchtest du? *Comfort: 240 EUR - max. 4 Bettzimmer mit eigenem BadZelt-\, Stellplatz: 200 EUR - Kissen & Schlafsack mitbringen (Preis für gesamte Zeit pro Person inkl. Verpflegung)Welche Tagesgast-Variante möchtest wählen?  *180 EUR inkl. Frühstück-\, Mittag- und Abendbuffet152 EUR inkl. Mittag- und Abendbuffet102 EUR inkl. Mittagbuffet(Preis für die gesamte Zeit pro Person)Dein alternativer Zimmerwunsch *Bitte unbedingt angeben!Einzelzimmer Standard: 290 EUR pro Person - Zimmer mit geteilt. BadComfort: 310 EUR  - Zimmer mit eigenem BadComfort +: 330 EUR - Zimmer mit eigenem Bad und 140er BettPaarbettzimmer Standard: 240 EUR pro Person - Kuschelbett (140er) für 2 mit geteilt. BadDoppelzimmer Standard: 270 EUR pro Person - Doppelbelegung mit geteilt. BadMehrbettzimmer Comfort: 240 EUR pro Person - 4 Bettzimmer mit eigen. BadZelt-/Stellplatz: 200 EUR p.P.- Kissen & Schlafsack mitbringen*Unsere Zimmer sind teilweise sehr schnell ausgebucht. Gib hier bitte eine Alternative an\, falls dein erster Zimmerwunsch schon belegt ist.Nachricht ans TeamIch habe eine persönliche Nachricht ans TeamMeine Nachricht ans Team *Vorname *Nachname *Vor- und Nachname deines Partners *Möchtest du mit einer bestimmten Person ins Doppelzimmer? *Straße und Hausnummer *Hausnummer *PLZ *Ort *TelefonnummerE-Mail *AGB *Ich bestätige die Teilnahme- & Stornobedingungen des Seminars wie o.a.  sowie die AGB des Seminarhauses.Datenschutzbestimmungen *Ich habe die Datenschutzerklärung gelesen und stimme zu.EmailBuchungsanfrage abschicken
URL:https://sampurna-seminarhaus.de/event/recharge-relax/
LOCATION:Seminarhaus Sampurna\, Am Tiergarten 1\, Schlangenbad-Bärstadt\, Hessen\, 65388\, Deutschland
CATEGORIES:Seminar
ATTACH;FMTTYPE=image/jpeg:https://sampurna-seminarhaus.de/wp-content/uploads/2024/10/YogaTraum_37-acdd9cfc9aba747df790188eede8d815-e1729430209652.jpeg
ORGANIZER;CN="Silke Herbst":MAILTO:yogatraum-waechtersbach@gmx.de
END:VEVENT
END:VCALENDAR