BEGIN:VCALENDAR
VERSION:2.0
PRODID:-//Sampurna Seminarhaus - ECPv6.10.1.1//NONSGML v1.0//EN
CALSCALE:GREGORIAN
METHOD:PUBLISH
X-WR-CALNAME:Sampurna Seminarhaus
X-ORIGINAL-URL:https://sampurna-seminarhaus.de
X-WR-CALDESC:Veranstaltungen für Sampurna Seminarhaus
REFRESH-INTERVAL;VALUE=DURATION:PT1H
X-Robots-Tag:noindex
X-PUBLISHED-TTL:PT1H
BEGIN:VTIMEZONE
TZID:Europe/Berlin
BEGIN:DAYLIGHT
TZOFFSETFROM:+0100
TZOFFSETTO:+0200
TZNAME:CEST
DTSTART:20250330T010000
END:DAYLIGHT
BEGIN:STANDARD
TZOFFSETFROM:+0200
TZOFFSETTO:+0100
TZNAME:CET
DTSTART:20251026T010000
END:STANDARD
END:VTIMEZONE
BEGIN:VEVENT
DTSTART;TZID=Europe/Berlin:20250102T140000
DTEND;TZID=Europe/Berlin:20250105T140000
DTSTAMP:20260422T131322
CREATED:20240123T122342Z
LAST-MODIFIED:20241203T124124Z
UID:23573-1735826400-1736085600@sampurna-seminarhaus.de
SUMMARY:Neujahrsretreat für deine Seele
DESCRIPTION:In dem Neujahrsretreat für deine Seele öffnen wir Räume\, damit sich deine Seele wieder aufrichten und ausrichten kann. \nBreite deine Flügel aus und flieg ins neue Jahr hinein! \nLass dich hineingleiten in die Energie von 2025 mit \n… Traumkunst\n… geführten Meditationen\n… Seelenübungen und\n… einem Gruppen-Channeling \nDas Retreat ist genau das Richtige für dich\, wenn du dich für das neue Jahr ausrichten möchtest und geführt von deiner Seele die Energie klar setzen und verankern möchtest – tief\, leicht und seelenverbunden! \nVoraussetzung für die Teilnahme \nOffenheit der Seele Raum zu geben \nSeminarleitung\n \nCathrin Hauk \nCathrin ist Seelenplan-Leserin und Channel-Medium. Sie liebt die Kraft der Worte und schöpft diese aus den Quellen des Seelensterns und der Verbindung ihres und deines geistigen Teams. So bekommt sie für sich und auch für dich Antworten auf viele Lebensfragen.\nIhr Ruf ist es\, das Licht in die Welt zu tragen\, indem sie die Menschen auf den Weg ihrer Seelen-Bestimmung führt. Liebevoll\, leicht und heilsam!\nCathrin freut sich\, wenn sie dich im Neujahrsretreat auf deinem Seelenweg begleiten darf. \n\nwww.cathrin-hauk.ch \n\n \nMonika Hofstetter \nMonika ist TraumArtistin und Heilerin. Sie hat eine grosse Leidenschaft zu Bilder\, Rhythmen\, Formen und Farben und begleitet Menschen auf dem Weg zu mehr Freiheit und Authentizität. Ihr Traum bringt Menschen hervor\, die ihrem Herzenskompass folgen und die sich in ihrem einzigARTigen Schöpfer:in-SEIN in Ausdruck bringen. Sie freut sich mit Cathrin zu co-kreieren und Räume zu öffnen\, um Seelenträume und Seelenführung erfahrbar zu machen. Erfahren. Humorvoll. Klar. \nwww.rebild.ch\n\nSeminargebühr regulär:  490\,00€ zzgl. Verpflegungs- und Übernachtungskosten \nFrühbucherrabatt 400\,00€ bis 05. Mai 2024 zzgl. Verpflegungs- und Übernachtungskosten \nAnmeldung bei: Cathrin Hauk // +41782573527 // kontakt@cathrin-hauk.de \n\nPreise und Anmeldung für Tagesgäste und Unterkunft und Verpflegung\nBitte aktiviere JavaScript in deinem Browser\, um dieses Formular fertigzustellen.Hast du dich bereits beim Veranstalter angemeldet? *JaNeinIch bin einverstanden *Ja\, meine Kontaktdaten dürfen an den Veranstalter weitergegeben werden.Auswahl deines Aufenthaltes *EinzelzimmerPaarbettzimmerDoppelzimmerMehrbettzimmerTagesgast mit VerpflegungWelches Einzelzimmer möchtest du?  *Suite: 645 EUR - großes Apartment mit eigenem Bad\, Wohn-/EssbereichComfort + : 495 EUR - Zimmer mit eig. Bad (1\,40m breitem Bett)Comfort: 465 EUR  - Zimmer mit eigenem BadStandard: 435 EUR  - Zimmer mit geteiltem Bad(Preis für gesamte Zeit pro Person inkl. Verpflegung)Welches Paarbettzimmer möchtest du?  *Comfort: 390 EUR p.P. - Doppelbelegung im kl. Z.\, Kuschelbett (140er)+eigen. BadStandard: 360 EUR p.P. - Doppelbelegung im kl. Z.\, Kuschelbett (140er)+geteilt. Bad(Preis für gesamte Zeit pro Person inkl. Verpflegung)Welches Doppelzimmer möchstes du?  *Suite: 495 EUR p.P. - Doppelbelegung im großen ApartmentDeluxe: 465 EUR p.P. - Doppelbelegung großes Zimmer mit eigenem BadStandard: 405 EUR p.P. - Doppelbelegung im Zimmer mit geteiltes Bad(Preis für gesamte Zeit pro Person inkl. Verpflegung)Welches Mehrbettzimmer möchtest du? *Comfort: 360 EUR - max. 4 Bettzimmer mit eigenem BadZelt-\, Stellplatz: 300 EUR - Kissen & Schlafsack mitbringen (Preis für gesamte Zeit pro Person inkl. Verpflegung)Welche Tagesgast-Variante möchtest wählen?  *270 EUR inkl. Frühstück-\, Mittag- und Abendbuffet228 EUR inkl. Mittag- und Abendbuffet153 EUR inkl. Mittagbuffet(Preis für die gesamte Zeit pro Person)Dein alternativer Zimmerwunsch *Bitte unbedingt angeben!Comfort Plus : 495 EUR - Zimmer mit eig. Bad (1\,40m breitem Bett)Comfort: 465 EUR  - Zimmer mit eigenem BadEinzelzimmer Standard: 435 EUR pro Person - Zimmer mit geteilt. BadPaarbettzimmer Standard: 360 EUR pro Person - Kuschelbett (140er) für 2 mit geteilt. BadDoppelzimmer Standard: 405 EUR pro Person - Doppelbelegung mit geteilt. BadMehrbettzimmer Comfort: 360 EUR pro Person - 4 Bettzimmer mit eigen. BadZelt-/Stellplatz: 300 EUR p.P.- Kissen & Schlafsack mitbringen*Unsere Zimmer sind teilweise sehr schnell ausgebucht. Gib hier bitte eine Alternative an\, falls dein erster Zimmerwunsch schon belegt ist.Nachricht ans TeamIch habe eine persönliche Nachricht ans TeamMeine Nachricht ans Team *Vorname *Nachname *Vor- und Nachname deines Partners *Möchtest du mit einer bestimmten Person ins Doppelzimmer? *Straße und Hausnummer *Hausnummer *PLZ *Ort *TelefonnummerE-Mail *AGB *Ich bestätige die Teilnahme- & Stornobedingungen des Seminars wie o.a.  sowie die AGB des Seminarhauses.Datenschutzbestimmungen *Ich habe die Datenschutzerklärung gelesen und stimme zu.Datum/ZeitDatumZeitCommentBuchungsanfrage abschicken
URL:https://sampurna-seminarhaus.de/event/neujahrsretreat-fuer-deine-seele-2/
LOCATION:Seminarhaus Sampurna\, Am Tiergarten 1\, Schlangenbad-Bärstadt\, Hessen\, 65388\, Deutschland
CATEGORIES:Seminar
ATTACH;FMTTYPE=image/png:https://sampurna-seminarhaus.de/wp-content/uploads/2023/11/Seminar.png
ORGANIZER;CN="Cathrin Hauk":MAILTO:kontakt@cathrin-hauk.de
END:VEVENT
END:VCALENDAR