BEGIN:VCALENDAR
VERSION:2.0
PRODID:-//Sampurna Seminarhaus - ECPv6.10.1.1//NONSGML v1.0//EN
CALSCALE:GREGORIAN
METHOD:PUBLISH
X-WR-CALNAME:Sampurna Seminarhaus
X-ORIGINAL-URL:https://sampurna-seminarhaus.de
X-WR-CALDESC:Veranstaltungen für Sampurna Seminarhaus
REFRESH-INTERVAL;VALUE=DURATION:PT1H
X-Robots-Tag:noindex
X-PUBLISHED-TTL:PT1H
BEGIN:VTIMEZONE
TZID:Europe/Berlin
BEGIN:DAYLIGHT
TZOFFSETFROM:+0100
TZOFFSETTO:+0200
TZNAME:CEST
DTSTART:20230326T010000
END:DAYLIGHT
BEGIN:STANDARD
TZOFFSETFROM:+0200
TZOFFSETTO:+0100
TZNAME:CET
DTSTART:20231029T010000
END:STANDARD
END:VTIMEZONE
BEGIN:VEVENT
DTSTART;TZID=Europe/Berlin:20230723T170000
DTEND;TZID=Europe/Berlin:20230728T160000
DTSTAMP:20260420T153647
CREATED:20221217T115916Z
LAST-MODIFIED:20230122T185959Z
UID:21094-1690131600-1690560000@sampurna-seminarhaus.de
SUMMARY:Meditationslehrerausbildung (Ausbildungswoche)
DESCRIPTION:Du wünscht dir \n\nüber einen längeren Zeitraum gemeinsam mit einer Gruppe tiefer in die Meditation einzutauchen\,\nmehr über die Hintergründe deines Energiekörpers und des kollektive\, vibratorische Bewusstsein zu erfahren\,\ndeine Erfahrungen in dein Leben zu integrieren und\ndeine Erfahrungen an andere weiterzugeben.\n\nDann ist diese Ausbildung genau das Richtige für dich. Wir begleiten dich 2 Jahre auf deinem Weg zu deiner inneren Freiheit.\nMehr Infos zur Ausbildung erhältst du HIER. \n\nSeminarleitung\nSven-Oliver Engel \n \nDer Seminarleiter Sven Oliver Engel\, geb. 21.09.1966 in Hamburg\, hatte durch eine Nahtoderfahrung 1986 die Gelegenheit auf „die andere Seite“ zu schauen. Die spirituellen Impulse\, die er von dort bekam\, hat er in jahrelangen Selbstversuchen und Studien  sortiert und verarbeitet. Von 1990 bis 1994 studierte er Philosophie an der Gutenberg Universität in Mainz\, mit Schwerpunkte Buddhismus und indische Philosophie und Theologie. Bereits 1991 lernte er die indische Großmeisterin und Heilige Sri Mataji Nirmala Devi persönlich kennen\, die mit Ihrer Lehre von „Sahaja Samadi“ seinen spirituellen Weg wesentlich beeinflusste.  Seit 25 Jahren hält er Vorträge und Seminare zum Thema Yoga und Meditation\, Stressmanagement und Stressbewältigung durch Meditation. \n\nSeminargebühr\nEs fallen keine Seminargebühr an. Spenden sind willkommen. \n  \n\nPreise für Unterkunft und Verpflegung\nBitte aktiviere JavaScript in deinem Browser\, um dieses Formular fertigzustellen.Hast du dich bereits beim Veranstalter angemeldet? *JaNeinFür welche Ausbildungswoche möchtest du dich anmelden *23.-28.07.2330.06-05.07.24Auswahl deines Aufenthaltes *EinzelzimmerDoppelzimmerMehrbettzimmerTagesgast mit VerpflegungWelches Einzelzimmer möchtest du?  *Comfort: 725 EUR  - Zimmer mit eigenem BadStandard: 675 EUR  - Zimmer mit geteiltem Bad(Preis für gesamte Zeit pro Person inkl. Verpflegung)Welches Doppelzimmer möchstes du?  *Deluxe: 725 EUR p.P. - Doppelbelegung großes Zimmer mit eigenem BadStandard: 625 EUR p.P. - Doppelbelegung im Zimmer mit geteiltes Bad(Preis für gesamte Zeit pro Person inkl. Verpflegung)Welches Mehrbettzimmer möchtest du? *Comfort: 575 EUR - max. 4 Bettzimmer mit eigenem BadZelt-\, Stellplatz: 475 EUR - Kissen & Schlafsack mitbringen (Preis für gesamte Zeit pro Person inkl. Verpflegung)Welche Tagesgast-Variante möchtest wählen?  *435 EUR inkl. Frühstück-\, Mittag- und Abendbuffet375 EUR inkl. Mittag- und Abendbuffet275 EUR inkl. Mittagbuffet(Preis für die gesamte Zeit pro Person)Dein erster alternativer Zimmerwunsch *Bitte unbedingt angeben!Einzelzimmer Standard: 675 EUR pro Person - Zimmer mit geteilt. BadDoppelzimmer Standard: 625 EUR pro Person - Doppelbelegung mit geteilt. BadMehrbettzimmer Comfort: 575 EUR pro Person - 4 Bettzimmer mit eigen. BadZelt-/Stellplatz: 475 EUR p.P.- Kissen & Schlafsack mitbringen*Unsere Zimmer sind teilweise sehr schnell ausgebucht. Gib hier bitte eine Alternative an\, falls dein erster Zimmerwunsch schon belegt ist.Dein zweiter alternativer Zimmerwunsch *Bitte unbedingt angeben!Doppelzimmer Standard: 625 EUR pro Person- Doppelbelegung mit geteilt. BadMehrbettzimmer Comfort: 575 EUR pro Person- 4 Bettzimmer mit eigen. BadStellplatz: 475 EUR pro Person- Kissen & Schlafsack mitbringenTagesgast mit selbst organisierter Übernachtung in der NäheWenn mein Wunschzimmer nicht frei ist\, komme ich nicht.*Ja\, unsere Zimmer gehen teilweise weg wie warme Semmeln. Ein zweiter Zimmerwunsch ist hier wichtig!Welche Variante möchtest du als Tagesgast wählen? (Preis für die gesamte Zeit pro Person) *435 EUR inkl. Frühstück-\, Mittag- und Abendbuffet375 EUR inkl. Mittag- und Abendbuffet275 EUR inkl. MittagbuffetNachricht ans TeamIch habe eine persönliche Nachricht ans TeamMeine Nachricht ans Team *Vorname *Nachname *Vor- und Nachname deines Partners *Möchtest du mit einer bestimmten Person ins Doppelzimmer? *Straße und Hausnummer *Hausnummer *PLZ *Ort *TelefonE-Mail *AGB *Ich bestätige die Teilnahme- & Stornobedingungen des Seminars wie o.a.  sowie die AGB des Seminarhauses.Datenschutzbestimmungen *Ich habe die Datenschutzerklärung gelesen und stimme zu.CommentBuchungsanfrage abschicken
URL:https://sampurna-seminarhaus.de/event/meditationslehrerausbildung-2/
LOCATION:Seminarhaus Sampurna\, Am Tiergarten 1\, Schlangenbad-Bärstadt\, Hessen\, 65388\, Deutschland
CATEGORIES:Ausbildung
ATTACH;FMTTYPE=image/jpeg:https://sampurna-seminarhaus.de/wp-content/uploads/2022/12/Ausbildung16x9.jpeg
ORGANIZER;CN="Sven-Oliver Engel":MAILTO:sven-oliver@nirmalayoga.de
END:VEVENT
END:VCALENDAR