BEGIN:VCALENDAR
VERSION:2.0
PRODID:-//Sampurna Seminarhaus - ECPv6.10.1.1//NONSGML v1.0//EN
CALSCALE:GREGORIAN
METHOD:PUBLISH
X-WR-CALNAME:Sampurna Seminarhaus
X-ORIGINAL-URL:https://sampurna-seminarhaus.de
X-WR-CALDESC:Veranstaltungen für Sampurna Seminarhaus
REFRESH-INTERVAL;VALUE=DURATION:PT1H
X-Robots-Tag:noindex
X-PUBLISHED-TTL:PT1H
BEGIN:VTIMEZONE
TZID:Europe/Berlin
BEGIN:DAYLIGHT
TZOFFSETFROM:+0100
TZOFFSETTO:+0200
TZNAME:CEST
DTSTART:20240331T010000
END:DAYLIGHT
BEGIN:STANDARD
TZOFFSETFROM:+0200
TZOFFSETTO:+0100
TZNAME:CET
DTSTART:20241027T010000
END:STANDARD
END:VTIMEZONE
BEGIN:VEVENT
DTSTART;TZID=Europe/Berlin:20240216T160000
DTEND;TZID=Europe/Berlin:20240218T133000
DTSTAMP:20260420T134937
CREATED:20230408T094642Z
LAST-MODIFIED:20230408T094840Z
UID:21771-1708099200-1708263000@sampurna-seminarhaus.de
SUMMARY:Lifetrainer & Coach (2 Jahre berufsbegleitend)
DESCRIPTION:Die Lifetrainer & Coach Weiterbildung ist berufsbegleitend über 2 Jahre.\nSie hat bereits begonnen und einige Einheiten finden im Sampurna statt und die neue Lifetrainergruppe beginnt 2025 .\nWeitere Infos bitte auf der Homepage studieren.www.mandakini-seminare.com \nVoraussetzung für die Teilnahme \ngenaue Infos auf meiner Homepage http://www.mandakini-seminare.com \n\nSeminarleitung\n \nMandakini Christiana Jacobsen \n„MANDAKINI arbeitet seit vielen Jahren aus der Stille des Seins. Ihre Medialität schenkt vielen Menschen Zugang zu ihrer eigenen inneren Essenz und Intuition. \nJeder Augenblick ist neu und inspirierend mit ihr.“ \n\nGeboren 1958\, Mutter von 2 erwachsenen Kindern\nSeit September 2017 ist sie auch glückliche Großmutter ihres Enkelsohn Rafael und seit 2019 Enkelin Halita-Marie\, seit Februar 2023 Enkelsohn Joshua.\nGanzheitlicher Team & Paarcoach\, Bewusstseinstrainerin\, Spirituelle Lehrerin seit über 40 Jahren\nNLP Lehrtrainerin (seit 1985)\, Ganzheitlich systemische Aufstellerin (DGFS)\nSchon mit 22 Jahren Kinderhausleitung in Ahrensburg\nWeiterbildung zur Realtherapie (E. Bauer)\nNLP Lehrtrainer Ausbildung (Thies Stahl\, Dilts\, M. Grinder)\nSystemische Aufstellungsarbeit B. Hellinger\, Gunthard Weber\nAusbildung in feinstofflicher Energie- und Seelenarbeit bei Linda Vielau\nMediale Weiterbildung bei Raphael Wayent aus Hawaii.\nTraumahealing (Peter Levine\, Itta Wiedemann)\nSpirituelle Schulungen und persönliche transformierende Begegnungen mit u.a. OSHO\, Amma\, Mother Meera und vielen wundervollen Lehrern in Ost und West\nIm Herzen ist sie sehr mit Jesus und Ramana verbunden\nAutorin\, Kongress-und Vortragsrednerin (Erlebnisvorträge)\n\nDas Leben selbst\, die Stille und der „Gesang des Seins“ sind ihre tiefste \n\nAnmeldung zum Seminar und Seminargebühr\nSeminargebühr: 449\,00 (pro Einheit) \nAnmeldung bei: Christiana Jacobsen// +4920145844822 // jacobsen-seminare@gmx.de \n\nAnmeldung und Preise für Unterkunft und Verpflegung\nBitte aktiviere JavaScript in deinem Browser\, um dieses Formular fertigzustellen.Hast du dich bereits beim Veranstalter angemeldet? *JaNeinIch bin einverstanden *Ja\, meine Kontaktdaten dürfen an den Veranstalter weitergegeben werden.Auswahl deines Aufenthaltes *EinzelzimmerPaarbettzimmerDoppelzimmerMehrbettzimmerTagesgast mit VerpflegungWelches Einzelzimmer möchtest du?  *Suite: 412 EUR - großes Apartment mit eigenem Bad\, Wohn-/EssbereichComfort Plus : 312 EUR - Zimmer mit eig. Bad (1\,40m breitem Bett)Comfort: 292 EUR  - Zimmer mit eigenem BadStandard: 272 EUR  - Zimmer mit geteiltem Bad(Preis für gesamte Zeit pro Person inkl. Verpflegung)Welches Paarbettzimmer möchtest du?  *Comfort: 242 EUR p.P. - Doppelbelegung im kl. Z.\, Kuschelbett (140er)+eigen. BadStandard: 226 EUR p.P. - Doppelbelegung im kl. Z.\, Kuschelbett (140er)+geteilt. Bad(Preis für gesamte Zeit pro Person inkl. Verpflegung)Welches Doppelzimmer möchstes du?  *Suite: 312 EUR p.P. - Doppelbelegung im großen ApartmentDeluxe: 292 EUR p.P. - Doppelbelegung großes Zimmer mit eigenem BadStandard: 252 EUR p.P. - Doppelbelegung im Zimmer mit geteiltes Bad(Preis für gesamte Zeit pro Person inkl. Verpflegung)Welches Mehrbettzimmer möchtest du? *Comfort: 226 EUR - max. 4 Bettzimmer mit eigenem BadZelt-\, Stellplatz: 186 EUR - Kissen & Schlafsack mitbringen (Preis für gesamte Zeit pro Person inkl. Verpflegung)Welche Tagesgast-Variante möchtest wählen?  *166 EUR inkl. Frühstück-\, Mittag- und Abendbuffet142 EUR inkl. Mittag- und Abendbuffet96 EUR inkl. Mittagbuffet(Preis für die gesamte Zeit pro Person)Dein erster alternativer Zimmerwunsch *Bitte unbedingt angeben!Comfort + : 312 EUR - Zimmer mit eig. Bad (1\,40m breitem Bett)Einzelzimmer Standard: 272 EUR pro Person - Zimmer mit geteilt. BadPaarbettzimmer Standard: 226 EUR pro Person - Kuschelbett (140er) für 2 mit geteilt. BadDoppelzimmer Standard: 252 EUR pro Person - Doppelbelegung mit geteilt. BadMehrbettzimmer Comfort: 226 EUR pro Person - 4 Bettzimmer mit eigen. BadZelt-/Stellplatz: 186 EUR p.P.- Kissen & Schlafsack mitbringen*Unsere Zimmer sind teilweise sehr schnell ausgebucht. Gib hier bitte eine Alternative an\, falls dein erster Zimmerwunsch schon belegt ist.Dein zweiter alternativer Zimmerwunsch *Bitte unbedingt angeben!Comfort + : 312 EUR - Zimmer mit eig. Bad (1\,40m breitem Bett)Doppelzimmer Standard: 252 EUR pro Person- Doppelbelegung mit geteilt. BadMehrbettzimmer Comfort: 226 EUR pro Person- 4 Bettzimmer mit eigen. BadStellplatz: 186 EUR pro Person- Kissen & Schlafsack mitbringenTagesgast mit selbst organisierter Übernachtung in der NäheWenn mein Wunschzimmer nicht frei ist\, komme ich nicht.*Ja\, unsere Zimmer gehen teilweise weg wie warme Semmeln. Ein zweiter Zimmerwunsch ist hier wichtig!Welche Variante möchtest du als Tagesgast wählen? (Preis für die gesamte Zeit pro Person) *166 EUR inkl. Frühstück-\, Mittag- und Abendbuffet142 EUR inkl. Mittag- und Abendbuffet96 EUR inkl. MittagbuffetNachricht ans TeamIch habe eine persönliche Nachricht ans TeamMeine Nachricht ans Team *Vorname *Nachname *Vor- und Nachname deines Partners *Möchtest du mit einer bestimmten Person ins Doppelzimmer? *Straße und Hausnummer *Hausnummer *PLZ *Ort *TelefonnummerE-Mail *AGB *Ich bestätige die Teilnahme- & Stornobedingungen des Seminars wie o.a.  sowie die AGB des Seminarhauses.Datenschutzbestimmungen *Ich habe die Datenschutzerklärung gelesen und stimme zu.MessageBuchungsanfrage abschicken
URL:https://sampurna-seminarhaus.de/event/lifetrainer-coach-2-jahre-berufsbegleitend/
LOCATION:Seminarhaus Sampurna\, Am Tiergarten 1\, Schlangenbad-Bärstadt\, Hessen\, 65388\, Deutschland
ATTACH;FMTTYPE=image/jpeg:https://sampurna-seminarhaus.de/wp-content/uploads/2023/04/Seelenportraits.com-8513-1f2b8a28a6a7dfa4b6177ab64c0bfae6-scaled-e1680947108148.jpg
ORGANIZER;CN="Christiana Jacobsen":MAILTO:jacobsen-seminare@gmx.de
END:VEVENT
END:VCALENDAR