BEGIN:VCALENDAR
VERSION:2.0
PRODID:-//Sampurna Seminarhaus - ECPv6.10.1.1//NONSGML v1.0//EN
CALSCALE:GREGORIAN
METHOD:PUBLISH
X-WR-CALNAME:Sampurna Seminarhaus
X-ORIGINAL-URL:https://sampurna-seminarhaus.de
X-WR-CALDESC:Veranstaltungen für Sampurna Seminarhaus
REFRESH-INTERVAL;VALUE=DURATION:PT1H
X-Robots-Tag:noindex
X-PUBLISHED-TTL:PT1H
BEGIN:VTIMEZONE
TZID:Europe/Berlin
BEGIN:DAYLIGHT
TZOFFSETFROM:+0100
TZOFFSETTO:+0200
TZNAME:CEST
DTSTART:20250330T010000
END:DAYLIGHT
BEGIN:STANDARD
TZOFFSETFROM:+0200
TZOFFSETTO:+0100
TZNAME:CET
DTSTART:20251026T010000
END:STANDARD
END:VTIMEZONE
BEGIN:VEVENT
DTSTART;TZID=Europe/Berlin:20250829T160000
DTEND;TZID=Europe/Berlin:20250831T150000
DTSTAMP:20260420T155413
CREATED:20250205T101738Z
LAST-MODIFIED:20250208T091455Z
UID:26469-1756483200-1756652400@sampurna-seminarhaus.de
SUMMARY:Lady Niguma Yoga - Summer Jam - Die Kunst des Freuens
DESCRIPTION:Die Kunst des Freuens – Ein Yoga-Retreat für mehr Leichtigkeit & Glück \nEin ganzes Wochenende widmen wir uns einer wunderbaren Fähigkeit: der Freude! Warum sollte Freude und gute Laune ein fester Bestandteil unserer Praxis sein? Wie können wir auch in herausfordernden Zeiten unsere innere Leichtigkeit bewahren? \nIn diesem Retreat tauchen wir tief in die Kunst des Freuens ein. Wir betrachten unterschiedliche Sichtweisen auf die Freude\, erkunden ihre Bedeutung aus yogischer Perspektive und finden heraus\, wie Yoga uns helfen kann\, dieses Gefühl bewusster zu kultivieren. \nFreue dich auf eine inspirierende Mischung aus Yoga\, Meditation\, Weisheitsimpulsen und gemeinsamen Momenten\, die uns daran erinnern\, wie wichtig und heilsam Freude in unserem Leben ist. \nLass uns gemeinsam entdecken\, wie wir diese Kunst weiter perfektionieren und mehr Freude in unseren Alltag bringen können. Wir freuen uns auf dich \n\n\n   \n\nMit dem Laden des Videos akzeptieren Sie die Datenschutzerklärung von YouTube.Mehr erfahren \nVideo laden \n YouTube immer entsperren \n \n \n \n\n\nVoraussetzung für die Teilnahme \nJeder ist herzlich eingeladen\, auch wenn dir Lady Niguma noch kein Begriff ist. Die Praxis ist für alle Level geeignet und offen für alle\, die sich darauf einlassen möchten auch mehr über die wirkweise von Yoga in Bezug auf Karma und Leerheit zu erfahren.\nErlebe Yoga in seiner Tiefe über die Matte hinaus! \n\nSeminarleitung\n \nSandra May \nSeit über 15 Jahren begleitet Yoga mein Leben und hat mich auf eine inspirierende Reise geführt – von den dynamischen Praktiken des Ashtanga Yoga bis hin zur tiefgreifenden Weisheit des Lady Niguma Yoga.\n2025 habe ich Navanga Yoga gegründet\, um diese wertvollen Inhalte und Kurse in den deutschsprachigen Raum zu bringen. Mein Ziel ist es\, Yoga nicht nur als körperliche Praxis zu vermitteln\, sondern als Werkzeug für persönliches Wachstum und innere Transformation. \nhttps://www.mayura-yoga.de/ \n \nClaudia Neidhard \nLady Niguma Yoga ist zu meiner wahren Passion geworden. Diese einzigartige Praxis\, die auf eine 1000 Jahre alte Tradition zurückgeht\, hat mein Leben transformiert. Jeden Tag freue ich mich darauf\, diese kraftvolle Yogaform aus ganzem Herzen zu unterrichten und zu praktizieren.\nFür mich ist diese tägliche Yogapraxis der Schlüssel zu einem ausgeglichenen Leben trotz hoher beruflicher und alltäglicher Anforderungen geworden. \nhttps://www.meinemitteyoga.de/ \n \nEva Balzer \nEva studiert seit über 14 Jahren die buddhistischen Lehren und lehrt die karmischen Prinzipien z.B. in ihrem neuen Podcast „Karma mal so machen“. Eva unterstützt uns mit ihrem umfangreichen Wissen über Karma und seine wirkweise während des Retreats\, um unser Verständnis zu vertiefen. Ein gemeinsames Wochenende mit Eva verbringen zu können ist wie einen unsagbar seltenen Schatz zu finden. Wir von Navanga Yoga feiern jeden Tag\, dass sie mit dabei sein wird. \nhttps://eva-balzer.eu/ \n\nSeminargebühr und Anmeldung zum Seminar:\nSeminargebühr:  249€ \nFrühbucher bis 30.April: 229€ \nSpätbucher ab 01.August: 289€ \nAnmeldung bei: Sandra May //  +491779765531 // namaste@navanga-yoga.de \n\nAnmeldung & Preise für Unterkunft & Verpflegung:\nBitte aktiviere JavaScript in deinem Browser\, um dieses Formular fertigzustellen.Hast du dich bereits beim Veranstalter angemeldet? *JaNeinIch bin einverstanden *Ja\, meine Kontaktdaten dürfen an den Veranstalter weitergegeben werden.Auswahl deines Aufenthaltes *EinzelzimmerPaarbettzimmerDoppelzimmerMehrbettzimmerTagesgast mit VerpflegungWelches Einzelzimmer möchtest du?  *Comfort +: 330 EUR - Zimmer mit eigenem Bad und 140er BettComfort: 310 EUR  - Zimmer mit eigenem BadStandard: 290 EUR  - Zimmer mit geteiltem Bad(Preis für gesamte Zeit pro Person inkl. Verpflegung)Welches Paarbettzimmer möchtest du?  *Comfort: 260 EUR p.P. - Doppelbelegung im kl. Z.\, Kuschelbett (140er)+eigen. BadStandard: 240 EUR p.P. - Doppelbelegung im kl. Z.\, Kuschelbett (140er)+geteilt. Bad(Preis für gesamte Zeit pro Person inkl. Verpflegung)Welches Doppelzimmer möchstes du?  *Deluxe: 310 EUR p.P. - Doppelbelegung großes Zimmer mit eigenem BadStandard: 270 EUR p.P. - Doppelbelegung im Zimmer mit geteiltes Bad(Preis für gesamte Zeit pro Person inkl. Verpflegung)Welches Mehrbettzimmer möchtest du? *Comfort: 240 EUR - max. 4 Bettzimmer mit eigenem BadZelt-\, Stellplatz: 200 EUR - Kissen & Schlafsack mitbringen (Preis für gesamte Zeit pro Person inkl. Verpflegung)Welche Tagesgast-Variante möchtest wählen?  *180 EUR inkl. Frühstück-\, Mittag- und Abendbuffet152 EUR inkl. Mittag- und Abendbuffet102 EUR inkl. Mittagbuffet(Preis für die gesamte Zeit pro Person)Dein alternativer Zimmerwunsch *Bitte unbedingt angeben!Einzelzimmer Standard: 290 EUR pro Person - Zimmer mit geteilt. BadComfort: 310 EUR  - Zimmer mit eigenem BadComfort +: 330 EUR - Zimmer mit eigenem Bad und 140er BettPaarbettzimmer Standard: 240 EUR pro Person - Kuschelbett (140er) für 2 mit geteilt. BadDoppelzimmer Standard: 270 EUR pro Person - Doppelbelegung mit geteilt. BadMehrbettzimmer Comfort: 240 EUR pro Person - 4 Bettzimmer mit eigen. BadZelt-/Stellplatz: 200 EUR p.P.- Kissen & Schlafsack mitbringen*Unsere Zimmer sind teilweise sehr schnell ausgebucht. Gib hier bitte eine Alternative an\, falls dein erster Zimmerwunsch schon belegt ist.Nachricht ans TeamIch habe eine persönliche Nachricht ans TeamMeine Nachricht ans Team *Vorname *Nachname *Vor- und Nachname deines Partners *Möchtest du mit einer bestimmten Person ins Doppelzimmer? *Straße und Hausnummer *Hausnummer *PLZ *Ort *TelefonnummerE-Mail *AGB *Ich bestätige die Teilnahme- & Stornobedingungen des Seminars wie o.a.  sowie die AGB des Seminarhauses.Datenschutzbestimmungen *Ich habe die Datenschutzerklärung gelesen und stimme zu.CommentBuchungsanfrage abschicken
URL:https://sampurna-seminarhaus.de/event/lady-niguma-yoga-summer-jam-die-kunst-des-freuens/
CATEGORIES:Seminar
ATTACH;FMTTYPE=image/jpeg:https://sampurna-seminarhaus.de/wp-content/uploads/2025/02/Lady-Niguma-Yoga-5b4a76d4c9d3316221a3e90b36e730f8.jpg
ORGANIZER;CN="Sandra May":MAILTO:namaste@navanga-yoga.de
END:VEVENT
END:VCALENDAR