BEGIN:VCALENDAR
VERSION:2.0
PRODID:-//Sampurna Seminarhaus - ECPv6.10.1.1//NONSGML v1.0//EN
CALSCALE:GREGORIAN
METHOD:PUBLISH
X-WR-CALNAME:Sampurna Seminarhaus
X-ORIGINAL-URL:https://sampurna-seminarhaus.de
X-WR-CALDESC:Veranstaltungen für Sampurna Seminarhaus
REFRESH-INTERVAL;VALUE=DURATION:PT1H
X-Robots-Tag:noindex
X-PUBLISHED-TTL:PT1H
BEGIN:VTIMEZONE
TZID:Europe/Berlin
BEGIN:DAYLIGHT
TZOFFSETFROM:+0100
TZOFFSETTO:+0200
TZNAME:CEST
DTSTART:20260329T010000
END:DAYLIGHT
BEGIN:STANDARD
TZOFFSETFROM:+0200
TZOFFSETTO:+0100
TZNAME:CET
DTSTART:20261025T010000
END:STANDARD
END:VTIMEZONE
BEGIN:VEVENT
DTSTART;TZID=Europe/Berlin:20260806T170000
DTEND;TZID=Europe/Berlin:20260809T140000
DTSTAMP:20260420T190050
CREATED:20260319T101134Z
LAST-MODIFIED:20260322T095034Z
UID:28717-1786035600-1786284000@sampurna-seminarhaus.de
SUMMARY:Körper - Heiler und Speicher©
DESCRIPTION:Je älter eine gebundene Emotion ist\, desto tiefer im Körper sitzt sie. \nViele Menschen haben gelernt\, zu funktionieren. Aber nicht zu fühlen. \nSie spüren Symptome\, aber nicht sich selbst. Sie kennen Strategien\, aber nicht ihre Wahrheit. \nIn einer Zeit\, die uns permanent nach außen zieht\, ist echter Kontakt zu sich selbst zur Seltenheit geworden. Erschöpfung\, innere Anspannung\, das leise Gefühl\, eine Rolle zu spielen\, statt wirklich da zu sein. Das sind gespeicherte Geschichten. Im Körper. In den Faszien. In der Haltung. \n„Der größte Heiler ist Präsenz – Gegenwärtigkeit\, Körperbewusstsein und echtes Gewahrsein.“ Kerstin Halt \nIm Zentrum des Seminars steht der Bodydialog®\, eine von Kerstin Halt entwickelte Methode\, die emotionalen\, mentalen und physischen Körper in einem dreistufigen Prozess zusammenführt. Nicht als Theorie\, sondern als gelebte Erfahrung. Du lernst\, deinem Körper zuzuhören\, bevor er lauter werden muss. \nEmotionaler Körper:      Fühlen\, was da ist \nMentaler Körper:             Muster erkennen \nPhysischer Körper:        Verkörpern & wandeln \nWas dich erwartet: \nBodyreading © – Körper lesen \nWas sagt deine Haltung über dich aus? Du lernst\, den Körper als direkten Spiegel deiner inneren Welt zu lesen und zu verstehen. \nFaszienarbeit \nDas Bindegewebe als Emotionsspeicher: Wie Erfahrungen im Gewebe gebunden werden und wie du löst\, was dich festhält. \nEmotionen verstehen und integrieren \nGefühle ausdrücken und verwandeln. Bewegung führt zur mentalen Umstrukturierung. \nSelbstwahrnehmung und Nervensystem \nPropriozeption\, Atemarbeit\, Vagusnervregulierung – und Aktivierung\, als Wege zurück in die eigene Wahrnehmung\, Regulation und Lebendigkeit. \nIdentität im Körper erforschen \nDein Selbstbild in deinen Haltungsmustern erkennen. \nNeues Embodiment leben \nResilienz verkörpert erfahren. \nVoraussetzungen für die Teilnahme \nDieses Seminar richtet sich an Menschen\, die bereits Erfahrung mit Selbstreflexion oder Körperarbeit mitbringen. Bei Fragen melde dich gerne zu einem kostenlosen Vorgespräch. \n\nSeminarleitung\n \nKerstin Halt \nKerstin Halt verbindet traumasensible Körperarbeit\, emotionale Integration und feinstoffliche Bewusstseinsarbeit zu einem tiefgreifenden\, ganzheitlichen Heilungsweg. Seit über 20 Jahren begleitet sie Menschen an der Schnittstelle von Körper\, Emotion und Bewusstsein – mit ihrer eigens entwickelten Methode Bodydialog®. Zahlreiche Ausbildungen\, u.a. in ISP®\, Myofascial Release®\, Havening® und Faszientherapie\, bilden die fachliche Grundlage. Heute gibt sie Seminare\, Ausbildungen und Einzelsitzungen. \nhttps://www.kerstinhalt.com \n\nSeminargebühr und Anmeldung zum Seminar:\nSeminargebühr:  590€ plus 19% \nFrühbucherrabatt bei Buchung bis 01.Mai.2026: 490€ plus 19% \nAnmeldung bei: Kerstin Halt// +4915737547225 // info@kerstinhalt.com \n\nAnmeldung & Preise für Unterkunft & Verpflegung:\nBitte aktiviere JavaScript in deinem Browser\, um dieses Formular fertigzustellen.Hast du dich bereits beim Veranstalter angemeldet? *JaNein (Bitte melde dich für das Seminar beim Veranstalter an)Welches Einzelzimmer möchtest du?  *Comfort + : 495 EUR - Zimmer mit eig. Bad (1\,40m breitem Bett)Comfort: 465 EUR  - Zimmer mit eigenem BadStandard: 435 EUR  - Zimmer mit geteiltem Bad(Preis für gesamte Zeit pro Person inkl. Verpflegung)Welches Paarbettzimmer möchtest du?  *Comfort: 390 EUR p.P. - Doppelbelegung im kl. Z.\, Kuschelbett (140er)+eigen. BadStandard: 360 EUR p.P. - Doppelbelegung im kl. Z.\, Kuschelbett (140er)+geteilt. Bad(Preis für gesamte Zeit pro Person inkl. Verpflegung)Welches Doppelzimmer möchstes du?  *Deluxe: 465 EUR p.P. - Doppelbelegung großes Zimmer mit eigenem BadStandard: 405 EUR p.P. - Doppelbelegung im Zimmer mit geteiltes Bad(Preis für gesamte Zeit pro Person inkl. Verpflegung)Welches Mehrbettzimmer möchtest du? *Comfort: 360 EUR - max. 4 Bettzimmer mit eigenem BadZelt-\, Stellplatz: 300 EUR - Kissen & Schlafsack mitbringen (Preis für gesamte Zeit pro Person inkl. Verpflegung)Welche Tagesgast-Variante möchtest wählen?  *270 EUR inkl. Frühstück-\, Mittag- und Abendbuffet231 EUR inkl. Mittag- und Abendbuffet153 EUR inkl. Mittagbuffet(Preis für die gesamte Zeit pro Person)Dein alternativer Zimmerwunsch *Bitte unbedingt angeben!Comfort Plus : 495 EUR - Zimmer mit eig. Bad (1\,40m breitem Bett)Comfort: 465 EUR  - Zimmer mit eigenem BadEinzelzimmer Standard: 435 EUR pro Person - Zimmer mit geteilt. BadPaarbettzimmer Standard: 360 EUR pro Person - Kuschelbett (140er) für 2 mit geteilt. BadDoppelzimmer Standard: 405 EUR pro Person - Doppelbelegung mit geteilt. BadMehrbettzimmer Comfort: 360 EUR pro Person - 4 Bettzimmer mit eigen. BadZelt-/Stellplatz: 300 EUR p.P.- Kissen & Schlafsack mitbringen*Unsere Zimmer sind teilweise sehr schnell ausgebucht. Gib hier bitte eine Alternative an\, falls dein erster Zimmerwunsch schon belegt ist.Nachricht ans TeamIch habe eine persönliche Nachricht ans TeamMeine Nachricht ans Team *Vorname *Nachname *Vor- und Nachname deines Partners *Möchtest du mit einer bestimmten Person ins Doppelzimmer? *Straße und Hausnummer *Hausnummer *PLZ *Ort *TelefonnummerE-Mail *AGB *Ich bestätige die Teilnahme- & Stornobedingungen des Seminars wie o.a.  sowie die AGB des Seminarhauses.Datenschutzbestimmungen *Ich habe die Datenschutzerklärung gelesen und stimme zu.Datum/ZeitDatumZeitWebsiteBuchungsanfrage abschicken
URL:https://sampurna-seminarhaus.de/event/koerper-heiler-und-speicher/
LOCATION:Seminarhaus Sampurna\, Am Tiergarten 1\, Schlangenbad-Bärstadt\, Hessen\, 65388\, Deutschland
CATEGORIES:Seminar
ATTACH;FMTTYPE=image/png:https://sampurna-seminarhaus.de/wp-content/uploads/2026/03/Koerper-Heiler-und-Speicher.png
ORGANIZER;CN="Kerstin Halt":MAILTO:info@kerstinhalt.com
END:VEVENT
END:VCALENDAR