BEGIN:VCALENDAR
VERSION:2.0
PRODID:-//Sampurna Seminarhaus - ECPv6.10.1.1//NONSGML v1.0//EN
CALSCALE:GREGORIAN
METHOD:PUBLISH
X-WR-CALNAME:Sampurna Seminarhaus
X-ORIGINAL-URL:https://sampurna-seminarhaus.de
X-WR-CALDESC:Veranstaltungen für Sampurna Seminarhaus
REFRESH-INTERVAL;VALUE=DURATION:PT1H
X-Robots-Tag:noindex
X-PUBLISHED-TTL:PT1H
BEGIN:VTIMEZONE
TZID:Europe/Berlin
BEGIN:DAYLIGHT
TZOFFSETFROM:+0100
TZOFFSETTO:+0200
TZNAME:CEST
DTSTART:20220327T010000
END:DAYLIGHT
BEGIN:STANDARD
TZOFFSETFROM:+0200
TZOFFSETTO:+0100
TZNAME:CET
DTSTART:20221030T010000
END:STANDARD
END:VTIMEZONE
BEGIN:VEVENT
DTSTART;TZID=Europe/Berlin:20220318T170000
DTEND;TZID=Europe/Berlin:20220320T180000
DTSTAMP:20260420T134955
CREATED:20211222T203734Z
LAST-MODIFIED:20220128T101436Z
UID:16157-1647622800-1647799200@sampurna-seminarhaus.de
SUMMARY:He tangata whenua - Haka-Workshop mit Toroa Aperahama Healy
DESCRIPTION:An zwei Tagen wird uns der Maori-Älteste Toroa Aperahama in den Haka und die traditionellen Überlieferungen\, Ursprung\, Bedeutung und sprituelle Verbindung einführen. Wir werden einen eigens von ihm geschriebenen Haka erlernen. Diesen Haka bekommen wir überreicht als ‚tangata whenua‘ (people of the land)\, als die (Ur-)Einwohner unseres Landes. \nIch sehe keine Grenzen und Länder\, ich sehe nur verschiedene Stämme auf der Welt. Jeder Stamm sollte wieder in Verbindung mit dieser ‚eingeborenen‘ Kraft gebracht werden\, so Toroa. \nDer Haka ist eine traditionell überlieferte Kunstform der Maori\, die geschützt und bewahrt werden muss. Er stellt ein Geschenk an unser Land dar. Aber das Konzept eines motivierenden und verbindenden Kampfschrei / Krafttanz dahinter gehört allen Menschen. Unser Haka befindet sich außerhalb der traditionell geschützten Bräuche und Protokolle und dienen zu unserer ganz persönlichen Verbindung mit unserer Kultur und unseren Ahnen. Der Respekt für das Maori Brauchtum liegt hier im Vordergrund und wird von Toroa achtsam gewahrt. Dazu wird Toroa uns in der üblichen mündlichen Tradition unterrichten. \n\nTeilnahmevoraussetzungen\nDer Workshop ist für offen für alle Geschlechter. Du benötigst keine bestimmten Vorkenntnisse im Haka oder Maori-Brauchtum. Wenn Du Dir unsicher bist wg. deiner körperlichen Leistungsfähigkeit\, sprich uns gerne an. Haka kann von Jedem und Jeder getanzt werden\, und ist auch im Alter möglich. \n\nSeminarleitung\nToroa Aperahama \n \nToroa Aperahama (63) ist ein angesehener Maori-Ältester mit tiefer Verbindung zu seiner Kultur und seinen Ahnen. Nach alter Tradition wurde er als Erstgeborener von seinen Großeltern aufgezogen und in die Riten und Gebräuche eingewiesen. Er hat Zeit seines Lebens als KAIWHAKAIIRO (Meister der Schnitzkunst) mit Jade\, Knochen und Holz gearbeitet und gelehrt. Toroa wurde zudem von seiner Großmutter Te Wharehau in die Kunst der traditionellen Maori-Heilweisen unterwiesen. \n\nSeminargebühr und Anmeldung\nSeminargebühr: 220€ \nAnmeldung bei: Janina Erdmann // Tel: +4917621830756 // Mail: team@fabianstrumpf.de \n\nAnmeldung und Preise für Unterkunft & Verpflegung\nBitte aktiviere JavaScript in deinem Browser\, um dieses Formular fertigzustellen.Hast du dich bereits beim Veranstalter angemeldet? *JaNeinIch bin einverstanden *Ja\, meine Kontaktdaten dürfen an den Veranstalter weitergegeben werden.Auswahl deines Aufenthaltes *EinzelzimmerPaarbettzimmerDoppelzimmerMehrbettzimmerTagesgast mit VerpflegungWelches Einzelzimmer möchtest du?  *Suite: 368 EUR - großes Apartment mit eigenem Bad\, Wohn-/EssbereichComfort: 244 EUR  - Zimmer mit eigenem BadStandard: 228 EUR  - Zimmer mit geteiltem Bad(Preis für gesamte Zeit pro Person inkl. Verpflegung)Welches Paarbettzimmer möchtest du?  *Comfort: 198 EUR p.P. - Doppelbelegung im kl. Z.\, Kuschelbett (140er)+eigen. BadStandard: 188 EUR p.P. - Doppelbelegung im kl. Z.\, Kuschelbett (140er)+geteilt. Bad(Preis für gesamte Zeit pro Person inkl. Verpflegung)Welches Doppelzimmer möchstes du?  *Suite: 268 EUR p.P. - Doppelbelegung im großen ApartmentDeluxe: 248 EUR p.P. - Doppelbelegung großes Zimmer mit eigenem BadStandard: 208 EUR p.P. - Doppelbelegung im Zimmer mit geteiltes Bad(Preis für gesamte Zeit pro Person inkl. Verpflegung)Welches Mehrbettzimmer möchtest du? *Comfort: 198 EUR - max. 4 Bettzimmer mit eigenem BadStandard: 188 EUR - max. 6 Bettzimmer mit eigenem BadZelt-\, Stellplatz: 148 EUR - Kissen & Schlafsack mitbringen (Preis für gesamte Zeit pro Person inkl. Verpflegung)Welche Tagesgast-Variante möchtest wählen?  *128 EUR inkl. Frühstück-\, Mittag- und Abendbuffet108 EUR inkl. Mittag- und Abendbuffet78 EUR inkl. Mittagbuffet(Preis für die gesamte Zeit pro Person)Dein erster alternativer Zimmerwunsch *Bitte unbedingt angeben!Einzelzimmer Standard: 228 EUR pro Person - Zimmer mit geteilt. BadPaarbettzimmer Standard: 198 EUR pro Person - Kuschelbett (140er) für 2 mit geteilt. BadDoppelzimmer Standard: 208 EUR pro Person - Doppelbelegung mit geteilt. BadMehrbettzimmer Comfort: 198 EUR pro Person - 4 Bettzimmer mit eigen. BadMehrbettzimmer Standard: 188 EUR pro Person - 6 Bettzimmer mit eigen. BadZelt-/Stellplatz: 148 EUR p.P.- Kissen & Schlafsack mitbringen*Unsere Zimmer sind teilweise sehr schnell ausgebucht. Gib hier bitte eine Alternative an\, falls dein erster Zimmerwunsch schon belegt ist.Dein zweiter alternativer Zimmerwunsch *Bitte unbedingt angeben!Doppelzimmer Standard: 208 EUR pro Person- Doppelbelegung mit geteilt. BadMehrbettzimmer Comfort: 198 EUR pro Person- 4 Bettzimmer mit eigen. BadMehrbettzimmer Standard: 188 EUR pro Person- 6 Bettzimmer mit eigen. BadStellplatz: 148 EUR pro Person- Kissen & Schlafsack mitbringenTagesgast mit selbst organisierter Übernachtung in der NäheWenn mein Wunschzimmer nicht frei ist\, komme ich nicht.*Ja\, unsere Zimmer gehen teilweise weg wie warme Semmeln. Ein zweiter Zimmerwunsch ist hier wichtig!Welche Variante möchtest du als Tagesgast wählen? (Preis für die gesamte Zeit pro Person) *128 EUR inkl. Frühstück-\, Mittag- und Abendbuffet108 EUR inkl. Mittag- und Abendbuffet78 EUR inkl. MittagbuffetDeine Essenswünsche: *Bio-vegetarischBio-veganGlutenfrei zzgl. 10€ am TagAuf meine Allergie angepasstes Essen zzgl. 10€ am Tag*Wähle JETZT. Sonderwünsche können vor Ort nicht mehr berücksichtigen werden.Hinweise zu deiner AllergieNachricht ans TeamIch habe eine persönliche Nachricht ans TeamMeine Nachricht ans Team *Vorname *Nachname *Vor- und Nachname deines Partners *Möchtest du mit einer bestimmten Person ins Doppelzimmer? *Straße und Hausnummer *Hausnummer *PLZ *Ort *E-Mail (kopieren) *E-Mail *AGB *Ich bestätige die Teilnahme- & Stornobedingungen des Seminars wie o.a.  sowie die AGB des Seminarhauses.Datenschutzbestimmungen *Ich habe die Datenschutzerklärung gelesen und stimme zu.CommentBuchungsanfrage abschicken  \n 
URL:https://sampurna-seminarhaus.de/event/he-tangata-whenua-haka-workshop-mit-toroa-aperahama-healy/
LOCATION:Seminarhaus Sampurna\, Am Tiergarten 1\, Schlangenbad-Bärstadt\, Hessen\, 65388\, Deutschland
CATEGORIES:Ausbildung,Empfohlene Seminare
ATTACH;FMTTYPE=image/png:https://sampurna-seminarhaus.de/wp-content/uploads/2021/12/Bild_Sampurna_Workshop-Poropititanga-2_1000-x-375-px-30ac31fda70ae57d0cc372fabfc892c6.png
ORGANIZER;CN="Fabian Strumpf":MAILTO:info@fabianstrumpf.de
END:VEVENT
END:VCALENDAR