BEGIN:VCALENDAR
VERSION:2.0
PRODID:-//Sampurna Seminarhaus - ECPv6.10.1.1//NONSGML v1.0//EN
CALSCALE:GREGORIAN
METHOD:PUBLISH
X-WR-CALNAME:Sampurna Seminarhaus
X-ORIGINAL-URL:https://sampurna-seminarhaus.de
X-WR-CALDESC:Veranstaltungen für Sampurna Seminarhaus
REFRESH-INTERVAL;VALUE=DURATION:PT1H
X-Robots-Tag:noindex
X-PUBLISHED-TTL:PT1H
BEGIN:VTIMEZONE
TZID:Europe/Berlin
BEGIN:DAYLIGHT
TZOFFSETFROM:+0100
TZOFFSETTO:+0200
TZNAME:CEST
DTSTART:20240331T010000
END:DAYLIGHT
BEGIN:STANDARD
TZOFFSETFROM:+0200
TZOFFSETTO:+0100
TZNAME:CET
DTSTART:20241027T010000
END:STANDARD
END:VTIMEZONE
BEGIN:VEVENT
DTSTART;TZID=Europe/Berlin:20240621T160000
DTEND;TZID=Europe/Berlin:20240621T170000
DTSTAMP:20260420T211954
CREATED:20240613T143829Z
LAST-MODIFIED:20240613T143829Z
UID:24448-1718985600-1718989200@sampurna-seminarhaus.de
SUMMARY:Feuerzeremonie zur Sommersonnenwende (kostenfrei)
DESCRIPTION:Die Sommersonnenwende ist von je her ein besonderer Zeitpunkt im Jahr. In vielen spirituellen Traditionen wird die Sommersonnenwende mit spiritueller Erleuchtung und Bewusstseinserweiterung in Verbindung gebracht. Es wird angenommen\, dass die Energie der Sonne zu dieser Zeit besonders kraftvoll ist und spirituelle Praktiken wie Meditation\, Rituale und Gebete verstärkt werden können. \nDie Sonnenwende steht für Tag- und Nachtgleiche\, für Balance und Ausgeglichenheit. Die Sonnenenergien sind dieses Jahr so stark wie noch nie (Sunflares). Wir wollen dies starken Frequenzen der Sonnenenergien nutzten\, um an diesem Tag der „Wende“ den Wandel einzuleiten. \nWir werden hierzu ein uraltes\, vedisches Feuer-Ritual abhalten welches HAVAN genannt wird. \nErlebe die Faszination Feuer und Sonne in Kombination. Verstärkt wird die Wirkung durch Jahrtausende alte Mantren. \nWir laden dich dazu ein hier bei uns im SAMPURNA Seminarhaus in Bärstadt am Freitag den 21.06.2024 um 16:00 Uhr \nBringe eine Decke oder Kissen mit\, auf dem du gut sitzen kannst. \nWir freuen uns auf dich!
URL:https://sampurna-seminarhaus.de/event/feuerzeremonie-zur-sommersonnenwende-kostenfrei/
LOCATION:Seminarhaus Sampurna\, Am Tiergarten 1\, Schlangenbad-Bärstadt\, Hessen\, 65388\, Deutschland
ATTACH;FMTTYPE=image/jpeg:https://sampurna-seminarhaus.de/wp-content/uploads/2024/06/NY-Seminar-Mail-Vorlagen-8-1.jpg
END:VEVENT
END:VCALENDAR