BEGIN:VCALENDAR
VERSION:2.0
PRODID:-//Sampurna Seminarhaus - ECPv6.10.1.1//NONSGML v1.0//EN
CALSCALE:GREGORIAN
METHOD:PUBLISH
X-WR-CALNAME:Sampurna Seminarhaus
X-ORIGINAL-URL:https://sampurna-seminarhaus.de
X-WR-CALDESC:Veranstaltungen für Sampurna Seminarhaus
REFRESH-INTERVAL;VALUE=DURATION:PT1H
X-Robots-Tag:noindex
X-PUBLISHED-TTL:PT1H
BEGIN:VTIMEZONE
TZID:Europe/Berlin
BEGIN:DAYLIGHT
TZOFFSETFROM:+0100
TZOFFSETTO:+0200
TZNAME:CEST
DTSTART:20250330T010000
END:DAYLIGHT
BEGIN:STANDARD
TZOFFSETFROM:+0200
TZOFFSETTO:+0100
TZNAME:CET
DTSTART:20251026T010000
END:STANDARD
END:VTIMEZONE
BEGIN:VEVENT
DTSTART;TZID=Europe/Berlin:20250314T170000
DTEND;TZID=Europe/Berlin:20250316T150000
DTSTAMP:20260420T135128
CREATED:20240303T140139Z
LAST-MODIFIED:20250227T151656Z
UID:23911-1741971600-1742137200@sampurna-seminarhaus.de
SUMMARY:Der Weg nach Innen mit Sven-Oliver Engel
DESCRIPTION:  \nIn deinem Inneren findest du die Stille.\nDie Stille\, die auf alles eine Antwort hat! \n  \n\nDu möchtest dich befreien von \n\nÄngsten\nUnsicherheiten\näußeren Manipulation?\n\nDu sehnst dich nach Stabilität\, innerer Gelassenheit und Lebensfreude?\nSuchst nach deiner Bestimmung\, Berufung\, nach dem Sinn des Lebens? \nDas und mehr erfährst du über eine sanfte und einzigartige Meditationstechnik\, die dir den Zugang zu deinem Inneren gewährt und all die Schätze in dir entdecken lässt. Sie bringt dich auf eine liebevolle und anstrengungslose Weise in Kontakt mit dem All-Eins-Sein\, der Weisheit und der unabhängigen Lebensfreude\, dem SAT CHIT ANANDA. \nAlles ist bereits in dir. Entdecke es! \n\nWerde zu deinem eigenen Guru.\nBefreie dich von deinen Schatten.\nÜberwinde deinen Reaktionszwang.\nEntdecke die Leichtigkeit des Lebens.\nSei Teil der Lösung.\nLebe im Einklang und Freude mit dir Selbst und deinem Umfeld.\n\n  \n\nErfahre in den 3 Tagen …\n\ndie sanfte Erweckung deiner in dir wohnenden Quelle (Kundalini)\ndie Öffnung deines zentralen Energiekanals (Sushumna)\ndie Harmonisierung deiner Energiebahnen (Nadhis)\ndas Fühlen des Raumes der Stille (vibratorische Bewusstsein)\ndie Kraft und Heilung der Naturelemente (Feuer\, Wasser\, Erde\, Luft und Äther)\n\nEin Mix aus Wissensvermittlung und praktischen Übungen sowie Erfahrungsaustausch in der Gruppe oder individuell hilft dir\, dich tiefer auf dich einzulassen. \nDas Highlight dieses Seminars ist die vedische Feuerzeremonie „Havan“. Sie unterstützt dich auf energetischer Ebene\, alte Dinge loszulassen\, Blockaden zu lösen\, um Neues in dein Leben einzuladen. Auf körperlicher Ebene findet die Integration mit Spaziergängen in der Natur und sanften Yogaübungen statt. \n  \n\nSeminarort\nDas Seminar findet im Seminarhaus Sampurna in Schlangenbad bei Wiesbaden/Frankfurt statt. \n  \n\nKosten\nSeminargebühr: kostenfrei; Spenden sind willkommen (50 – 150 EUR) \nKosten für Aufenthalt\, Übernachtung\, umgelegte Raum- und Materialkosten \n\nals Tagesgast mit Vollpension: 200 EUR\nals Übernachtungsgast mit Vollpension im Einzelzimmer 330 EUR\nals Übernachtungsgast mit Vollpension im Mehrbettzimmer 260 EUR\n\n  \n\nTeilnahmevoraussetzung\n\nYoga- oder Meditationserfahrung ist hilfreich\, aber nicht notwendig.\nMut und Neugier\, seinem wahren Selbst zu begegnen.\n\n  \n\n\nZeiten\n\nFreitag\, 17:00 Uhr – 21.00 Uhr\nSamstag\, 7:30 Uhr – 21.00 Uhr\nSonntag\, 7:30 Uhr – 15:00 Uhr\n\n  \n\nSeminarleitung\n  \n \nSven Oliver Engel\, geb. 21.09.1966 in Hamburg\, hatte durch eine Nahtoderfahrung 1986 die Gelegenheit\, auf „die andere Seite“ zu schauen. Die spirituellen Impulse\, die er von dort bekam\, hat er in jahrelangen Selbstversuchen und Studien sortiert und verarbeitet. Von 1990 bis 1994 studierte er Philosophie an der Gutenberg-Universität in Mainz\, mit Schwerpunkten Buddhismus und indische Philosophie und Theologie. Bereits 1991 lernte er die indische Großmeisterin und Heilige Sri Mataji Nirmala Devi persönlich kennen\, die mit ihrer Lehre von „Sahaja Samadi“ seinen spirituellen Weg wesentlich beeinflusste.  Seit 25 Jahren hält er Vorträge und Seminare zum Thema Yoga\, Meditation und Evolution des Menschen im Bewusstsein. \n\nMelde dich hier an\, um deinen Aufenthalt und Verpflegung zu buchen. Wir freuen uns auf dich! \n\nPreise und Anmeldung für Unterkunft und Verpflegung\nBitte aktiviere JavaScript in deinem Browser\, um dieses Formular fertigzustellen.Auswahl deines Aufenthaltes *EinzelzimmerDoppelzimmerPaarbettzimmer (1\,40m Kuschelbett)MehrbettzimmerTagesgast mit VerpflegungWelches Einzelzimmer möchtest du?  *Comfort Plus : 360 EUR - Zimmer mit eig. Bad (1\,40m breitem Bett)Comfort: 340 EUR  - Zimmer mit eigenem BadStandard: 320 EUR  - Zimmer mit geteiltem Bad(Preis für gesamte Zeit pro Person inkl. Verpflegung)Welches Doppelzimmer möchtest du?  *Deluxe: 340 EUR p.P. - Doppelbelegung großes Zimmer mit eigenem BadStandard: 300  EUR p.P. - Doppelbelegung im Zimmer mit geteiltes Bad(Preis für gesamte Zeit pro Person inkl. Verpflegung)Welches Paarbettzimmer möchtest du?   *Comfort: 290 EUR p.P. - 1\,40m breites Kuschelbett mit eigenem BadStandard: 270 EUR p.P. - 1\,40m breites Kuschelbett mit geteiltes Bad(Preis für gesamte Zeit pro Person inkl. Verpflegung)Welches Mehrbettzimmer möchtest du? *Comfort: 270 EUR - max. 4 Bettzimmer mit eigenem BadZelt-\, Stellplatz: 230 EUR (Preis für gesamte Zeit pro Person inkl. Verpflegung)Welche Tagesgast-Variante möchtest du wählen?  *210 EUR inkl. Frühstück-\, Mittag- und Abendbuffet182 EUR inkl. Mittag- und Abendbuffet132EUR inkl. Mittagbuffet(Preis für die gesamte Zeit pro Person)Dein alternativer Zimmerwunsch *Bitte unbedingt angeben!Einzelzimmer Comfort + : 360 EUR - Zimmer mit eig. Bad (1\,40m breitem Bett)Comfort: 340 EUR  - Zimmer mit eigenem BadEinzelzimmer Standard: 320 EUR pro Person - Zimmer mit geteilt. BadMehrbettzimmer Comfort: 270 EUR pro Person - 4 Bettzimmer mit eigen. BadZelt-/Womoplatz: 230 EUR pro Person-*Unsere Zimmer sind teilweise sehr schnell ausgebucht. Gib hier bitte eine Alternative an\, falls dein erster Zimmerwunsch schon belegt ist.Nachricht ans TeamIch habe eine persönliche Nachricht ans TeamMeine Nachricht ans Team *Vorname *Nachname *Vor- und Nachname deines Partners *Möchtest du mit einer bestimmten Person ins Doppelzimmer? *Straße und Hausnummer *Hausnummer *PLZ *Ort *TelefonnummerE-Mail *AGB *Ich bestätige die Teilnahme- & Stornobedingungen des Seminars wie o.a.  sowie die AGB des Seminarhauses.Datenschutzbestimmungen *Ich habe die Datenschutzerklärung gelesen und stimme zu.NameBuchungsanfrage abschicken
URL:https://sampurna-seminarhaus.de/event/der-weg-nach-innen-mit-sven-oliver-engel-4/
LOCATION:Seminarhaus Sampurna\, Am Tiergarten 1\, Schlangenbad-Bärstadt\, Hessen\, 65388\, Deutschland
CATEGORIES:Seminar
ATTACH;FMTTYPE=image/jpeg:https://sampurna-seminarhaus.de/wp-content/uploads/2020/12/Erweckungsmedi-Newsletter-1.jpg
ORGANIZER;CN="Sven-Oliver Engel":MAILTO:sven-oliver@nirmalayoga.de
END:VEVENT
END:VCALENDAR