BEGIN:VCALENDAR
VERSION:2.0
PRODID:-//Sampurna Seminarhaus - ECPv6.10.1.1//NONSGML v1.0//EN
CALSCALE:GREGORIAN
METHOD:PUBLISH
X-WR-CALNAME:Sampurna Seminarhaus
X-ORIGINAL-URL:https://sampurna-seminarhaus.de
X-WR-CALDESC:Veranstaltungen für Sampurna Seminarhaus
REFRESH-INTERVAL;VALUE=DURATION:PT1H
X-Robots-Tag:noindex
X-PUBLISHED-TTL:PT1H
BEGIN:VTIMEZONE
TZID:Europe/Berlin
BEGIN:DAYLIGHT
TZOFFSETFROM:+0100
TZOFFSETTO:+0200
TZNAME:CEST
DTSTART:20230326T010000
END:DAYLIGHT
BEGIN:STANDARD
TZOFFSETFROM:+0200
TZOFFSETTO:+0100
TZNAME:CET
DTSTART:20231029T010000
END:STANDARD
END:VTIMEZONE
BEGIN:VEVENT
DTSTART;TZID=Europe/Berlin:20230915T170000
DTEND;TZID=Europe/Berlin:20230917T123000
DTSTAMP:20260421T092523
CREATED:20221118T091316Z
LAST-MODIFIED:20230620T134636Z
UID:20116-1694797200-1694953800@sampurna-seminarhaus.de
SUMMARY:“Bye bye wild Monkey(mind)”  Yogaretreat mit Eva Herbig
DESCRIPTION:Das Wochenendyogaretreat findet vom 15.09.2023 – 17.09.2023 im schönen Seminarhaus Sampurna im Taunus statt. Das Seminarhaus liegt ganz in der Natur am Waldrand und ist trotzdem nur ca. 35 Autominuten von Frankfurt entfernt. Ideal um ohne lange Anreise dem Trubel der Stadt für ein Wochenende zu entkommen und mal gemeinsam auszuspannen. \nDas Thema des Wochenendes ist es\, das Gedankenkarussell\, oder auch Monkey Mind\, zu beruhigen. Dazu benutzen wir verschiedene Techniken. Mit Eva kannst du dich dynamisch verknoten\, und auch entspannende Yoga Haltungen üben und außerdem Chanten und Meditieren wir gemeinsam. \nDazu gibt es leckeres biologisch vegetarisch/veganes Essen und wir lassen zusammen die Seele baumeln. \nEtwas Yogaerfahrung solltest du mitbringen um maximale Freude zu haben. Gerne beraten wir dich dazu persönlich. \nPROGRAMM (Änderungen möglich) \nFreitag\n17:00 -18:00 Yoga (Ankommstunde)\nAbendessen\n20h Begrüßungsrunde \nSamstag\n8h Meditation\n9h Yoga Flow\n11h Brunch\n15:00-16:30 Yoga Special\n18h Abendessen\n20h Abendprogramm \nSonntag\n8h – 10:30  Meditation\, Yoga\n11h Lunch und Pause\n12:30 Abschlussrunde Abreise ca 13:00 \n\nSeminarleitung\n \nEva Herbig – Certified Jivamukti Yoga Teacher \nwww.evaherbig.de \n  \n\nAnmeldung und Seminargebühr  \nSeminarkosten: 170€ \nAnmeldung \nEva Herbig // Tel. +496129502571 // Mail: herbig@gmx.net \nEs gelten folgende Stornobedingungen. Die Anzahlung beträgt 50% der Seminargebühr. Nach Eingang der Anzahlung ist der Platz fest reserviert. Der Anzahlungsbetrag ist bei Stornierung nicht erstattbar. Bei Stornierung ab Tag 13 vor Seminarbeginn 100% des Betrages. \nWir empfehlen eine Rücktrittsversicherung abzuschließen. \n  \n\nAnmeldung & Preise für Unterkunft und Verpflegung\nBitte aktiviere JavaScript in deinem Browser\, um dieses Formular fertigzustellen.Hast du dich bereits beim Veranstalter angemeldet? *JaNeinIch bin einverstanden *Ja\, meine Kontaktdaten dürfen an den Veranstalter weitergegeben werden.Auswahl deines Aufenthaltes *EinzelzimmerPaarbettzimmerDoppelzimmerMehrbettzimmerTagesgast mit VerpflegungWelches Einzelzimmer möchtest du?  *Suite: 394 EUR - großes Apartment mit eigenem Bad\, Wohn-/EssbereichComfort: 274 EUR  - Zimmer mit eigenem BadStandard: 254 EUR  - Zimmer mit geteiltem Bad(Preis für gesamte Zeit pro Person inkl. Verpflegung)Welches Paarbettzimmer möchtest du?  *Comfort: 244 EUR p.P. - Doppelbelegung im kl. Z.\, Kuschelbett (140er)+eigen. BadStandard: 214 EUR p.P. - Doppelbelegung im kl. Z.\, Kuschelbett (140er)+geteilt. Bad(Preis für gesamte Zeit pro Person inkl. Verpflegung)Welches Doppelzimmer möchstes du?  *Suite: 294 EUR p.P. - Doppelbelegung im großen ApartmentDeluxe: 274 EUR p.P. - Doppelbelegung großes Zimmer mit eigenem BadStandard: 234 EUR p.P. - Doppelbelegung im Zimmer mit geteiltes Bad(Preis für gesamte Zeit pro Person inkl. Verpflegung)Welches Mehrbettzimmer möchtest du? *Comfort: 214 EUR - max. 4 Bettzimmer mit eigenem BadZelt-\, Stellplatz: 174 EUR - Kissen & Schlafsack mitbringen (Preis für gesamte Zeit pro Person inkl. Verpflegung)Welche Tagesgast-Variante möchtest wählen?  *154 EUR inkl. Frühstück-\, Mittag- und Abendbuffet130 EUR inkl. Mittag- und Abendbuffet90 EUR inkl. Mittagbuffet(Preis für die gesamte Zeit pro Person)Dein erster alternativer Zimmerwunsch *Bitte unbedingt angeben!Einzelzimmer Standard: 254 EUR pro Person - Zimmer mit geteilt. BadPaarbettzimmer Standard: 214 EUR pro Person - Kuschelbett (140er) für 2 mit geteilt. BadDoppelzimmer Standard: 234 EUR pro Person - Doppelbelegung mit geteilt. BadMehrbettzimmer Comfort: 214 EUR pro Person - 4 Bettzimmer mit eigen. BadZelt-/Stellplatz: 174 EUR p.P.- Kissen & Schlafsack mitbringen*Unsere Zimmer sind teilweise sehr schnell ausgebucht. Gib hier bitte eine Alternative an\, falls dein erster Zimmerwunsch schon belegt ist.Dein zweiter alternativer Zimmerwunsch *Bitte unbedingt angeben!Doppelzimmer Standard: 234 EUR pro Person- Doppelbelegung mit geteilt. BadMehrbettzimmer Comfort: 214 EUR pro Person- 4 Bettzimmer mit eigen. BadStellplatz: 174 EUR pro Person- Kissen & Schlafsack mitbringenTagesgast mit selbst organisierter Übernachtung in der NäheWenn mein Wunschzimmer nicht frei ist\, komme ich nicht.*Ja\, unsere Zimmer gehen teilweise weg wie warme Semmeln. Ein zweiter Zimmerwunsch ist hier wichtig!Welche Variante möchtest du als Tagesgast wählen? (Preis für die gesamte Zeit pro Person) *154 EUR inkl. Frühstück-\, Mittag- und Abendbuffet130 EUR inkl. Mittag- und Abendbuffet90 EUR inkl. MittagbuffetNachricht ans TeamIch habe eine persönliche Nachricht ans TeamMeine Nachricht ans Team *Vorname *Nachname *Vor- und Nachname deines Partners *Möchtest du mit einer bestimmten Person ins Doppelzimmer? *Straße und Hausnummer *Hausnummer *PLZ *Ort *TelefonnummerE-Mail *AGB *Ich bestätige die Teilnahme- & Stornobedingungen des Seminars wie o.a.  sowie die AGB des Seminarhauses.Datenschutzbestimmungen *Ich habe die Datenschutzerklärung gelesen und stimme zu.NameBuchungsanfrage abschicken
URL:https://sampurna-seminarhaus.de/event/bye-bye-wild-monkeymind-eva-herbig-2/
CATEGORIES:Seminar
ATTACH;FMTTYPE=image/jpeg:https://sampurna-seminarhaus.de/wp-content/uploads/2022/11/IMG_1649-scaled-e1687268596899.jpg
END:VEVENT
END:VCALENDAR