BEGIN:VCALENDAR
VERSION:2.0
PRODID:-//Sampurna Seminarhaus - ECPv6.10.1.1//NONSGML v1.0//EN
CALSCALE:GREGORIAN
METHOD:PUBLISH
X-WR-CALNAME:Sampurna Seminarhaus
X-ORIGINAL-URL:https://sampurna-seminarhaus.de
X-WR-CALDESC:Veranstaltungen für Sampurna Seminarhaus
REFRESH-INTERVAL;VALUE=DURATION:PT1H
X-Robots-Tag:noindex
X-PUBLISHED-TTL:PT1H
BEGIN:VTIMEZONE
TZID:Europe/Berlin
BEGIN:DAYLIGHT
TZOFFSETFROM:+0100
TZOFFSETTO:+0200
TZNAME:CEST
DTSTART:20230326T010000
END:DAYLIGHT
BEGIN:STANDARD
TZOFFSETFROM:+0200
TZOFFSETTO:+0100
TZNAME:CET
DTSTART:20231029T010000
END:STANDARD
END:VTIMEZONE
BEGIN:VEVENT
DTSTART;TZID=Europe/Berlin:20230605T103000
DTEND;TZID=Europe/Berlin:20230611T153000
DTSTAMP:20260421T123214
CREATED:20230119T111903Z
LAST-MODIFIED:20230208T111044Z
UID:21400-1685961000-1686497400@sampurna-seminarhaus.de
SUMMARY:Breathwork Ausbildung 2023 – Teil 1/2
DESCRIPTION:Dieses Training richtet sich an jene Wesen\, die auf herzzentrierte Weise mit Menschen arbeiten wollen. \nFür jene\, die Brücken zwischen den Welten schlagen. Spüren\, dass es ihre Mission ist\, ein neues Bewusstsein zu verkörpern. \nJene\, die sich gerufen fühlen\, mit der wohl ältesten und einfachsten Medizin auf dem Planeten zu arbeiten… \nAtem \nDiese Ausbildung ist genau das Richtige für dich\, wenn…\n​• Spiritualität und Bewusstseinsarbeit einen zentralen Stellenwert in deinem Leben einnehmen.\n• du nach einem Kanal suchst\, dies professionell mit deinen Mitmenschen zu teilen.\n• du bereits als Coach\, Yogalehrer\, Therapeut oder Seminarleiter tätig bist und Breathwork in dein Feld integrieren willst. \nDich erwarten…\n• 14 intensive Ausbildungstage in Person\, die dir erlauben werden\, die nötige Praxiserfahrung zu sammeln\, um deine Klienten bestmöglich begleiten zu können.\n• 3 monatl. Calls im Praxisteil\, um gemeinsam die Sessions mit deinen ersten Klienten zu reflektieren\n• Mehrere Stunden Videos\, um die Theorie zu festigen\n• 120 Seiten Kurs-Manual\n• Zugang zur Telegram-Community\n• Begleitung durch Daniel während der gesamten Zeit\n• Tiefe Transformation. \nAlle weiteren Informationen über Umfang\, Zeiten\, Voraussetzungen\, Kosten findest du auf der Website unter: https://daniel-alan.com/breathwork-ausbildung \n\nSeminarleitung\n \nDaniel Alan \nDaniel ist ein international agierender Bewusstseins- und Atemtrainer\, spiritueller Mentor und Vater.\nEr ermöglicht es Menschen\, mehr Liebe und klares Verständnis in ihr Leben zu integrieren.\nWas seine Klienten am meisten an ihm schätzen\, ist seine Fähigkeit\, transzendentale Tiefe mit einer spielerischer Einfachheit zu verbinden.\nSein ausgiebiges Training in Yoga\, Coaching\, Energie- und Atemarbeit machen ihn zu einem hervorragenden Begleiter für bleibende Transformation. \nhttps://daniel-alan.com \n\nSeminargebühr und Anmeldung\nSeminargebühr: 4.995€\nAnmeldung bei: Daniel Alan // Tel: +491774068633 // Mail: info@art-of-breath.com \n\nAnmeldung und Preise für Unterkunft & Verpflegung\nBitte aktiviere JavaScript in deinem Browser\, um dieses Formular fertigzustellen.Hast du dich bereits beim Veranstalter angemeldet? *JaNeinIch bin einverstandenJa\, meine Kontaktdaten dürfen an den Veranstalter weitergegeben werden.Welchen Termin möchtest du gerne buchen? *alle 4 Termine05.-11.Juni.202318.-23.September.202329.April-05.Mai.202419.-24.August.2024Auswahl deines Aufenthaltes *EinzelzimmerPaarbettzimmerDoppelzimmerMehrbettzimmerTagesgast mit VerpflegungWelches Einzelzimmer möchtest du?  *Suite: 1.125 EUR - großes Apartment mit eigenem Bad\, Wohn-/EssbereichComfort: 765 EUR  - Zimmer mit eigenem BadStandard: 705 EUR  - Zimmer mit geteiltem Bad(Preis für gesamte Zeit pro Person inkl. Verpflegung)Welches Paarbettzimmer möchtest du?  *Comfort: 675 EUR p.P. - Doppelbelegung im kl. Z.\, Kuschelbett (140er)+eigen. BadStandard: 585 EUR p.P. - Doppelbelegung im kl. Z.\, Kuschelbett (140er)+geteilt. Bad(Preis für gesamte Zeit pro Person inkl. Verpflegung)Welches Doppelzimmer möchstes du?  *Suite: 825 EUR p.P. - Doppelbelegung im großen ApartmentDeluxe: 765 EUR p.P. - Doppelbelegung großes Zimmer mit eigenem BadStandard: 645 EUR p.P. - Doppelbelegung im Zimmer mit geteiltes Bad(Preis für gesamte Zeit pro Person inkl. Verpflegung)Welches Mehrbettzimmer möchtest du? *Comfort: 585 EUR - max. 4 Bettzimmer mit eigenem BadZelt-\, Stellplatz: 465 EUR - Kissen & Schlafsack mitbringen (Preis für gesamte Zeit pro Person inkl. Verpflegung)Welche Tagesgast-Variante möchtest wählen?  *455 EUR inkl. Mittag- und Abendbuffet315 EUR inkl. Mittagbuffet(Preis für die gesamte Zeit pro Person)Dein erster alternativer Zimmerwunsch *Bitte unbedingt angeben!Einzelzimmer Standard: 705 EUR pro Person - Zimmer mit geteilt. BadPaarbettzimmer Standard: 585 EUR pro Person - Kuschelbett (140er) für 2 mit geteilt. BadDoppelzimmer Standard: 645 EUR pro Person - Doppelbelegung mit geteilt. BadMehrbettzimmer Comfort: 585 EUR pro Person - 4 Bettzimmer mit eigen. BadZelt-/Stellplatz: 465 EUR p.P.- Kissen & Schlafsack mitbringen*Unsere Zimmer sind teilweise sehr schnell ausgebucht. Gib hier bitte eine Alternative an\, falls dein erster Zimmerwunsch schon belegt ist.Dein zweiter alternativer Zimmerwunsch *Bitte unbedingt angeben!Doppelzimmer Standard: 645 EUR pro Person- Doppelbelegung mit geteilt. BadMehrbettzimmer Comfort: 585 EUR pro Person- 4 Bettzimmer mit eigen. BadStellplatz: 465 EUR pro Person- Kissen & Schlafsack mitbringenTagesgast mit selbst organisierter Übernachtung in der NäheWenn mein Wunschzimmer nicht frei ist\, komme ich nicht.*Ja\, unsere Zimmer gehen teilweise weg wie warme Semmeln. Ein zweiter Zimmerwunsch ist hier wichtig!Welche Variante möchtest du als Tagesgast wählen? (Preis für die gesamte Zeit pro Person) *455 EUR inkl. Mittag- und Abendbuffet315 EUR inkl. MittagbuffetDeine Essenswünsche: *Bio-vegetarischBio-veganGlutenfrei zzgl. 15€ am TagAuf meine Allergie angepasstes Essen zzgl. 15€ am Tag*Wähle JETZT. Sonderwünsche können vor Ort nicht mehr berücksichtigen werden.Hinweise zu deiner AllergieNachricht ans TeamIch habe eine persönliche Nachricht ans TeamMeine Nachricht ans Team *Vorname *Nachname *Vor- und Nachname deines Partners *Möchtest du mit einer bestimmten Person ins Doppelzimmer? *Straße und Hausnummer *Hausnummer *PLZ *Ort *Telefonnummer *E-Mail *AGB *Ich bestätige die Teilnahme- & Stornobedingungen des Seminars wie o.a.  sowie die AGB des Seminarhauses.Datenschutzbestimmungen *Ich habe die Datenschutzerklärung gelesen und stimme zu.EmailBuchungsanfrage abschicken
URL:https://sampurna-seminarhaus.de/event/breathwork-ausbildung-2023-teil-1-2/
LOCATION:Seminarhaus Sampurna\, Am Tiergarten 1\, Schlangenbad-Bärstadt\, Hessen\, 65388\, Deutschland
CATEGORIES:Ausbildung
ATTACH;FMTTYPE=image/png:https://sampurna-seminarhaus.de/wp-content/uploads/2023/01/Titelbild_neu-2eec8839a94322867ae75284b3fb46ed.png
ORGANIZER;CN="Daniel Alan":MAILTO:info@art-of-breath.com
END:VEVENT
END:VCALENDAR